BEGIN:VCALENDAR
VERSION:2.0
PRODID:-//CSUN News &amp; Events - ECPv6.11.2//NONSGML v1.0//EN
CALSCALE:GREGORIAN
METHOD:PUBLISH
X-WR-CALNAME:CSUN News &amp; Events
X-ORIGINAL-URL:https://news.csun.edu
X-WR-CALDESC:Events for CSUN News &amp; Events
REFRESH-INTERVAL;VALUE=DURATION:PT1H
X-Robots-Tag:noindex
X-PUBLISHED-TTL:PT1H
BEGIN:VTIMEZONE
TZID:America/Los_Angeles
BEGIN:DAYLIGHT
TZOFFSETFROM:-0800
TZOFFSETTO:-0700
TZNAME:PDT
DTSTART:20260308T100000
END:DAYLIGHT
BEGIN:STANDARD
TZOFFSETFROM:-0700
TZOFFSETTO:-0800
TZNAME:PST
DTSTART:20261101T090000
END:STANDARD
END:VTIMEZONE
BEGIN:VEVENT
DTSTART;TZID=America/Los_Angeles:20260417T130000
DTEND;TZID=America/Los_Angeles:20260417T140000
DTSTAMP:20260420T021429
CREATED:20260219T183218Z
LAST-MODIFIED:20260219T183218Z
UID:10010776-1776430800-1776434400@news.csun.edu
SUMMARY:Cómo Planificar un Futuro Mejor para Nuestras Familias
DESCRIPTION:Presentado por Laura Monge\, de Monge Services LLC\nEn este educativo evento les vamos a enseñar la importancia de tener un buen plan financiero y legal. Nosotras les enseñamos los seis pasos para mejorar nuestra situación actual y poder proteger a nuestras familias mejor\, especialmente si tenemos algún familiar con necesidades especiales. \n\n\nViernes\, 17 de abril\n1:00 PM – 2:00 PM \n\n\n\nRegistrarse aquí: https://csun.zoom.us/meeting/register/r1XehvG0RQ2jro1yYExjeA \n\n\n\n\nPreguntas: Contacte Fatima Castaneda maria.castaneda@csun.edu
URL:https://news.csun.edu/event/como-planificar-un-futuro-mejor-para-nuestras-familias/
LOCATION:Online via Zoom
CATEGORIES:Family Focus Center-Workshops and Trainings,Family Focus Resource Center
ATTACH;FMTTYPE=image/png:https://news.csun.edu/wp-content/uploads/2026/02/Como-Planificar-un-Futuro-Mejor-para-Nuestras-Familias-1.png
END:VEVENT
END:VCALENDAR