BEGIN:VCALENDAR
VERSION:2.0
PRODID:-//CSUN News &amp; Events - ECPv6.11.2//NONSGML v1.0//EN
CALSCALE:GREGORIAN
METHOD:PUBLISH
X-WR-CALNAME:CSUN News &amp; Events
X-ORIGINAL-URL:https://news.csun.edu
X-WR-CALDESC:Events for CSUN News &amp; Events
REFRESH-INTERVAL;VALUE=DURATION:PT1H
X-Robots-Tag:noindex
X-PUBLISHED-TTL:PT1H
BEGIN:VTIMEZONE
TZID:America/Los_Angeles
BEGIN:DAYLIGHT
TZOFFSETFROM:-0800
TZOFFSETTO:-0700
TZNAME:PDT
DTSTART:20260308T100000
END:DAYLIGHT
BEGIN:STANDARD
TZOFFSETFROM:-0700
TZOFFSETTO:-0800
TZNAME:PST
DTSTART:20261101T090000
END:STANDARD
END:VTIMEZONE
BEGIN:VEVENT
DTSTART;TZID=America/Los_Angeles:20260615T183000
DTEND;TZID=America/Los_Angeles:20260615T200000
DTSTAMP:20260425T054218
CREATED:20251203T223238Z
LAST-MODIFIED:20251203T223238Z
UID:10009357-1781548200-1781553600@news.csun.edu
SUMMARY:Filipino Support Group
DESCRIPTION:Filipino Support Group Schedule Update (Jan-June 2026) \nSince 1992\, the Filipino Support Group has provided a welcoming space for families to connect\, learn\, and support one another. \nMeetings are typically held on the 3rd Monday of each month from 6:30 p.m. to 8:00 p.m.\, unless otherwise noted. Sessions include both in-person and Zoom options\, as well as Zoom-only meetings. \nThe schedule for January to June 2026 is as follows:\nIn Person and Zoom Meetings: \nFebruary 9* – San Fernando (In-person location: NLACRC Office)\nMarch 16 – Santa Clarita (In-person location: NLACRC Office)\nMay 18 – Lancaster (In-person location: NLACRC Office) \n*Please Note: February 9 is not on a 3rd Monday. \nZoom Only Meetings: \nApril 20\nJune 15 \nNo Meeting – Offices Closed: \nJanuary 19 – Martin Luther King Day (This date would have been the 3rd Monday) \nFor more information\, please contact kmosteiro@nlacrc.org or call 818-287-6970.
URL:https://news.csun.edu/event/filipino-support-group-5/2026-06-15/
LOCATION:Online via Zoom
CATEGORIES:Family Focus Resource Center,Family Focus Resource Center Parent Support Groups
ATTACH;FMTTYPE=image/png:https://news.csun.edu/wp-content/uploads/2025/12/1000-x-533-px-Filipino-Support-Group-2026.png
END:VEVENT
END:VCALENDAR