BEGIN:VCALENDAR
VERSION:2.0
PRODID:-//CSUN News &amp; Events - ECPv6.11.2//NONSGML v1.0//EN
CALSCALE:GREGORIAN
METHOD:PUBLISH
X-ORIGINAL-URL:https://news.csun.edu
X-WR-CALDESC:Events for CSUN News &amp; Events
REFRESH-INTERVAL;VALUE=DURATION:PT1H
X-Robots-Tag:noindex
X-PUBLISHED-TTL:PT1H
BEGIN:VTIMEZONE
TZID:America/Los_Angeles
BEGIN:DAYLIGHT
TZOFFSETFROM:-0800
TZOFFSETTO:-0700
TZNAME:PDT
DTSTART:20260308T100000
END:DAYLIGHT
BEGIN:STANDARD
TZOFFSETFROM:-0700
TZOFFSETTO:-0800
TZNAME:PST
DTSTART:20261101T090000
END:STANDARD
END:VTIMEZONE
BEGIN:VEVENT
DTSTART;TZID=America/Los_Angeles:20260508T093000
DTEND;TZID=America/Los_Angeles:20260508T110000
DTSTAMP:20260422T202202
CREATED:20251126T212309Z
LAST-MODIFIED:20251126T212309Z
UID:10009315-1778232600-1778238000@news.csun.edu
SUMMARY:El Poder del Amor y la Paciencia
DESCRIPTION:Un grupo de apoyo para padres con hijos con necesidades especiales en español. \nLas reuniones son presenciales el segundo viernes de cada mes de 9:30 am a 11:00am.\nDirección: Community Resource Center LA Care 7868 Van Nuys Blvd. Panorama City\, CA 91402 \nPara registrarse llame o envíe un correo electrónico a Rebeca a: (818) 677-6854 o rebeca.diaz@csun.edu \nReuniones en-persona: \n\n\n\n23 de enero\n13 de febrero\n13 de marzo\n10 de abril\n8 de mayo\n12 de junio\njulio – no hay reunión\n14 de agosto\n11 de septiembre\n9 de octubre\n13 de noviembre\n11 de diciembre
URL:https://news.csun.edu/event/el-poder-del-amor-y-la-paciencia/2026-05-08/
LOCATION:Community Resource Center LA Care\, 7868 Van Nuys Blvd.  \, Panorama City\, 91402\, United States
CATEGORIES:Family Focus Resource Center,Family Focus Resource Center Parent Support Groups
ATTACH;FMTTYPE=image/png:https://news.csun.edu/wp-content/uploads/2025/11/2026-El-Poder-del-Amor-y-la-Paciencia-Banner-1.png
END:VEVENT
END:VCALENDAR