BEGIN:VCALENDAR
VERSION:2.0
PRODID:-//CSUN News &amp; Events - ECPv6.11.2//NONSGML v1.0//EN
CALSCALE:GREGORIAN
METHOD:PUBLISH
X-WR-CALNAME:CSUN News &amp; Events
X-ORIGINAL-URL:https://news.csun.edu
X-WR-CALDESC:Events for CSUN News &amp; Events
REFRESH-INTERVAL;VALUE=DURATION:PT1H
X-Robots-Tag:noindex
X-PUBLISHED-TTL:PT1H
BEGIN:VTIMEZONE
TZID:America/Los_Angeles
BEGIN:DAYLIGHT
TZOFFSETFROM:-0800
TZOFFSETTO:-0700
TZNAME:PDT
DTSTART:20260308T100000
END:DAYLIGHT
BEGIN:STANDARD
TZOFFSETFROM:-0700
TZOFFSETTO:-0800
TZNAME:PST
DTSTART:20261101T090000
END:STANDARD
END:VTIMEZONE
BEGIN:VEVENT
DTSTART;TZID=America/Los_Angeles:20260506T110000
DTEND;TZID=America/Los_Angeles:20260506T120000
DTSTAMP:20260423T003804
CREATED:20251125T215544Z
LAST-MODIFIED:20260306T214825Z
UID:10009283-1778065200-1778068800@news.csun.edu
SUMMARY:AV Together we Shine Support Group 2026
DESCRIPTION:Join us to connect in-person with other families in a safe & supportive environment for families of children and young adults with disabilities. Together\, we will share resources and experiences\, creating an inclusive community for everyone. \nMeeting dates are:\n \n\nJanuary 14\nFebruary 11\nMarch 11\nApril 8\nMay 6\n\nTo register or for further questions\, contact Lilah at lilah.sosa@csun.edu or please call (661) 945-9598
URL:https://news.csun.edu/event/av-together-we-shine-support-group-2026/2026-05-06/
CATEGORIES:Family Focus Resource Center,Family Focus Resource Center Parent Support Groups
ATTACH;FMTTYPE=image/png:https://news.csun.edu/wp-content/uploads/2025/11/AV-Together-We-Shine-Support-Group-2026-1000x533-1.png
END:VEVENT
BEGIN:VEVENT
DTSTART;TZID=America/Los_Angeles:20260506T183000
DTEND;TZID=America/Los_Angeles:20260506T203000
DTSTAMP:20260423T003804
CREATED:20251126T214802Z
LAST-MODIFIED:20251126T214802Z
UID:10009334-1778092200-1778099400@news.csun.edu
SUMMARY:Black and African American Family Focus Support Group
DESCRIPTION:Coming together to create a safe\, supportive place to connect with other families of children\, young and old\, with special needs\, to share resources\, provide advocacy and to be a part of an inclusive community.\nFor more information contact Theresa at theresa.quary@csun.edu \nJoin us at 6:30pm via Zoom the first Wednesday of the month\nMeeting dates are: \n\n\n\n\n\nFebruary 4\nMarch 4\nApril 1\nMay 6\nJune 3
URL:https://news.csun.edu/event/black-and-african-american-family-focus-support-group/2026-05-06/
LOCATION:Online via Zoom
CATEGORIES:Family Focus Resource Center,Family Focus Resource Center Parent Support Groups
ATTACH;FMTTYPE=image/png:https://news.csun.edu/wp-content/uploads/2025/11/Black-African-American-Family-Focus-Support-Group-2026.png
END:VEVENT
END:VCALENDAR