BEGIN:VCALENDAR
VERSION:2.0
PRODID:-//CSUN News &amp; Events - ECPv6.11.2//NONSGML v1.0//EN
CALSCALE:GREGORIAN
METHOD:PUBLISH
X-WR-CALNAME:CSUN News &amp; Events
X-ORIGINAL-URL:https://news.csun.edu
X-WR-CALDESC:Events for CSUN News &amp; Events
REFRESH-INTERVAL;VALUE=DURATION:PT1H
X-Robots-Tag:noindex
X-PUBLISHED-TTL:PT1H
BEGIN:VTIMEZONE
TZID:America/Los_Angeles
BEGIN:DAYLIGHT
TZOFFSETFROM:-0800
TZOFFSETTO:-0700
TZNAME:PDT
DTSTART:20260308T100000
END:DAYLIGHT
BEGIN:STANDARD
TZOFFSETFROM:-0700
TZOFFSETTO:-0800
TZNAME:PST
DTSTART:20261101T090000
END:STANDARD
END:VTIMEZONE
BEGIN:VEVENT
DTSTART;TZID=America/Los_Angeles:20260416T123000
DTEND;TZID=America/Los_Angeles:20260416T133000
DTSTAMP:20260423T003320
CREATED:20251118T190523Z
LAST-MODIFIED:20260211T194644Z
UID:10009257-1776342600-1776346200@news.csun.edu
SUMMARY:Parent Check-in and Chat
DESCRIPTION:Join FFRC for a fun & casual chat on Zoom! Come share your experiences with parents and get support from your community. For more information\, please contact Diana at diana.chulak@csun.edu. \n\nMeeting dates are:\n \n\n\n\n\nJanuary 15\nFebruary 12\nMarch 12\nApril 16\nMay 14\nJune 18\n\n\n\n\nRegister Here: https://csun.zoom.us/meeting/register/tZIqcuqtrTsvHNPQnhobG5pI2WxAvDxIfiCr
URL:https://news.csun.edu/event/parent-check-in-and-chat-2/2026-04-16/
LOCATION:Online via Zoom
CATEGORIES:Family Focus Resource Center,Family Focus Resource Center Parent Support Groups
ATTACH;FMTTYPE=image/png:https://news.csun.edu/wp-content/uploads/2025/11/1000-x-533-px-Parent-Check-In-Chat-2026.png
END:VEVENT
END:VCALENDAR