BEGIN:VCALENDAR
VERSION:2.0
PRODID:-//CSUN News &amp; Events - ECPv6.11.2//NONSGML v1.0//EN
CALSCALE:GREGORIAN
METHOD:PUBLISH
X-WR-CALNAME:CSUN News &amp; Events
X-ORIGINAL-URL:https://news.csun.edu
X-WR-CALDESC:Events for CSUN News &amp; Events
REFRESH-INTERVAL;VALUE=DURATION:PT1H
X-Robots-Tag:noindex
X-PUBLISHED-TTL:PT1H
BEGIN:VTIMEZONE
TZID:America/Los_Angeles
BEGIN:DAYLIGHT
TZOFFSETFROM:-0800
TZOFFSETTO:-0700
TZNAME:PDT
DTSTART:20250309T100000
END:DAYLIGHT
BEGIN:STANDARD
TZOFFSETFROM:-0700
TZOFFSETTO:-0800
TZNAME:PST
DTSTART:20251102T090000
END:STANDARD
END:VTIMEZONE
BEGIN:VEVENT
DTSTART;TZID=America/Los_Angeles:20251201T183000
DTEND;TZID=America/Los_Angeles:20251201T200000
DTSTAMP:20260422T225621
CREATED:20250801T180553Z
LAST-MODIFIED:20250801T180553Z
UID:10007282-1764613800-1764619200@news.csun.edu
SUMMARY:Filipino Support Group
DESCRIPTION:Since 1992\, the Filipino Support Group has provided a welcoming space for families to connect\, learn\, and support one another. Meetings are held on the 3rd Monday of each month from 6:30 p.m. to 8:00 p.m.\, unless otherwise noted. Sessions include both in-person and Zoom options\, as well as Zoom-only meetings. \nIn Person and Zoom Meetings:September 22 – In person at NLACRC Lancaster OfficeDecember 1 – Holiday Party at NLACRC Chatsworth Office \nZoom Only Meetings:August 18October 20November 17 \nFor more information\, please contact Theresa Quary at theresa.quary@csun.edu or Kristine Ysabelle Mosteiro at kmosteiro@nlacrc.org
URL:https://news.csun.edu/event/filipino-support-group-4/2025-12-01/
LOCATION:Online via Zoom
CATEGORIES:Family Focus Resource Center,Family Focus Resource Center Parent Support Groups
ATTACH;FMTTYPE=image/png:https://news.csun.edu/wp-content/uploads/2024/07/1000-x-533-px-Filipino-Support-Group-2024.png
END:VEVENT
END:VCALENDAR