BEGIN:VCALENDAR
VERSION:2.0
PRODID:-//CSUN News &amp; Events - ECPv6.11.2//NONSGML v1.0//EN
CALSCALE:GREGORIAN
METHOD:PUBLISH
X-ORIGINAL-URL:https://news.csun.edu
X-WR-CALDESC:Events for CSUN News &amp; Events
REFRESH-INTERVAL;VALUE=DURATION:PT1H
X-Robots-Tag:noindex
X-PUBLISHED-TTL:PT1H
BEGIN:VTIMEZONE
TZID:America/Los_Angeles
BEGIN:DAYLIGHT
TZOFFSETFROM:-0800
TZOFFSETTO:-0700
TZNAME:PDT
DTSTART:20250309T100000
END:DAYLIGHT
BEGIN:STANDARD
TZOFFSETFROM:-0700
TZOFFSETTO:-0800
TZNAME:PST
DTSTART:20251102T090000
END:STANDARD
END:VTIMEZONE
BEGIN:VEVENT
DTSTART;TZID=America/Los_Angeles:20250327T123000
DTEND;TZID=America/Los_Angeles:20250327T133000
DTSTAMP:20260419T061936
CREATED:20241218T193958Z
LAST-MODIFIED:20250122T185559Z
UID:10004767-1743078600-1743082200@news.csun.edu
SUMMARY:The Early Years: Parent Check-in & Chat
DESCRIPTION:Join this new group for parents\, families and caregivers of children under 5. Come learn about services and resources for your loved ones and receive guidance and support from parents like you! For questions please contact Diana at diana.chulak@csun.edu \nRegister Here: https://csun.zoom.us/meeting/register/tZIuduGhrDIpE9IVlx3vgWU63uZcJNY2st62#/registration \nMeeting dates are:\nJanuary 23: Zoom meeting\nMarch 27: Zoom meeting\nMay 17: in-person playdate in SFV (location & time TBA)
URL:https://news.csun.edu/event/the-early-years-parent-check-in-chat/2025-03-27/
LOCATION:Zoom
CATEGORIES:Family Focus Resource Center,Family Focus Resource Center Parent Support Groups
ATTACH;FMTTYPE=image/png:https://news.csun.edu/wp-content/uploads/2024/12/Parent-Check-in-Chat-The-Early-Years.png
END:VEVENT
END:VCALENDAR