BEGIN:VCALENDAR
VERSION:2.0
PRODID:-//CSUN News &amp; Events - ECPv6.11.2//NONSGML v1.0//EN
CALSCALE:GREGORIAN
METHOD:PUBLISH
X-WR-CALNAME:CSUN News &amp; Events
X-ORIGINAL-URL:https://news.csun.edu
X-WR-CALDESC:Events for CSUN News &amp; Events
REFRESH-INTERVAL;VALUE=DURATION:PT1H
X-Robots-Tag:noindex
X-PUBLISHED-TTL:PT1H
BEGIN:VTIMEZONE
TZID:America/Los_Angeles
BEGIN:DAYLIGHT
TZOFFSETFROM:-0800
TZOFFSETTO:-0700
TZNAME:PDT
DTSTART:20250309T100000
END:DAYLIGHT
BEGIN:STANDARD
TZOFFSETFROM:-0700
TZOFFSETTO:-0800
TZNAME:PST
DTSTART:20251102T090000
END:STANDARD
END:VTIMEZONE
BEGIN:VEVENT
DTSTART;TZID=America/Los_Angeles:20250317T183000
DTEND;TZID=America/Los_Angeles:20250317T200000
DTSTAMP:20260422T055352
CREATED:20241218T202809Z
LAST-MODIFIED:20241218T202809Z
UID:10004770-1742236200-1742241600@news.csun.edu
SUMMARY:Filipino Support Group
DESCRIPTION:Join the Filipino Support Group meetings held on the 3rd Monday of the month from 6:30 pm to 8:00 pm. \nZoom only meetings will be February 10 and May 19. \nHybrid meetings:\nMarch 17 – San Fernando\nApril 21 – Santa Clarita\nJuly – Potluck Picnic – TBD \nPlease contact Theresa Quary at theresa.quary@csun.edu or Kristine Ysabelle Mosteiro for more information at kmosteiro@nlacrc.org for more information.
URL:https://news.csun.edu/event/filipino-support-group-3/2025-03-17/
LOCATION:Zoom
CATEGORIES:Family Focus Resource Center,Family Focus Resource Center Parent Support Groups
ATTACH;FMTTYPE=image/png:https://news.csun.edu/wp-content/uploads/2024/07/1000-x-533-px-Filipino-Support-Group-2024.png
END:VEVENT
END:VCALENDAR