BEGIN:VCALENDAR
VERSION:2.0
PRODID:-//CSUN News &amp; Events - ECPv6.11.2//NONSGML v1.0//EN
CALSCALE:GREGORIAN
METHOD:PUBLISH
X-ORIGINAL-URL:https://news.csun.edu
X-WR-CALDESC:Events for CSUN News &amp; Events
REFRESH-INTERVAL;VALUE=DURATION:PT1H
X-Robots-Tag:noindex
X-PUBLISHED-TTL:PT1H
BEGIN:VTIMEZONE
TZID:America/Los_Angeles
BEGIN:DAYLIGHT
TZOFFSETFROM:-0800
TZOFFSETTO:-0700
TZNAME:PDT
DTSTART:20250309T100000
END:DAYLIGHT
BEGIN:STANDARD
TZOFFSETFROM:-0700
TZOFFSETTO:-0800
TZNAME:PST
DTSTART:20251102T090000
END:STANDARD
END:VTIMEZONE
BEGIN:VEVENT
DTSTART;TZID=America/Los_Angeles:20250314T093000
DTEND;TZID=America/Los_Angeles:20250314T113000
DTSTAMP:20260420T123627
CREATED:20241212T192819Z
LAST-MODIFIED:20250623T175154Z
UID:10004715-1741944600-1741951800@news.csun.edu
SUMMARY:El Poder del Amor y la Paciencia-Support Group in Person
DESCRIPTION:Un grupo de apoyo para padres con hijos con necesidades especiales en español. \nLas reuniones son presenciales el segundo viernes de cada mes de 9:30 am a 11:00am.\nDirección: Community Resource Center LA Care 7868 Van Nuys Blvd. Panorama City\, CA 91402 \nPara registrarse llame o envíe un correo electrónico a Rebeca a: (818) 677-6854 o rebeca.diaz@csun.edu \nReuniones en-persona: 10 de Enero\, 14 de Febrero\, 14 de Marzo\, 11 de Abril\, 9 de Mayo\, 13 de Junio\, Sin reunión Julio\, 8 de Agosto\, 12 de Septiembre\, 10 de Octubre\, 14 de Noviembre\, 12 de Diciembre
URL:https://news.csun.edu/event/el-poder-del-amor-y-la-paciencia-support-group-in-person/2025-03-14/
LOCATION:Community Resource Center LA Care\, 7868 Van Nuys Blvd.  \, Panorama City\, 91402\, United States
CATEGORIES:Family Focus Resource Center,Family Focus Resource Center Parent Support Groups
ATTACH;FMTTYPE=image/png:https://news.csun.edu/wp-content/uploads/2024/12/1.png
END:VEVENT
BEGIN:VEVENT
DTSTART;TZID=America/Los_Angeles:20250314T183000
DTEND;TZID=America/Los_Angeles:20250314T203000
DTSTAMP:20260420T123627
CREATED:20250801T164807Z
LAST-MODIFIED:20250801T164807Z
UID:10004690-1741977000-1741984200@news.csun.edu
SUMMARY:Grupo de Apoyo "Cultivar y Crecer"
DESCRIPTION:Bienvenidos a  nuestro grupo de apoyo Cultivar y Crecer!\nNos reunimos a las 6:30 PM por Zoom\, y ocasionalmente nos reunimos en persona. Revise el calendario 2025 para ver fechas exactas. Este grupo es en colaboración con la Asociación de Síndrome de Down por sus siglas en inglés DSALA. \nPara mas información llámenos o mande un correo electrónico\n818-374-9107  o 818-7860001 maria.castaneda@csun.edu  o sandra@dsala.org \nEnlace para reunion- NO NECESITA REGISTRACION\nhttps://csun.zoom.us/j/88331801159?pwd=cnJQUkZJZHQwQVZXWGltM1ZuazhBZz09 \nMeeting ID: 883 3180 1159\nPasscode: 848875 \nCultivar y Crecer 2025 reuniones son por zoom y en persona de 6:30 PM -8:00PM :17 de Enero\, 21 de Febrero\, 14 de Marzo (En persona)\, 4 de Abril\, 16 de Mayo (En persona)\, 20 de Junio\, 19 de Septiembre\, 17 de Octubre\, 21 de Noviembre (En persona)\, 5 de Diciembre (En persona)
URL:https://news.csun.edu/event/grupo-de-apoyo-cultivar-y-crecer-10/
LOCATION:Zoom
CATEGORIES:Family Focus Resource Center,Family Focus Resource Center Parent Support Groups
ATTACH;FMTTYPE=image/png:https://news.csun.edu/wp-content/uploads/2024/12/1000-x-533-px-2025-Cultivar-y-Crecer.png
END:VEVENT
BEGIN:VEVENT
DTSTART;TZID=America/Los_Angeles:20250314T183000
DTEND;TZID=America/Los_Angeles:20250314T203000
DTSTAMP:20260420T123627
CREATED:20250801T164811Z
LAST-MODIFIED:20250801T164811Z
UID:10007236-1741977000-1741984200@news.csun.edu
SUMMARY:Grupo de Apoyo "Cultivar y Crecer"
DESCRIPTION:Bienvenidos a  nuestro grupo de apoyo Cultivar y Crecer!\nNos reunimos a las 6:30 PM por Zoom\, y ocasionalmente nos reunimos en persona. Revise el calendario 2025 para ver fechas exactas. Este grupo es en colaboración con la Asociación de Síndrome de Down por sus siglas en inglés DSALA. \nPara mas información llámenos o mande un correo electrónico\n818-374-9107  o 818-7860001 maria.castaneda@csun.edu  o sandra@dsala.org \nEnlace para reunion- NO NECESITA REGISTRACION\nhttps://csun.zoom.us/j/88331801159?pwd=cnJQUkZJZHQwQVZXWGltM1ZuazhBZz09 \nMeeting ID: 883 3180 1159\nPasscode: 848875 \nCultivar y Crecer 2025 reuniones son por zoom y en persona de 6:30 PM -8:00PM :17 de Enero\, 21 de Febrero\, 14 de Marzo (En persona)\, 4 de Abril\, 16 de Mayo (En persona)\, 20 de Junio\, 19 de Septiembre\, 17 de Octubre\, 21 de Noviembre (En persona)\, 5 de Diciembre (En persona)
URL:https://news.csun.edu/event/grupo-de-apoyo-cultivar-y-crecer-14/
LOCATION:Zoom
CATEGORIES:Family Focus Resource Center,Family Focus Resource Center Parent Support Groups
ATTACH;FMTTYPE=image/png:https://news.csun.edu/wp-content/uploads/2024/12/1000-x-533-px-2025-Cultivar-y-Crecer.png
END:VEVENT
END:VCALENDAR