BEGIN:VCALENDAR
VERSION:2.0
PRODID:-//CSUN News &amp; Events - ECPv6.11.2//NONSGML v1.0//EN
CALSCALE:GREGORIAN
METHOD:PUBLISH
X-WR-CALNAME:CSUN News &amp; Events
X-ORIGINAL-URL:https://news.csun.edu
X-WR-CALDESC:Events for CSUN News &amp; Events
REFRESH-INTERVAL;VALUE=DURATION:PT1H
X-Robots-Tag:noindex
X-PUBLISHED-TTL:PT1H
BEGIN:VTIMEZONE
TZID:America/Los_Angeles
BEGIN:DAYLIGHT
TZOFFSETFROM:-0800
TZOFFSETTO:-0700
TZNAME:PDT
DTSTART:20250309T100000
END:DAYLIGHT
BEGIN:STANDARD
TZOFFSETFROM:-0700
TZOFFSETTO:-0800
TZNAME:PST
DTSTART:20251102T090000
END:STANDARD
END:VTIMEZONE
BEGIN:VEVENT
DTSTART;TZID=America/Los_Angeles:20250305T183000
DTEND;TZID=America/Los_Angeles:20250305T203000
DTSTAMP:20260419T045149
CREATED:20250320T192834Z
LAST-MODIFIED:20250604T175929Z
UID:10004636-1741199400-1741206600@news.csun.edu
SUMMARY:Black and African American Family Focus Support Group
DESCRIPTION:Join us as we come together to create a safe\, supportive place to connect with other families of children\, young and old\, with special needs\, to share resources\, provide advocacy\, and be part of an inclusive community. \nMeeting dates are: May 31- Special date Saturday family picnic\, June 4\, July/August- no meeting\, September 3\, October 1\, November 5\, December 3 \nFor more information contact Theresa at theresa.quary@csun.edu
URL:https://news.csun.edu/event/black-african-american-family-focus-support-group-5/2025-03-05/
LOCATION:Zoom
CATEGORIES:Family Focus Resource Center,Family Focus Resource Center Parent Support Groups
ATTACH;FMTTYPE=image/png:https://news.csun.edu/wp-content/uploads/2024/11/BAAFFSG-2025-1000-x-533-px.png
END:VEVENT
END:VCALENDAR