BEGIN:VCALENDAR
VERSION:2.0
PRODID:-//CSUN News &amp; Events - ECPv6.11.2//NONSGML v1.0//EN
CALSCALE:GREGORIAN
METHOD:PUBLISH
X-ORIGINAL-URL:https://news.csun.edu
X-WR-CALDESC:Events for CSUN News &amp; Events
REFRESH-INTERVAL;VALUE=DURATION:PT1H
X-Robots-Tag:noindex
X-PUBLISHED-TTL:PT1H
BEGIN:VTIMEZONE
TZID:America/Los_Angeles
BEGIN:DAYLIGHT
TZOFFSETFROM:-0800
TZOFFSETTO:-0700
TZNAME:PDT
DTSTART:20260308T100000
END:DAYLIGHT
BEGIN:STANDARD
TZOFFSETFROM:-0700
TZOFFSETTO:-0800
TZNAME:PST
DTSTART:20261101T090000
END:STANDARD
END:VTIMEZONE
BEGIN:VEVENT
DTSTART;TZID=America/Los_Angeles:20260420T120000
DTEND;TZID=America/Los_Angeles:20260420T130000
DTSTAMP:20260422T153819
CREATED:20260120T195242Z
LAST-MODIFIED:20260120T195242Z
UID:10010190-1776686400-1776690000@news.csun.edu
SUMMARY:Lunch and Write Series-Spring 2026
DESCRIPTION:Interested in writing accountability this fall? Join the Office of Faculty Programs and Initiatives Mondays this semester from noon to 1 p.m. For questions email Dr. Anne Choi at achoi@csun.edu. \nRegister Here
URL:https://news.csun.edu/event/lunch-and-write-series-spring-2026/2026-04-20/
CATEGORIES:Events,Faculty Development,Faculty Programs and Initiatives
ATTACH;FMTTYPE=image/png:https://news.csun.edu/wp-content/uploads/2025/08/lunch-and-write-series-e1768938192474.png
END:VEVENT
BEGIN:VEVENT
DTSTART;TZID=America/Los_Angeles:20260420T120000
DTEND;TZID=America/Los_Angeles:20260420T130000
DTSTAMP:20260422T153819
CREATED:20260128T195825Z
LAST-MODIFIED:20260128T195825Z
UID:10010334-1776686400-1776690000@news.csun.edu
SUMMARY:Connecting Communication and Collaboration with Teams and Canvas 
DESCRIPTION:Discover how Microsoft Teams integrates with Canvas to support communication and collaboration in your courses. In this workshop\, faculty will learn how to connect Teams groups using Canvas to streamline instant messaging and announcements\, helping students stay engaged and connected in to the course and class activities.\n\n\nDate: Monday\, April 20 \nTime: Noon to 1 p.m. \nLocation: Zoom \nREGISTER NOW
URL:https://news.csun.edu/event/connecting-communication-and-collaboration-with-teams-and-canvas/
CATEGORIES:Events,Faculty Development,Faculty Programs and Initiatives,Information Technology
ORGANIZER;CN="Faculty Development":MAILTO:facdev@csun.edu
END:VEVENT
END:VCALENDAR