BEGIN:VCALENDAR
VERSION:2.0
PRODID:-//CSUN News &amp; Events - ECPv6.11.2//NONSGML v1.0//EN
CALSCALE:GREGORIAN
METHOD:PUBLISH
X-ORIGINAL-URL:https://news.csun.edu
X-WR-CALDESC:Events for CSUN News &amp; Events
REFRESH-INTERVAL;VALUE=DURATION:PT1H
X-Robots-Tag:noindex
X-PUBLISHED-TTL:PT1H
BEGIN:VTIMEZONE
TZID:America/Los_Angeles
BEGIN:DAYLIGHT
TZOFFSETFROM:-0800
TZOFFSETTO:-0700
TZNAME:PDT
DTSTART:20250309T100000
END:DAYLIGHT
BEGIN:STANDARD
TZOFFSETFROM:-0700
TZOFFSETTO:-0800
TZNAME:PST
DTSTART:20251102T090000
END:STANDARD
BEGIN:DAYLIGHT
TZOFFSETFROM:-0800
TZOFFSETTO:-0700
TZNAME:PDT
DTSTART:20260308T100000
END:DAYLIGHT
BEGIN:STANDARD
TZOFFSETFROM:-0700
TZOFFSETTO:-0800
TZNAME:PST
DTSTART:20261101T090000
END:STANDARD
END:VTIMEZONE
BEGIN:VEVENT
DTSTART;TZID=America/Los_Angeles:20250505T193000
DTEND;TZID=America/Los_Angeles:20250505T213000
DTSTAMP:20260419T130029
CREATED:20240729T225819Z
LAST-MODIFIED:20250410T190510Z
UID:10002870-1746473400-1746480600@news.csun.edu
SUMMARY:Mariachi: Los Matadores de CSUN
DESCRIPTION:Mariachi de los Matadores\nMON MAY 5th\, 7:30 PM\, Shigemi Matsumoto Recital Hall \nDirected by Carlos Samaniego \n  \nParking via Kiosks in Lot B1 \nTICKETS: $10 to $22 \nCan’t attend in Person? View LIVESTREAM
URL:https://news.csun.edu/event/mariachi-los-matadores-de-csun-may-2025/
LOCATION:Shigemi Matsumoto Recital Hall (via Cypress Hall Courtyard)\, 18236 Nordhoff St\, Northridge\, CA\, 91325\, United States
CATEGORIES:Arts and Culture,Diversity and Inclusion,Music,Ticketed Events
ATTACH;FMTTYPE=image/png:https://news.csun.edu/wp-content/uploads/2024/07/MARIACHI-Los-Matadores-de-CSUN-05-05-2025-GALA.png
ORGANIZER;CN="Music":MAILTO:music@csun.edu
GEO:34.2363889;-118.529444444
X-APPLE-STRUCTURED-LOCATION;VALUE=URI;X-ADDRESS=Shigemi Matsumoto Recital Hall (via Cypress Hall Courtyard) 18236 Nordhoff St Northridge CA 91325 United States;X-APPLE-RADIUS=500;X-TITLE=18236 Nordhoff St:geo:-118.529444444,34.2363889
END:VEVENT
BEGIN:VEVENT
DTSTART;TZID=America/Los_Angeles:20250506T193000
DTEND;TZID=America/Los_Angeles:20250506T213000
DTSTAMP:20260419T130029
CREATED:20240729T225736Z
LAST-MODIFIED:20250409T191637Z
UID:10002871-1746559800-1746567000@news.csun.edu
SUMMARY:Vocal and Latin Jazz Ensembles
DESCRIPTION:Vocal and Latin Jazz Ensembles\nMay 6th\, 2025\, 7:30 PM\,Shigemi Matsumoto Recital Hall \nVocal Jazz Ensemble – Directed by Erin Bentlage \nLatin Jazz Ensemble – Directed by Michael Gutierez \n\nThe CSUN Vocal & Latin Jazz Ensembles will take the stage for an exciting evening of dynamic and vibrant music on May 6th\, 2025 in the Shigemi Matsumoto Recital Hall at 7:30 PM. The concert will feature the talented CSUN Latin Jazz Ensemble performing an variety of energetic and brilliant Latin jazz compositions\, including classics like “Mambo Inn” by the great Tito Puente and progressive works by Vince Mendoza\, Michel Camillo\, and Luciana Souza. Expect a lively\, upbeat performance with compositions that celebrate the rhythms\, melodies\, and spirit of Latin American music. \nThe CSUN Latin Jazz Ensemble is known for its vibrant performances and unique interpretations of classic and modern Latin jazz compositions. Led by Dr. Michael Gutierrez\, the ensemble blends a wide array of rhythms and song forms from across Latin America\, bringing the audience on a musical journey from the lively streets of Cuba to the warm beaches of Brazil. Each piece in the program represents a different aspect of Latin jazz\, showcasing both the complexity and the infectious energy of this beloved genre. \nVocal jazz is a genre of jazz where the voice is used as an instrument\, featuring techniques like improvisation\, scat singing\, and phrasing similar to instrumental jazz\, often with a focus on swing\, rhythm\, and interaction with the band.  The CSUN Vocal Jazz Ensemble\, directed by Grammy-winner Erin Bentlage\, will present a collection of diverse works including standard vocal jazz repertoire as well as student compositions/arrangements. This CSUN ensemble travels frequently and has been featured in the evening showcase at the Reno Jazz Festival. \n\n\nSuggested Parking via Kiosks in Lot B1\nTICKETS: $10 to $22 \nCan’t attend in Person? View LIVESTREAM
URL:https://news.csun.edu/event/vocal-and-latin-jazz-ensembles-may-2025/
LOCATION:Shigemi Matsumoto Recital Hall (via Cypress Hall Courtyard)\, 18236 Nordhoff St\, Northridge\, CA\, 91325\, United States
CATEGORIES:Arts and Culture,Diversity and Inclusion,Music,Ticketed Events
ATTACH;FMTTYPE=image/png:https://news.csun.edu/wp-content/uploads/2024/07/Vocal-and-Latin-Jazz-Ensembles-MAY-6-2025.png
ORGANIZER;CN="Music":MAILTO:music@csun.edu
GEO:34.2363889;-118.529444444
X-APPLE-STRUCTURED-LOCATION;VALUE=URI;X-ADDRESS=Shigemi Matsumoto Recital Hall (via Cypress Hall Courtyard) 18236 Nordhoff St Northridge CA 91325 United States;X-APPLE-RADIUS=500;X-TITLE=18236 Nordhoff St:geo:-118.529444444,34.2363889
END:VEVENT
BEGIN:VEVENT
DTSTART;TZID=America/Los_Angeles:20250509T150000
DTEND;TZID=America/Los_Angeles:20250509T190000
DTSTAMP:20260419T130029
CREATED:20250426T013846Z
LAST-MODIFIED:20250501T230724Z
UID:10006324-1746802800-1746817200@news.csun.edu
SUMMARY:AASPP Ethnic Studies Mixer: Querencia
DESCRIPTION:Join the Asian American Studies Pathways Project (AASPP) in their annual Querencia Effect event as they celebrate the importance of voice and visibility through art\, performance\, and open mic.  This year’s Querencia Effect will also be an Ethnic Studies Mixer – a space where different students from different corners of the university\, especially those in the Ethnic Studies\, can meet and mingle with their peers. \nThis year’s featured performer is M.A.I. \nIf you want to sign up as a performer\, please scan the QR code on the flyer. \nThis event is co-sponsored by the Asian American Studies (AAS) Department and the University Student Union (USU).
URL:https://news.csun.edu/event/aaspp-ethnic-studies-mixer-querencia/
LOCATION:The Glenn Omatsu House\, 18356 Halsted Avenue\, Northridge\, 91330\, United States
CATEGORIES:APIDA,Current Students,Diversity and Inclusion,Heritage Month
ATTACH;FMTTYPE=image/jpeg:https://news.csun.edu/wp-content/uploads/2025/04/Queerencia-SP25.jpg
ORGANIZER;CN="Asian American Studies Pathways Project":MAILTO:aaspathways@gmail.com
END:VEVENT
BEGIN:VEVENT
DTSTART;TZID=America/Los_Angeles:20250924T193000
DTEND;TZID=America/Los_Angeles:20250924T213000
DTSTAMP:20260419T130029
CREATED:20250603T223116Z
LAST-MODIFIED:20250924T004309Z
UID:10006396-1758742200-1758749400@news.csun.edu
SUMMARY:HBO's "For Love or Country" The Arturo Sandoval Story: Arturo Sandoval performing Live-to-Film with CSUN JAZZ A BAND + Strings
DESCRIPTION:HBO’s “For Love or Country: The Arturo Sandoval Story”\nLIVE-TO-FILM – with Special Guest Arturo Sandoval performing with the CSUN Jazz A Band and Strings\nGuest Conductor\, Angel Velez\nWED SEPTEMBER 24th\, 7:30 PM\, The Soraya \nFREE COMMUNITY EVENT\, TICKET and RSVP REQUIRED \nFREE TICKETS\n  \nIn celebration of Hispanic Heritage Month\, be our guest for an unforgettable evening as the CSUN Jazz A Band and Strings\, under the direction of Angel Velez\, perform a live-to-film concert of HBO’s For Love or Country: The Story of Arturo Sandoval\, commemorating the film’s 25th anniversary. \nFor Love or Country chronicles the life of 10-time GRAMMY Award-winning Cuban jazz trumpeter Arturo Sandoval\, whose journey from political oppression to artistic freedom continues to inspire audiences worldwide. In a once-in-a-lifetime opportunity\, CSUN Jazz students will perform alongside Sandoval to share his musical journey through a transformative experience that will connect generations through the universal language of jazz and human desire for freedom. \nLearn more about 10-time Grammy winner\nARTURO SANDOVAL\nLearn more about Guest Conductor\nANGEL VELEZ\n“For Love or Country”- the Arturo Sandoval Story \, a Live-to-Film Event\, featuring Arturo Sandoval performing with the CSUN JAZZ A Band and Strings\, at The Soraya\, SEP 24 2025\nSuggested Parking CSUN Lot G4 – pay at kiosks
URL:https://news.csun.edu/event/for-love-or-country-arturo-sandoval-csun-jazz-a-sep-24-2025/
LOCATION:The Soraya – The Great Hall\, 18111 Nordhoff St.\, Los Angeles\, 91325\, United States
CATEGORIES:Arts and Culture,Community Engagement,Diversity and Inclusion,Heritage Month,Music,Nuestra Gente,Special Events and Masterclasses,The Soraya,Ticketed Events
ATTACH;FMTTYPE=image/png:https://news.csun.edu/wp-content/uploads/2025/06/SANDOVAL-700-x-400-px-2x.png
ORGANIZER;CN="Music":MAILTO:music@csun.edu
END:VEVENT
BEGIN:VEVENT
DTSTART;TZID=America/Los_Angeles:20250925T150000
DTEND;TZID=America/Los_Angeles:20250925T180000
DTSTAMP:20260419T130029
CREATED:20250918T180919Z
LAST-MODIFIED:20250924T004340Z
UID:10008491-1758812400-1758823200@news.csun.edu
SUMMARY:Welcome Back BBQ! Harvest Festival Edition
DESCRIPTION:Swing by our bi-annual Welcome Back BBQ! Meet Faculty\, Staff\, and fellow Students! Enjoy Food\, Check Out Books\, and Enjoy Conversation!
URL:https://news.csun.edu/event/welcome-back-bbq-harvest-festival-edition/
LOCATION:The Glenn Omatsu House\, 18356 Halsted Avenue\, Northridge\, 91330\, United States
CATEGORIES:APIDA,Associated Students (AS),Current Students,Diversity and Inclusion,Heritage Month,Prospective Students,Student Affairs,Student Life,Student Outreach and Recruitment
ATTACH;FMTTYPE=image/png:https://news.csun.edu/wp-content/uploads/2025/09/APIDA-Welcome-Back-BBQ.png
END:VEVENT
BEGIN:VEVENT
DTSTART;TZID=America/Los_Angeles:20251021T160000
DTEND;TZID=America/Los_Angeles:20251021T173000
DTSTAMP:20260419T130029
CREATED:20251003T175515Z
LAST-MODIFIED:20251014T152856Z
UID:10008725-1761062400-1761067800@news.csun.edu
SUMMARY:Neurodiversity Teaching Workshop
DESCRIPTION:As part of Invisible Disabilities Week\, Professor Kelan Koning (CSUN) and Dr. Pau Abustan (CSULA) will present an online workshop open to all students\, faculty\, and staff\, “Cultivating Joyful Neurodivergent Learning Spaces of Resistance.” \nRegistration for this event is accessible HERE. \n 
URL:https://news.csun.edu/event/neurodiversity-teaching-workshop/
LOCATION:Online
CATEGORIES:Diversity and Inclusion
ATTACH;FMTTYPE=image/png:https://news.csun.edu/wp-content/uploads/2025/10/Invisible.png
ORGANIZER;CN="Disability Studies":MAILTO:leilani.hall@csun.edu
END:VEVENT
BEGIN:VEVENT
DTSTART;TZID=America/Los_Angeles:20251201T193000
DTEND;TZID=America/Los_Angeles:20251201T213000
DTSTAMP:20260419T130029
CREATED:20250626T221647Z
LAST-MODIFIED:20251115T000201Z
UID:10006457-1764617400-1764624600@news.csun.edu
SUMMARY:Mariachi: Los Matadores de CSUN
DESCRIPTION:MARIACHI\nLos Matadores de CSUN\nMONDAY DECEMBER 1st\, at 7:30 pm Shigemi Matsumoto Recital Hall\, $10 – $22 \nDirected by Carlos Samaniego \nCSUN’s own Mariachi group\, Los Matadores de CSUN.  \n  \nParking via Kiosks in Lot B1 \nTICKETS: $10 to $22 \nCan’t attend in Person? View LIVESTREAM
URL:https://news.csun.edu/event/mariachi-los-matadores-de-csun-dec-2025/
LOCATION:Shigemi Matsumoto Recital Hall (via Cypress Hall Courtyard)\, 18236 Nordhoff St\, Northridge\, CA\, 91325\, United States
CATEGORIES:Arts and Culture,Diversity and Inclusion,Music,Ticketed Events
ATTACH;FMTTYPE=image/png:https://news.csun.edu/wp-content/uploads/2025/06/2025-12-1-MARIACHI-16-9.png
ORGANIZER;CN="Music":MAILTO:music@csun.edu
GEO:34.2363889;-118.529444444
X-APPLE-STRUCTURED-LOCATION;VALUE=URI;X-ADDRESS=Shigemi Matsumoto Recital Hall (via Cypress Hall Courtyard) 18236 Nordhoff St Northridge CA 91325 United States;X-APPLE-RADIUS=500;X-TITLE=18236 Nordhoff St:geo:-118.529444444,34.2363889
END:VEVENT
BEGIN:VEVENT
DTSTART;TZID=America/Los_Angeles:20260127T150000
DTEND;TZID=America/Los_Angeles:20260127T170000
DTSTAMP:20260419T130029
CREATED:20260107T030034Z
LAST-MODIFIED:20260121T182405Z
UID:10009574-1769526000-1769533200@news.csun.edu
SUMMARY:CANCELLED - Guest Artist Masterclass - Lucas Meachem\, baritone
DESCRIPTION:1/21/26: Unfortunately this event has been cancelled.\nWe hope to reschedule next year!\n\n\nGuest Artist Masterclass\nLucas Meachem\, baritone\nTuesday January 27th 3-5 pm\, Shigemi Matsumoto Recital Hall \nNo Admission Fee \nProgram to be Announced \nJoin Director of CSUN Music Vocal Arts program\, Hugo Vera\, and students for an intimate masterclass with guest artist Lucas Meachem. Students and repertoire to be announced. \nGrammy® Award-winning baritone Lucas Meachem\, dubbed a “rock star of opera” by Opera Pulse\, is renowned for his mastery of a wide variety of leading operatic roles\, as well as the creation of new ones. An artist whose genuine warmth and enthusiasm resonate deeply with both audiences and colleagues\, Meachem is lauded for his “exceptionally compelling” (Seen and Heard International) performances as he continues to captivate audiences worldwide with his “earnest\, appealing baritone” (The New York Times). \n  \nLEARN MORE ABOUT LUCAS MEACHEM \nSuggested Parking via Kiosks in Lot B1
URL:https://news.csun.edu/event/guest-artist-masterclass-baritone-lucas-meachem/
LOCATION:Shigemi Matsumoto Recital Hall (via Cypress Hall Courtyard)\, 18236 Nordhoff St\, Northridge\, CA\, 91325\, United States
CATEGORIES:Arts and Culture,Diversity and Inclusion,Lectures and Guest Speakers,Music,Special Events and Masterclasses
ATTACH;FMTTYPE=image/png:https://news.csun.edu/wp-content/uploads/2026/01/2026-01-27-MEACHEM-Masterclass-169-2.png
ORGANIZER;CN="Music":MAILTO:music@csun.edu
GEO:34.2363889;-118.529444444
X-APPLE-STRUCTURED-LOCATION;VALUE=URI;X-ADDRESS=Shigemi Matsumoto Recital Hall (via Cypress Hall Courtyard) 18236 Nordhoff St Northridge CA 91325 United States;X-APPLE-RADIUS=500;X-TITLE=18236 Nordhoff St:geo:-118.529444444,34.2363889
END:VEVENT
BEGIN:VEVENT
DTSTART;TZID=America/Los_Angeles:20260423T120000
DTEND;TZID=America/Los_Angeles:20260423T160000
DTSTAMP:20260419T130029
CREATED:20260416T165708Z
LAST-MODIFIED:20260416T165805Z
UID:10011351-1776945600-1776960000@news.csun.edu
SUMMARY:C.I.P.H.E.R. Symposium 2026: Best of the Best Battles
DESCRIPTION:About this Event\nCSUN Center for the Interdisciplinary Pursuit of Hip-Hop Elevation and Research (C.I.P.H.E.R.) \nEmcees. DJs. Producers.\nWatch top talent go head-to-head in epic hip-hop battles—beats\, bars\, and cuts that will shake the stage. As part of the 2025 C.I.P.H.E.R. Symposium\, the Best of the Best Battles showcase the art\, intellect\, and intensity of hip-hop’s finest voices and sound architects. This is more than a competition—it’s a celebration of the global power of hip-hop to build\, challenge\, and connect communities. \n\n📍 Location: Northridge Center | University Student Union (USU) | California State University\, Northridge📅 Date: April 23. 2026🕚 Time: Noon – 4:00 PM🎟️ Admission: FREE & Open to the Public \nIncredible prizes and giveaways from AVID Technologies and many more! \n\nThink you’ve got what it takes? \nCLICK HERE to Register to compete in one of the most electrifying hip-hop events on campus. Bring your skills. Bring your sound. Bring your story. \nMore Than Music\nThis symposium isn’t just about showcasing talent—it’s about pushing the culture forward. Through battles and discussions alike\, we’ll explore hip-hop’s capacity to build community across local\, national\, and global lines. From politics and social justice to commerce and art\, hip-hop continues to move the world. \nSpecial Guest Judges\n\nDJ Revolution\nDJ C-Los of Beat Junkies Institute\nTony Baraz\nCiz\nBishop Lamont\nNadirah X\nOther Surprise Guests\n\nBattle Breakdown and Judging Criteria\nDJ Battle – Round by Round\n\nFirst Round: 16 DJs | 3-minute sets | Judged on song selection\, transitions\, scratching\, crowd response\nSemi-Finals: 8 DJs | 4-minute sets\nFinals: 4 DJs | 5-minute head-to-head setsOnly one will rise above the rest.\n\nEmcee Battle – Round by Round\n\nFirst Round: 8 Emcees | 45-second\, 2-round battles | Judged on lyrical ability\, delivery\, stage presence\, crowd response\nSemi-Finals: 4 Emcees | 60-second\, 2-round battles\nFinals: 2 Emcees | 60-second\, 3-round showdownThe mic doesn’t lie—who will claim the crown?\n\nProducer Battle – Round by Round\n\nFirst Round: 8 Producers | 2 beats per battle\, 60 seconds each | Judged on creativity\, sound quality\, originality\, crowd response\nSemi-Finals: 4 Producers | 90-second beats\nFinals: 2 Producers | 3 beats each\, 90 seconds per beatBeats will drop. Legends will rise.\n\n\nAbout C.I.P.H.E.R.\nC.I.P.H.E.R. is an innovative and community collaborative academic center that focuses on the interdisciplinary examination of Hip-Hop with particular emphasis on promoting the elevation of the culture of Hip-Hop. Housed at California State University Northridge (CSUN) in Los Angeles\, C.I.P.H.E.R. fulfills this mission through interactive events that provide critical analysis of the culture of Hip-Hop\, curating the oral and visual history of Hip-Hop\, and documenting the socio-political impact of Hip-Hop regionally\, nationally\, and globally. In addition to examining Hip-Hop linkages to social movements\, C.I.P.H.E.R. explores its impact on industries ranging from sports\, to fashion\, beverages\, to arts\, architecture\, transportation\, and technology. \nSupport CIPHER
URL:https://news.csun.edu/event/c-i-p-h-e-r-symposium-2026-best-of-the-best-battles/
LOCATION:CSUN USU – Northridge Center\, 9346 E University Dr\,\, Northridge\, CA\, 91325\, United States
CATEGORIES:College of Social and Behavioral Sciences,Community Engagement,Diversity and Inclusion,Lectures and Guest Speakers,Music
ATTACH;FMTTYPE=image/png:https://news.csun.edu/wp-content/uploads/2025/04/CIPHER_2025_FeaturedImage.png
END:VEVENT
BEGIN:VEVENT
DTSTART;TZID=America/Los_Angeles:20260427T193000
DTEND;TZID=America/Los_Angeles:20260427T213000
DTSTAMP:20260419T130029
CREATED:20250703T194400Z
LAST-MODIFIED:20260320T200921Z
UID:10006770-1777318200-1777325400@news.csun.edu
SUMMARY:Mariachi: Los Matadores de CSUN
DESCRIPTION:Mariachi \nLos Matadores de CSUN\nMONDAY APRIL 27th\, at 7:30 pm Shigemi Matsumoto Recital Hall\, $10 – $22 \nDirected by Carlos Samaniego \n  \nExperience the vibrant sound and rich tradition of Mariachi Los Matadores de CSUN in concert on Monday April 27\, 2026 in the Shigemi Matsumoto Recital Hall. Directed by Carlos Samaniego\, this dynamic ensemble brings passionate performances\, colorful instrumentation\, and beloved mariachi repertoire to life. Join us for an unforgettable evening of music and culture — tickets $10–$22. \nParking via Kiosks in Lot B1 \nTICKETS: $10 to $22 \nCan’t attend in Person? View LIVESTREAM
URL:https://news.csun.edu/event/mariachi-los-matadores-de-csun-spring-2026/
LOCATION:Shigemi Matsumoto Recital Hall (via Cypress Hall Courtyard)\, 18236 Nordhoff St\, Northridge\, CA\, 91325\, United States
CATEGORIES:Arts and Culture,Diversity and Inclusion,Music,Ticketed Events
ATTACH;FMTTYPE=image/png:https://news.csun.edu/wp-content/uploads/2025/07/2026-04-27-MARIACHI-16-9.png
ORGANIZER;CN="Music":MAILTO:music@csun.edu
GEO:34.2363889;-118.529444444
X-APPLE-STRUCTURED-LOCATION;VALUE=URI;X-ADDRESS=Shigemi Matsumoto Recital Hall (via Cypress Hall Courtyard) 18236 Nordhoff St Northridge CA 91325 United States;X-APPLE-RADIUS=500;X-TITLE=18236 Nordhoff St:geo:-118.529444444,34.2363889
END:VEVENT
END:VCALENDAR