BEGIN:VCALENDAR
VERSION:2.0
PRODID:-//CSUN News &amp; Events - ECPv6.11.2//NONSGML v1.0//EN
CALSCALE:GREGORIAN
METHOD:PUBLISH
X-WR-CALNAME:CSUN News &amp; Events
X-ORIGINAL-URL:https://news.csun.edu
X-WR-CALDESC:Events for CSUN News &amp; Events
REFRESH-INTERVAL;VALUE=DURATION:PT1H
X-Robots-Tag:noindex
X-PUBLISHED-TTL:PT1H
BEGIN:VTIMEZONE
TZID:America/Los_Angeles
BEGIN:DAYLIGHT
TZOFFSETFROM:-0800
TZOFFSETTO:-0700
TZNAME:PDT
DTSTART:20260308T100000
END:DAYLIGHT
BEGIN:STANDARD
TZOFFSETFROM:-0700
TZOFFSETTO:-0800
TZNAME:PST
DTSTART:20261101T090000
END:STANDARD
END:VTIMEZONE
BEGIN:VEVENT
DTSTART;TZID=America/Los_Angeles:20260509T060000
DTEND;TZID=America/Los_Angeles:20260515T214500
DTSTAMP:20260423T181757
CREATED:20250909T234601Z
LAST-MODIFIED:20260304T214021Z
UID:10008382-1778306400-1778881500@news.csun.edu
SUMMARY:Spring 2026 Final Exams Week
DESCRIPTION:It’s time to show what you know after studying hard all semester! Just make sure you’re in the right place at the right time. \nFinal Exams Week\nFinal examinations are held Saturday through Friday\, May 9 through 15\, 2026. \n\nYour final exam schedule displays with your class schedule in the CSUN Portal under the top menu Academics tab and the Current Class Schedule link.\nIf you have a final exam schedule conflict\, contact both professors immediately to request alternate arrangements.\nLearn more at Registration FAQ: Final Exams.\n\nBest wishes for breaking a leg on final exams! \nView Grades in the CSUN Portal\n\nYou may be able to view some of your grades through the CSUN Portal as early as May 9. Grades are updated nightly thereafter.\nThe deadline for instructors to report grades is May 21.\nThe last official day of the spring 2026 semester is Friday\, May 22.\n\nGrade of Incomplete\n\nIf you received a grade of Incomplete in the spring 2025 semester\, you must submit the required coursework by the last official day of spring 2026\, the following calendar year.\nIf you need more time to complete the coursework\, you must file the Request for Extension of Time to Remove an Incomplete (PDF) before May 22\, 2026.
URL:https://news.csun.edu/event/spring-2026-final-exams-week/
CATEGORIES:Spring Term,Student Academic Calendar
ATTACH;FMTTYPE=image/png:https://news.csun.edu/wp-content/uploads/2024/08/sac-icon-spring.png
END:VEVENT
END:VCALENDAR