BEGIN:VCALENDAR
VERSION:2.0
PRODID:-//CSUN News &amp; Events - ECPv6.11.2//NONSGML v1.0//EN
CALSCALE:GREGORIAN
METHOD:PUBLISH
X-ORIGINAL-URL:https://news.csun.edu
X-WR-CALDESC:Events for CSUN News &amp; Events
REFRESH-INTERVAL;VALUE=DURATION:PT1H
X-Robots-Tag:noindex
X-PUBLISHED-TTL:PT1H
BEGIN:VTIMEZONE
TZID:America/Los_Angeles
BEGIN:DAYLIGHT
TZOFFSETFROM:-0800
TZOFFSETTO:-0700
TZNAME:PDT
DTSTART:20260308T100000
END:DAYLIGHT
BEGIN:STANDARD
TZOFFSETFROM:-0700
TZOFFSETTO:-0800
TZNAME:PST
DTSTART:20261101T090000
END:STANDARD
END:VTIMEZONE
BEGIN:VEVENT
DTSTART;TZID=America/Los_Angeles:20260502T060000
DTEND;TZID=America/Los_Angeles:20260503T214500
DTSTAMP:20260423T130313
CREATED:20250909T231453Z
LAST-MODIFIED:20260413T205634Z
UID:10008380-1777701600-1777844700@news.csun.edu
SUMMARY:Last Weekend Classes\, Spring 2026
DESCRIPTION:The spring 2026 semester is winding up! \nPlease confirm the last class meeting with your professor\, but here’s a summary: \n\nThe last Saturday and Sunday classes meet May 2 and 3\, 2026.\nThe last day of formal instruction is Friday\, May 8.\nFinal exams week is Saturday through Friday\, May 9 through 15.\n\nIt’s a good idea to confirm the final exam date\, time and location with your professors before the last class meeting. \nIf you find a final exam time conflict between two classes\, let both professors know immediately so you can make other arrangements. \nGrade of Incomplete \nIf personal circumstances are making it difficult to complete your assignments for a class\, you may be able to request a grade of Incomplete. Learn more at Administrative Grading Symbols and check with your academic advisor. \nResources \n\nHow to View Your Class and Final Exam Schedule in the CSUN Portal\nRegistration FAQ: Final Exam Information
URL:https://news.csun.edu/event/last-weekend-classes-spring-2026/
CATEGORIES:Spring Term,Student Academic Calendar
ATTACH;FMTTYPE=image/png:https://news.csun.edu/wp-content/uploads/2024/08/sac-icon-spring.png
END:VEVENT
BEGIN:VEVENT
DTSTART;TZID=America/Los_Angeles:20260508T060000
DTEND;TZID=America/Los_Angeles:20260508T214500
DTSTAMP:20260423T130313
CREATED:20240911T230004Z
LAST-MODIFIED:20260413T205757Z
UID:10002914-1778220000-1778276700@news.csun.edu
SUMMARY:Last Day of Formal Instruction\, Spring 2026
DESCRIPTION:The last day of formal instruction is Friday\, May 8\, 2026. The last weekend classes met Saturday and Sunday\, May 2 and 3. \nOn or before your last class meeting\, be sure to confirm the final exam date\, time and location with each professor. \nFinal examinations week is Saturday through Friday\, May 9 through 15. \n\nYour final exam schedule displays with your class schedule in the CSUN Portal under the top Academics tab and the Current Class Schedule link.\nReview your final exam date\, time and location in the portal and verify them with your professor.\nIf you have an exam time conflict\, contact both professors immediately to make other arrangements.\n\nGrade of Incomplete \nIf personal circumstances are making it difficult to complete your assignments for a class\, you may be able to request a grade of Incomplete. Learn more at Administrative Grading Symbols and check with your academic advisor. \nResources \nHow to View Your Class and Final Exam Schedule in the CSUN Portal\nFinal Exam Information
URL:https://news.csun.edu/event/last-day-of-formal-instruction-spring-2026/
CATEGORIES:Spring Term,Student Academic Calendar
ATTACH;FMTTYPE=image/png:https://news.csun.edu/wp-content/uploads/2024/08/sac-icon-spring.png
END:VEVENT
BEGIN:VEVENT
DTSTART;TZID=America/Los_Angeles:20260509T060000
DTEND;TZID=America/Los_Angeles:20260515T214500
DTSTAMP:20260423T130313
CREATED:20250909T234601Z
LAST-MODIFIED:20260304T214021Z
UID:10008382-1778306400-1778881500@news.csun.edu
SUMMARY:Spring 2026 Final Exams Week
DESCRIPTION:It’s time to show what you know after studying hard all semester! Just make sure you’re in the right place at the right time. \nFinal Exams Week\nFinal examinations are held Saturday through Friday\, May 9 through 15\, 2026. \n\nYour final exam schedule displays with your class schedule in the CSUN Portal under the top menu Academics tab and the Current Class Schedule link.\nIf you have a final exam schedule conflict\, contact both professors immediately to request alternate arrangements.\nLearn more at Registration FAQ: Final Exams.\n\nBest wishes for breaking a leg on final exams! \nView Grades in the CSUN Portal\n\nYou may be able to view some of your grades through the CSUN Portal as early as May 9. Grades are updated nightly thereafter.\nThe deadline for instructors to report grades is May 21.\nThe last official day of the spring 2026 semester is Friday\, May 22.\n\nGrade of Incomplete\n\nIf you received a grade of Incomplete in the spring 2025 semester\, you must submit the required coursework by the last official day of spring 2026\, the following calendar year.\nIf you need more time to complete the coursework\, you must file the Request for Extension of Time to Remove an Incomplete (PDF) before May 22\, 2026.
URL:https://news.csun.edu/event/spring-2026-final-exams-week/
CATEGORIES:Spring Term,Student Academic Calendar
ATTACH;FMTTYPE=image/png:https://news.csun.edu/wp-content/uploads/2024/08/sac-icon-spring.png
END:VEVENT
BEGIN:VEVENT
DTSTART;TZID=America/Los_Angeles:20260515T080000
DTEND;TZID=America/Los_Angeles:20260518T210000
DTSTAMP:20260423T130313
CREATED:20260116T230649Z
LAST-MODIFIED:20260116T230649Z
UID:10009767-1778832000-1779138000@news.csun.edu
SUMMARY:Commencement Ceremonies May 2026
DESCRIPTION:Commencement ceremonies for the 2025-2026 academic year will be held from Friday\, May 15\, through Monday\, May 20\, 2025. Ceremonies are usually held at 8 a.m. or 6 p.m. \nGraduates from fall 2025 and soon-to-be graduates from spring or summer 2026 can participate in May 2026 Commencement. The first step is (or was) to apply to graduate and meet with your academic advisor. You’ll find the steps for bachelor’s and graduate degree applications at: \n\nWhen and How to Apply for the Bachelor’s Degree\nDates & Steps to Graduate for Graduate Students\n\nPlease note: Participating in Commencement does not necessarily mean you have completed all degree requirements and have been awarded the degree. Learn more at Bachelor’s Degree Graduation & Commencement. \nMore 2026 Commencement information will be posted as it becomes available at: \n\nCommencement and Honors Convocation\nHow to Prepare for the Commencement\nSchedule of Ceremonies and Receptions\n\nWe’re proud of you for persisting and achieving your degree objective!
URL:https://news.csun.edu/event/commencement-ceremonies-may-2026/
CATEGORIES:Academics,Spring Term,Student Academic Calendar
ATTACH;FMTTYPE=image/png:https://news.csun.edu/wp-content/uploads/2024/08/sac-icon-spring.png
END:VEVENT
BEGIN:VEVENT
DTSTART;TZID=America/Los_Angeles:20260522T080000
DTEND;TZID=America/Los_Angeles:20260522T164500
DTSTAMP:20260423T130313
CREATED:20250910T160613Z
LAST-MODIFIED:20250916T184128Z
UID:10008389-1779436800-1779468300@news.csun.edu
SUMMARY:Last Official Day\, Spring 2026
DESCRIPTION:Friday\, May 22\, is the last day of the spring 2026 semester and the end of the 2025-2026 academic year. \nSpring 2026 Grades\n\nInstructors’ grades are due no later than May 21.\nYou should be able to view all of your grades in the CSUN Portal.\nOfficial spring 2026 transcripts will be available after end-of-term processing is complete. An availability notice will be posted at Order Transcripts.\n\nGrade of Incomplete\nThe last official day of the semester is usually the deadline for students who received a grade of Incomplete in the like term of the previous calendar year to submit course work to resolve the Incomplete and earn a grade. \n\nFor example\, students who received a grade of Incomplete in a spring 2025 course must usually complete the required course work no later than the last day of the spring 2026 semester.\nIf you need more time to complete the coursework\, you must file the Request for Extension of Time to Remove an Incomplete (PDF) before close of business on May 22\, 2026.\n\nIf you have applied to graduate and you miss the deadline or do not intend to complete the remaining coursework to remove the Incomplete\, notify Undergraduate Degree Services or Graduate Evaluations as soon as possible. \nHave a great summer!
URL:https://news.csun.edu/event/last-official-day-spring-2026/
CATEGORIES:Spring Term,Student Academic Calendar
ATTACH;FMTTYPE=image/png:https://news.csun.edu/wp-content/uploads/2024/08/sac-icon-spring.png
END:VEVENT
BEGIN:VEVENT
DTSTART;VALUE=DATE:20260525
DTEND;VALUE=DATE:20260526
DTSTAMP:20260423T130313
CREATED:20250909T235709Z
LAST-MODIFIED:20250909T235709Z
UID:10008384-1779667200-1779753599@news.csun.edu
SUMMARY:Holiday - Memorial Day 2026
DESCRIPTION:Memorial Day was first designated a holiday three years after the end of the American Civil War. Now it honors all those who have died in service to the United States during peace and war. Read more at Memorial Day: A Commemoration. \nNoteworthy: \n\nCampus business offices are closed.*\nSummer Term 2026 classes for Sessions 1 and 2 begin Tuesday\, May 26.\n\n*Library resources are never closed! Learn more at CSUN University Library hours. \nCheck the CSUN Student Recreation Center and other websites for hours of operation.
URL:https://news.csun.edu/event/holiday-memorial-day-2026/
CATEGORIES:Fall Term,Spring Term,Student Academic Calendar,Summer Term
ATTACH;FMTTYPE=image/png:https://news.csun.edu/wp-content/uploads/2024/08/sac-CampusHoliday-icon-test.png
END:VEVENT
END:VCALENDAR