BEGIN:VCALENDAR
VERSION:2.0
PRODID:-//CSUN News &amp; Events - ECPv6.11.2//NONSGML v1.0//EN
CALSCALE:GREGORIAN
METHOD:PUBLISH
X-ORIGINAL-URL:https://news.csun.edu
X-WR-CALDESC:Events for CSUN News &amp; Events
REFRESH-INTERVAL;VALUE=DURATION:PT1H
X-Robots-Tag:noindex
X-PUBLISHED-TTL:PT1H
BEGIN:VTIMEZONE
TZID:America/Los_Angeles
BEGIN:DAYLIGHT
TZOFFSETFROM:-0800
TZOFFSETTO:-0700
TZNAME:PDT
DTSTART:20250309T100000
END:DAYLIGHT
BEGIN:STANDARD
TZOFFSETFROM:-0700
TZOFFSETTO:-0800
TZNAME:PST
DTSTART:20251102T090000
END:STANDARD
END:VTIMEZONE
BEGIN:VEVENT
DTSTART;VALUE=DATE:20251007
DTEND;VALUE=DATE:20251008
DTSTAMP:20260420T173004
CREATED:20251020T175204Z
LAST-MODIFIED:20251028T012524Z
UID:10008843-1759795200-1759881599@news.csun.edu
SUMMARY:Winter Term 2026 Registration Begins
DESCRIPTION:Winter Term 2026 registration begins Tuesday\, Oct. 7\, 2025. View Winter Term courses in Class Search\, select Winter Session 2026\, and filter the instruction mode by choosing “no set meeting days or times.” \nWinter Term offers regular CSUN courses fully online through CSUN’s Tseng College of Extended Learning as a “”special session.” Courses are offered on a self-support basis at a per-unit fee. \nWinter Session Highlights \n\nComplete coursework at an accelerated pace.\nEarn up to four transferrable units.\nNo registration appointment is required.\nCourses are held fully online. No trips to campus are required.\n\nImportant Winter Session Dates \n\nClasses begin Monday\, Dec. 22\, 2025 and end Friday\, Jan. 16\, 2026.\nThe last day to add online without permission is Monday\, Dec. 29\, 2025.\n\nFind more details\, dates\, course fees\, payment and refund deadlines\, and contact information at Tseng College Winter Term 2026.
URL:https://news.csun.edu/event/winter-term-2026-registration-begins/
CATEGORIES:Student Academic Calendar,Winter Term
ATTACH;FMTTYPE=image/png:https://news.csun.edu/wp-content/uploads/2024/08/sac-winter-icon-test2.png
END:VEVENT
END:VCALENDAR