BEGIN:VCALENDAR
VERSION:2.0
PRODID:-//CSUN News &amp; Events - ECPv6.11.2//NONSGML v1.0//EN
CALSCALE:GREGORIAN
METHOD:PUBLISH
X-WR-CALNAME:CSUN News &amp; Events
X-ORIGINAL-URL:https://news.csun.edu
X-WR-CALDESC:Events for CSUN News &amp; Events
REFRESH-INTERVAL;VALUE=DURATION:PT1H
X-Robots-Tag:noindex
X-PUBLISHED-TTL:PT1H
BEGIN:VTIMEZONE
TZID:America/Los_Angeles
BEGIN:DAYLIGHT
TZOFFSETFROM:-0800
TZOFFSETTO:-0700
TZNAME:PDT
DTSTART:20260308T100000
END:DAYLIGHT
BEGIN:STANDARD
TZOFFSETFROM:-0700
TZOFFSETTO:-0800
TZNAME:PST
DTSTART:20261101T090000
END:STANDARD
END:VTIMEZONE
BEGIN:VEVENT
DTSTART;TZID=America/Los_Angeles:20260502T060000
DTEND;TZID=America/Los_Angeles:20260503T214500
DTSTAMP:20260419T182521
CREATED:20250909T231453Z
LAST-MODIFIED:20260413T205634Z
UID:10008380-1777701600-1777844700@news.csun.edu
SUMMARY:Last Weekend Classes\, Spring 2026
DESCRIPTION:The spring 2026 semester is winding up! \nPlease confirm the last class meeting with your professor\, but here’s a summary: \n\nThe last Saturday and Sunday classes meet May 2 and 3\, 2026.\nThe last day of formal instruction is Friday\, May 8.\nFinal exams week is Saturday through Friday\, May 9 through 15.\n\nIt’s a good idea to confirm the final exam date\, time and location with your professors before the last class meeting. \nIf you find a final exam time conflict between two classes\, let both professors know immediately so you can make other arrangements. \nGrade of Incomplete \nIf personal circumstances are making it difficult to complete your assignments for a class\, you may be able to request a grade of Incomplete. Learn more at Administrative Grading Symbols and check with your academic advisor. \nResources \n\nHow to View Your Class and Final Exam Schedule in the CSUN Portal\nRegistration FAQ: Final Exam Information
URL:https://news.csun.edu/event/last-weekend-classes-spring-2026/
CATEGORIES:Spring Term,Student Academic Calendar
ATTACH;FMTTYPE=image/png:https://news.csun.edu/wp-content/uploads/2024/08/sac-icon-spring.png
END:VEVENT
END:VCALENDAR