BEGIN:VCALENDAR
VERSION:2.0
PRODID:-//CSUN News &amp; Events - ECPv6.11.2//NONSGML v1.0//EN
CALSCALE:GREGORIAN
METHOD:PUBLISH
X-ORIGINAL-URL:https://news.csun.edu
X-WR-CALDESC:Events for CSUN News &amp; Events
REFRESH-INTERVAL;VALUE=DURATION:PT1H
X-Robots-Tag:noindex
X-PUBLISHED-TTL:PT1H
BEGIN:VTIMEZONE
TZID:America/Los_Angeles
BEGIN:DAYLIGHT
TZOFFSETFROM:-0800
TZOFFSETTO:-0700
TZNAME:PDT
DTSTART:20260308T100000
END:DAYLIGHT
BEGIN:STANDARD
TZOFFSETFROM:-0700
TZOFFSETTO:-0800
TZNAME:PST
DTSTART:20261101T090000
END:STANDARD
END:VTIMEZONE
BEGIN:VEVENT
DTSTART;TZID=America/Los_Angeles:20260120T060000
DTEND;TZID=America/Los_Angeles:20260120T214500
DTSTAMP:20260424T160953
CREATED:20250828T000803Z
LAST-MODIFIED:20260108T173143Z
UID:10008231-1768888800-1768945500@news.csun.edu
SUMMARY:Spring 2026 Weekday Classes Begin
DESCRIPTION:Spring 2026 weekday classes begin BEFORE weekend classes do! Martin Luther King\, Jr.\, Day was Monday\, Jan. 19\, 2026\, so classes will begin Tuesday\, Jan. 20. \nClass Start Dates\nHere’s a list of important dates for your first week of classes: \n\nWeekday classes begin Tuesday\, Jan. 20.*\nFriday-only and Friday-Saturday classes begin Jan. 23.\nSaturday-only classes start Jan. 24.\nSunday-only classes start Jan. 25.\n\n*Martin Luther King\, Jr. Day\, is Monday\, Jan. 19\, 2026. Campus is closed; no instruction. \nFind Your Class Locations\nIf you need to look up your new class schedule or room locations\, here are some tips: \n\nLook up your classes on the go with the CSUN Mobile App.\nFind a course by its subject\, course number and five-digit class number in Class Search. Then select the classroom link for a map and photo of the building.\nLog in to the CSUN Portal. Select Academics in the top navigation and then My Classes.\n\nRegistration Continues\nThe Late Registration and Schedule Adjustment period also starts today. \n\nWait-listing continues through Sunday\, Jan. 25.\nPermission numbers are required to add all classes starting Monday\, Jan. 26.\n\nHappy new semester full of adventure and energy!
URL:https://news.csun.edu/event/spring-2026-weekday-classes-begin/
CATEGORIES:Spring Term,Student Academic Calendar
ATTACH;FMTTYPE=image/png:https://news.csun.edu/wp-content/uploads/2024/08/sac-icon-spring.png
END:VEVENT
END:VCALENDAR