BEGIN:VCALENDAR
VERSION:2.0
PRODID:-//CSUN News &amp; Events - ECPv6.11.2//NONSGML v1.0//EN
CALSCALE:GREGORIAN
METHOD:PUBLISH
X-WR-CALNAME:CSUN News &amp; Events
X-ORIGINAL-URL:https://news.csun.edu
X-WR-CALDESC:Events for CSUN News &amp; Events
REFRESH-INTERVAL;VALUE=DURATION:PT1H
X-Robots-Tag:noindex
X-PUBLISHED-TTL:PT1H
BEGIN:VTIMEZONE
TZID:America/Los_Angeles
BEGIN:DAYLIGHT
TZOFFSETFROM:-0800
TZOFFSETTO:-0700
TZNAME:PDT
DTSTART:20250309T100000
END:DAYLIGHT
BEGIN:STANDARD
TZOFFSETFROM:-0700
TZOFFSETTO:-0800
TZNAME:PST
DTSTART:20251102T090000
END:STANDARD
END:VTIMEZONE
BEGIN:VEVENT
DTSTART;TZID=America/Los_Angeles:20250523T080000
DTEND;TZID=America/Los_Angeles:20250523T164500
DTSTAMP:20260423T022712
CREATED:20240911T230644Z
LAST-MODIFIED:20250221T171756Z
UID:10002925-1747987200-1748018700@news.csun.edu
SUMMARY:Last Official Day\, Spring 2025
DESCRIPTION:Friday\, May 23\, 2025\, is the last day of the spring 2025 semester and the end of the 2024-2025 academic year. \nSpring 2025 Grades\n\nInstructors’ grades are due no later than May 23.\nYou should be able to view all of your grades in the CSUN Portal.\nOfficial spring 2025 transcripts will be available after end-of-term processing is complete. An availability notice will be posted at Order Transcripts.\n\nGrade of Incomplete\nThe last official day of the semester is usually the deadline for students who received a grade of Incomplete in the like term of the previous calendar year to submit course work to resolve the Incomplete and earn a grade. \n\nFor example\, students who received a grade of Incomplete in a spring 2024 course must usually complete the required course work no later than the last day of the spring 2025 semester.\nIf you need more time to complete the coursework\, you must file the Request for Extension of Time to Remove an Incomplete (PDF) before close of business on May 23\, 2025.\n\nIf you have applied to graduate and you miss the deadline or do not intend to complete the remaining coursework to remove the Incomplete\, notify Undergraduate Degree Services or Graduate Evaluations as soon as possible.
URL:https://news.csun.edu/event/last-official-day-spring-2025/
CATEGORIES:Academics,Spring Term,Student Academic Calendar
ATTACH;FMTTYPE=image/png:https://news.csun.edu/wp-content/uploads/2024/08/sac-icon-spring.png
END:VEVENT
END:VCALENDAR