BEGIN:VCALENDAR
VERSION:2.0
PRODID:-//CSUN News &amp; Events - ECPv6.11.2//NONSGML v1.0//EN
CALSCALE:GREGORIAN
METHOD:PUBLISH
X-WR-CALNAME:CSUN News &amp; Events
X-ORIGINAL-URL:https://news.csun.edu
X-WR-CALDESC:Events for CSUN News &amp; Events
REFRESH-INTERVAL;VALUE=DURATION:PT1H
X-Robots-Tag:noindex
X-PUBLISHED-TTL:PT1H
BEGIN:VTIMEZONE
TZID:America/Los_Angeles
BEGIN:DAYLIGHT
TZOFFSETFROM:-0800
TZOFFSETTO:-0700
TZNAME:PDT
DTSTART:20250309T100000
END:DAYLIGHT
BEGIN:STANDARD
TZOFFSETFROM:-0700
TZOFFSETTO:-0800
TZNAME:PST
DTSTART:20251102T090000
END:STANDARD
END:VTIMEZONE
BEGIN:VEVENT
DTSTART;TZID=America/Los_Angeles:20250510T060000
DTEND;TZID=America/Los_Angeles:20250516T214500
DTSTAMP:20260422T195940
CREATED:20240911T230143Z
LAST-MODIFIED:20250102T182027Z
UID:10002915-1746856800-1747431900@news.csun.edu
SUMMARY:Spring 2025 Final Exams Week
DESCRIPTION:It’s time to show what you know after studying hard all semester! Just make sure you’re in the right place at the right time. \nFinal Exams Week\nFinal examinations are held Saturday through Friday\, May 10 through 16\, 2025. \n\nYour final exam schedule displays with your class schedule in the CSUN Portal under the top menu Academics tab and the Current Class Schedule link.\nIf you have a final exam schedule conflict\, contact both professors immediately to request alternate arrangements.\nLearn more at Final Exams FAQ.\n\nBest wishes for “breaking a leg” on final exams! \nView Grades in the CSUN Portal\n\nYou may be able to view some of your grades through the CSUN Portal as early as May 10. Grades are updated nightly thereafter.\nThe last official day of the spring 2025 semester is Friday\, May 23. It is also the last day for instructors to report grades.\n\nGrade of Incomplete\n\nIf you received a grade of Incomplete in the spring 2024 semester\, you must submit the required course work by the last official day of spring 2025\, the following calendar year.\nIf you need more time to complete the course work\, you must file the Request for Extension of Time to Remove an Incomplete (PDF) before May 23\, 2025.
URL:https://news.csun.edu/event/spring-2025-final-exams-week/
CATEGORIES:Academics,Spring Term,Student Academic Calendar
ATTACH;FMTTYPE=image/png:https://news.csun.edu/wp-content/uploads/2024/08/sac-icon-spring.png
END:VEVENT
END:VCALENDAR