BEGIN:VCALENDAR
VERSION:2.0
PRODID:-//CSUN News &amp; Events - ECPv6.11.2//NONSGML v1.0//EN
CALSCALE:GREGORIAN
METHOD:PUBLISH
X-ORIGINAL-URL:https://news.csun.edu
X-WR-CALDESC:Events for CSUN News &amp; Events
REFRESH-INTERVAL;VALUE=DURATION:PT1H
X-Robots-Tag:noindex
X-PUBLISHED-TTL:PT1H
BEGIN:VTIMEZONE
TZID:America/Los_Angeles
BEGIN:DAYLIGHT
TZOFFSETFROM:-0800
TZOFFSETTO:-0700
TZNAME:PDT
DTSTART:20240310T100000
END:DAYLIGHT
BEGIN:STANDARD
TZOFFSETFROM:-0700
TZOFFSETTO:-0800
TZNAME:PST
DTSTART:20241103T090000
END:STANDARD
END:VTIMEZONE
BEGIN:VEVENT
DTSTART;TZID=America/Los_Angeles:20241113T170000
DTEND;TZID=America/Los_Angeles:20241113T183000
DTSTAMP:20260423T105217
CREATED:20241017T181757Z
LAST-MODIFIED:20241017T181757Z
UID:10004483-1731517200-1731522600@news.csun.edu
SUMMARY:CSUN Alumni Attorney Networking Group - November Meeting
DESCRIPTION:Join the CSUN Alumni Attorney Networking Group’s November meeting via Zoom and connect with fellow Matador attorneys. We will feature Drew E. Pomerance and learn about\, “Avoiding Trial Altogether – How to Position and Negotiate Your Case for the Best Possible Settlement.” \nDate: November 13\nTime: 5:00 p.m.\nCost: Free\nVIA ZOOM\n*Zoom link will be forwarded after registration. \nREGISTER for this event \nDrew E. Pomerance is a Senior Founding Partner of the firm Roxborough Pomerance Nye & Adreani LLP. Drew Pomerance is a nationally renowned trial and appellate attorney\, with 37 years of expertise in all aspects of complex business litigation\, insurance coverage and bad faith disputes\, as well as labor and employment matters. He has tried numerous cases to verdict\, argued at the state and federal courts of appeal\, and has won both of the cases he argued to the California Supreme Court. \nHe represents businesses of every size and type\, from counseling and advice\, through the entire litigation process\, trial\, as well as at the appellate level. He is also one of the most experienced and sought after class action attorneys in the country\, and has represented the Plaintiff class in the largest rest break class action case in California history\, as well as representing numerous businesses in defending against class actions. \nMr. Pomerance is a Life Fellow of the American Board of Trial Advocates (ABOTA)\, the most prestigious invitation only trial lawyer organization in the United States\, as well as a Fellow of the Litigation Counsel of America\, The Trial Lawyer Honorary Society. He is a frequent speaker and lecturer at trial lawyer conventions and seminars throughout California on insurance and employment topics\, and has been recognized as a Southern California Super Lawyer every year for the last decade. \nAbout the Program \nDiscover key strategies to effectively position your case for the best possible resolution and avoid trial altogether. This program covers how to assess and leverage case strengths and weaknesses\, set your client’s expectations\, and negotiate a resolution that meets the interest of all parties. Discover how to present your case during negotiations and ADR sessions\, to avoid a costly and time consuming trial.
URL:https://news.csun.edu/event/csun-alumni-attorney-networking-group-november-meeting/
LOCATION:Zoom
CATEGORIES:Alumni,Alumni Career & Professional,Alumni Chapters,Career Development
ATTACH;FMTTYPE=image/png:https://news.csun.edu/wp-content/uploads/2024/08/ANG-Standar-Email-Banner-031124.png
END:VEVENT
BEGIN:VEVENT
DTSTART;TZID=America/Los_Angeles:20241116T090000
DTEND;TZID=America/Los_Angeles:20241116T120000
DTSTAMP:20260423T105217
CREATED:20240815T211615Z
LAST-MODIFIED:20240925T203353Z
UID:10003025-1731747600-1731758400@news.csun.edu
SUMMARY:Psychology Alumni Mentoring Event
DESCRIPTION:Attention all Psychology students! Don’t miss the opportunity to talk to alumni mentors and learn about pathways for a successful career in psychology. \nSponsored by the Psychology alumni chapter in collaboration with LACPA members who will represent some fields in PSY. Most of our mentors are CSUN PSY alumni. \nNEW Date: November 16\, 2024 \nStudents can join one or both sessions. Sessions will be held via Zoom. \nPlease register for the session(s) of your choice. \nSession 1 \nTime: 9:00 – 10:30 a.m. \nCareers opportunities leading to a PhD in Psychology \n(Clinical\, counseling\, neurological\, developmental and social psychology) \nRegister for Session 1 \nSession 2 \nTime: 10:30 a.m. – 12:00 p.m. \nCareers opportunities in behavior and mental health \n(ABA/BCBA\, MFT\, SW\, school PSY and school counseling) \nRegister for Session 2 \n*Zoom link will be provided upon registration.
URL:https://news.csun.edu/event/psychology-alumni-mentoring-event-october-5-2024/
CATEGORIES:Alumni,Alumni Career & Professional,Alumni Chapters,Career Development
ATTACH;FMTTYPE=image/png:https://news.csun.edu/wp-content/uploads/2024/08/750x562_email_banner_psychology_alumni_chapter_05_09_24_v1.png
END:VEVENT
BEGIN:VEVENT
DTSTART;TZID=America/Los_Angeles:20241120T183000
DTEND;TZID=America/Los_Angeles:20241120T210000
DTSTAMP:20260423T105217
CREATED:20241009T203938Z
LAST-MODIFIED:20241108T173128Z
UID:10004404-1732127400-1732136400@news.csun.edu
SUMMARY:Environmental & Occupation Health Chapter Speed Mentoring
DESCRIPTION:Successful Matadors in the Environmental and Occupation Health field are coming back to campus to share their insight and give you guidance! \nUse this opportunity to: \n\nAsk industry questions\nMake connections with professionals in the field you want to work in\nLearn about the career journey and how you can apply it to your professional goals\nFind out the challenges and benefits of a career in environmental and occupational health\n\nDate: Wednesday\, November 20\nTime: 6:30 p – 9:00 p.m.\nLocation: CSUN Library\, Ferman Presentation room \nMentors\, please register by November 6\nFor more information\, please email Hannah Labra \n  \nREGISTER for this event
URL:https://news.csun.edu/event/environmental-occupation-health-chapter-speed-mentoring/
LOCATION:CSUN University Library\, 18111 Nordhoff Street\, Northridge\, CA\, 91330\, United States
CATEGORIES:Alumni,Alumni Career & Professional,Alumni Chapters,Career Development
ATTACH;FMTTYPE=image/png:https://news.csun.edu/wp-content/uploads/2024/10/750x562_email_banner_environmental_and_occupational_health_chapter_04_26_24_v2.png
END:VEVENT
BEGIN:VEVENT
DTSTART;TZID=America/Los_Angeles:20241121T180000
DTEND;TZID=America/Los_Angeles:20241121T210000
DTSTAMP:20260423T105217
CREATED:20241030T190239Z
LAST-MODIFIED:20241031T190505Z
UID:10004583-1732212000-1732222800@news.csun.edu
SUMMARY:Nazarian Alumni Chapter Fall 2024 Mixer
DESCRIPTION:You’re invited to network with fellow Nazarian College alumni and students from Accounting Association\, Beta Alpha Psi (BAP)\, and Association of Latino Professionals in Finance and Accounting (ALPFA). \nThere will be food\, light refreshments\, and fun games! \nDate: November 21 \nTime: 6:00 – 9:00 p.m. \nLocation: CSUN University Student Union – Flintridge Room (located on the 2nd floor of East Conference Center) \nCost: Free. \nWe encourage those who require visual\, auditory or mobility assistance to attend. Please contact Hannah Labra with any requests by November 13. \nREGISTER FOR THIS EVENT \n  
URL:https://news.csun.edu/event/nazarian-alumni-chapter-fall-2024-mixer/
CATEGORIES:Alumni,Alumni Career & Professional,Alumni Chapters,Career Development
ATTACH;FMTTYPE=image/png:https://news.csun.edu/wp-content/uploads/2024/10/email_banner_david_nazarian_college_of_business_and_economics_chapter_05_2_24_750x562_v6_750x562.png
END:VEVENT
BEGIN:VEVENT
DTSTART;TZID=America/Los_Angeles:20241122T120000
DTEND;TZID=America/Los_Angeles:20241122T133000
DTSTAMP:20260423T105217
CREATED:20241028T190534Z
LAST-MODIFIED:20241028T190534Z
UID:10004560-1732276800-1732282200@news.csun.edu
SUMMARY:Cool Research Opportunities & Pizza Series (CROPS)
DESCRIPTION:Join us in JD 3514 for pizza and learning about exciting research opportunities! Featuring presentations by Dr. Silvia Carpitella (MSEM)\, Dr. Ruobin Qi (CS)\, and Alina Adamian\, MS (OUR); these speakers will present on various topics including smart grid security\, machine learning\, and undergraduate research programs like PODER and SECURE for Student Success (SfS2) during this event. Pizza will be served at noon\, presentations will begin at 12:20 PM.
URL:https://news.csun.edu/event/cool-research-opportunities-pizza-series-crops/
LOCATION:Jacaranda Hall\, 18111 Nordhoff St.\, Northridge\, CA\, 91330\, United States
CATEGORIES:Career Development,Current Students,First-Time Freshman Students,Institutional Research,International Students,Lectures and Guest Speakers,Research,Returning Students,Transfer Students
ATTACH;FMTTYPE=image/png:https://news.csun.edu/wp-content/uploads/2024/10/CROPS_Poster.png
ORGANIZER;CN="College of Engineering and Computer Science":MAILTO:ecsdean@csun.edu
END:VEVENT
END:VCALENDAR