BEGIN:VCALENDAR
VERSION:2.0
PRODID:-//CSUN News &amp; Events - ECPv6.11.2//NONSGML v1.0//EN
CALSCALE:GREGORIAN
METHOD:PUBLISH
X-ORIGINAL-URL:https://news.csun.edu
X-WR-CALDESC:Events for CSUN News &amp; Events
REFRESH-INTERVAL;VALUE=DURATION:PT1H
X-Robots-Tag:noindex
X-PUBLISHED-TTL:PT1H
BEGIN:VTIMEZONE
TZID:America/Los_Angeles
BEGIN:DAYLIGHT
TZOFFSETFROM:-0800
TZOFFSETTO:-0700
TZNAME:PDT
DTSTART:20260308T100000
END:DAYLIGHT
BEGIN:STANDARD
TZOFFSETFROM:-0700
TZOFFSETTO:-0800
TZNAME:PST
DTSTART:20261101T090000
END:STANDARD
END:VTIMEZONE
BEGIN:VEVENT
DTSTART;TZID=America/Los_Angeles:20260226T120000
DTEND;TZID=America/Los_Angeles:20260226T133000
DTSTAMP:20260422T160324
CREATED:20260212T213656Z
LAST-MODIFIED:20260212T213656Z
UID:10010667-1772107200-1772112600@news.csun.edu
SUMMARY:Lockheed Martin Information Session
DESCRIPTION:• Hear directly from Lockheed Martin employees about the company’s culture\, lifestyle\, and day-to-day work. \n• Discuss the interview and hiring process from the perspective of current staff who have gone through it\, with practical tips and personal anecdotes.\n• Network and ask questions in a casual setting while enjoying lunch! \n  \nRegister Today!
URL:https://news.csun.edu/event/lockheed-martin-information-session/
LOCATION:Bayramian Hall 410
CATEGORIES:Career Center,Career Development
ATTACH;FMTTYPE=image/png:https://news.csun.edu/wp-content/uploads/2026/02/Lockheed-Web.png
ORGANIZER;CN="Career Center":MAILTO:career.center@csun.edu
END:VEVENT
END:VCALENDAR