BEGIN:VCALENDAR
VERSION:2.0
PRODID:-//CSUN News &amp; Events - ECPv6.11.2//NONSGML v1.0//EN
CALSCALE:GREGORIAN
METHOD:PUBLISH
X-WR-CALNAME:CSUN News &amp; Events
X-ORIGINAL-URL:https://news.csun.edu
X-WR-CALDESC:Events for CSUN News &amp; Events
REFRESH-INTERVAL;VALUE=DURATION:PT1H
X-Robots-Tag:noindex
X-PUBLISHED-TTL:PT1H
BEGIN:VTIMEZONE
TZID:America/Los_Angeles
BEGIN:DAYLIGHT
TZOFFSETFROM:-0800
TZOFFSETTO:-0700
TZNAME:PDT
DTSTART:20260308T100000
END:DAYLIGHT
BEGIN:STANDARD
TZOFFSETFROM:-0700
TZOFFSETTO:-0800
TZNAME:PST
DTSTART:20261101T090000
END:STANDARD
END:VTIMEZONE
BEGIN:VEVENT
DTSTART;TZID=America/Los_Angeles:20260224T160000
DTEND;TZID=America/Los_Angeles:20260224T170000
DTSTAMP:20260422T153922
CREATED:20251216T164040Z
LAST-MODIFIED:20260306T183659Z
UID:10009437-1771948800-1771952400@news.csun.edu
SUMMARY:Matador Insights: Communication\, Media\, and Entertainment
DESCRIPTION:Matador Insights is a series of alumni-led panels designed to inspire and educate students exploring career paths in the Communication\, Media\, and Entertainment industry. These sessions provide valuable insights from professionals as they share their journey in the industry. \nRegister Today! \n  \nMeet the Speakers!\n  \n \nEdwin Reyes\, Sales Coordinator\, IGN Entertainment  \nEdwin is a first gen graduate and the youngest of 3 kids that were raised by a single mother in a low income neighborhood. He grew up loving basketball\, video games\, cartoons\, movies\, and shows. These passions allowed him to look up to icons like Kobe Bryant\, helping him realize a better life is possible even when he did not see or have examples of that. During his time at CSUN he took school and his endeavors more seriously after not doing so before. This propelled him to play for CSUN’s men’s basketball club team despite having no experience playing in a team while also interning at NBCUniversal for two academic semesters after having 0 industry experience. He achieved this while being a full time commuter student. Now\, he is fortunate to work in the Entertainment and Media industry with IGN Entertainment where he do digital marketing for video games\, movies\, and shows – an intersection of worlds he can nerd out on! \n  \n \nPeter Genovese\, Manager of Business Applications\, Hallmark Media \nPeter Genovese is an experienced IT leader with over 20 years of experience bridging technology\, operations\, and business strategy across media\, entertainment\, life sciences\, and regulated environments. He currently serves as Manager of Business Applications at Hallmark Media (The Hallmark Channel)\, where he leads and mentors cross-functional teams overseeing enterprise systems supporting content production\, advertising\, finance\, rights management\, and workflow operations. \nPeter is known for his collaborative leadership style and brings deep expertise in application management\, project delivery\, vendor partnerships\, audits\, compliance\, and process optimization\, delivering reliable and scalable solutions that drive efficiency and business value. \n  \n \nJustin Washington\, Casting Administrator\, Walt Disney Television \nJustin Washington is a Casting Administrator at Walt Disney Television. He is a dynamic entertainment professional specializing in talent negotiations and studio production operations across premier platforms including ABC Signature\, 20th Television\, and Hulu. As a Casting Administrator\, he oversees complex talent agreements\, guild compliance\, and relationship management across scripted series. With a diverse background spanning series production and awards programming\, including work with the Academy of Motion Picture Arts and Sciences\, Justin brings strategic insight and operational leadership to today’s evolving entertainment landscape \n  \n \nChris Garlington\, Director of Enterprise Compliance Programs\, The Walt Disney Company \nChris Garlington is an alumnus of the Nazarian College of Business at CSUN. He is the Director of Enterprise Compliance Programs at The Walt Disney Company where he leads efforts to help protect the magic by ensuring the company complies with various data security and privacy requirements. He is also very involved at CSUN as an adjunct professor at CSUN teaching courses about technology and business as well as VP of the CSUN Alumni Association Board. Prior to The Walt Disney Company\, Chris spent 10 years with EY as a technology consultant in Los Angeles and London. His wife is also a CSUN alumnus and they met while together in undergrad. \n  \n  \n \nLauryn Lawton\, Distribution Operations Associate\, TV Mastering\, The Walt Disney Company \nLauryn Lawton is a Distribution Operations Associate on the Television Mastering team at The Walt Disney Company. She has a Bachelor’s degree in Systems and Operations Management from California State University\, Northridge and a Master’s Degree in Business Administration from Pepperdine University. After spending six years of her career in retail\, she transitioned to her dream company and industry by leveraging the power of intentional networking. As the first woman in her family to earn a Master’s degree\, and someone who values relationship-building\, she is passionate about inspiring future generations to find confidence in their career discovery\, career paths\, and networking skills. \n 
URL:https://news.csun.edu/event/matador-insights-communication-media-and-entertainment/
LOCATION:Virtual Event
CATEGORIES:Career Center,Career Development
ATTACH;FMTTYPE=image/png:https://news.csun.edu/wp-content/uploads/2025/07/Matador_Insights_Event.png
ORGANIZER;CN="Career Center":MAILTO:career.center@csun.edu
END:VEVENT
END:VCALENDAR