BEGIN:VCALENDAR
VERSION:2.0
PRODID:-//CSUN News &amp; Events - ECPv6.11.2//NONSGML v1.0//EN
CALSCALE:GREGORIAN
METHOD:PUBLISH
X-WR-CALNAME:CSUN News &amp; Events
X-ORIGINAL-URL:https://news.csun.edu
X-WR-CALDESC:Events for CSUN News &amp; Events
REFRESH-INTERVAL;VALUE=DURATION:PT1H
X-Robots-Tag:noindex
X-PUBLISHED-TTL:PT1H
BEGIN:VTIMEZONE
TZID:America/Los_Angeles
BEGIN:DAYLIGHT
TZOFFSETFROM:-0800
TZOFFSETTO:-0700
TZNAME:PDT
DTSTART:20260308T100000
END:DAYLIGHT
BEGIN:STANDARD
TZOFFSETFROM:-0700
TZOFFSETTO:-0800
TZNAME:PST
DTSTART:20261101T090000
END:STANDARD
END:VTIMEZONE
BEGIN:VEVENT
DTSTART;TZID=America/Los_Angeles:20260428T100000
DTEND;TZID=America/Los_Angeles:20260428T143000
DTSTAMP:20260423T194055
CREATED:20260212T001841Z
LAST-MODIFIED:20260212T004114Z
UID:10010595-1777370400-1777386600@news.csun.edu
SUMMARY:AS Farmers Market
DESCRIPTION:Join us every Tuesday for our weekly Farmers Market\, where you can purchase food and various other items from local vendors. Come and relax at our tables and hammocks and enjoy your Tuesday to the fullest.
URL:https://news.csun.edu/event/as-farmers-market/2026-04-28/
LOCATION:Matador Square
CATEGORIES:AS Events,Associated Students (AS)
END:VEVENT
BEGIN:VEVENT
DTSTART;TZID=America/Los_Angeles:20260429T100000
DTEND;TZID=America/Los_Angeles:20260429T140000
DTSTAMP:20260423T194055
CREATED:20260423T190120Z
LAST-MODIFIED:20260423T190120Z
UID:10011401-1777456800-1777471200@news.csun.edu
SUMMARY:Grad Bash
DESCRIPTION:Join us on Bayramian Lawn to get ready for Commencements! We will have graduation cap decorating\, giveaways and a photo booth. Can’t wait to see you there!
URL:https://news.csun.edu/event/grad-bash/
LOCATION:Bayramian Hall Lawn
CATEGORIES:AS Events,Associated Students (AS)
END:VEVENT
BEGIN:VEVENT
DTSTART;TZID=America/Los_Angeles:20260429T130000
DTEND;TZID=America/Los_Angeles:20260429T150000
DTSTAMP:20260423T194055
CREATED:20260423T190632Z
LAST-MODIFIED:20260423T190632Z
UID:10011402-1777467600-1777474800@news.csun.edu
SUMMARY:Building the Dream Resource Fair
DESCRIPTION:Join us for a community support and resource awareness fair that will bring together essential on & off campus resources that available to our undocumented and mixer status students and families.
URL:https://news.csun.edu/event/building-the-dream-resource-fair/
LOCATION:Plaza del Sol\, University Student Union\, 18111 Nordhoff St.\, Northridge\, CA\, 91330-8272\, United States
CATEGORIES:AS Events,Associated Students (AS)
GEO:34.2399035651;-118.526777824
X-APPLE-STRUCTURED-LOCATION;VALUE=URI;X-ADDRESS=Plaza del Sol University Student Union 18111 Nordhoff St. Northridge CA 91330-8272 United States;X-APPLE-RADIUS=500;X-TITLE=18111 Nordhoff St.:geo:-118.526777824,34.2399035651
END:VEVENT
BEGIN:VEVENT
DTSTART;TZID=America/Los_Angeles:20260430T100000
DTEND;TZID=America/Los_Angeles:20260430T140000
DTSTAMP:20260423T194055
CREATED:20260423T191815Z
LAST-MODIFIED:20260423T191815Z
UID:10011403-1777543200-1777557600@news.csun.edu
SUMMARY:Thursday Thrift: Earth Month
DESCRIPTION:Join us as celebrate the Earth at this special themed Thursday Thrift! See you there Matadors!
URL:https://news.csun.edu/event/thursday-thrift-earth-month/
LOCATION:Bayramian Hall Lawn
CATEGORIES:AS Events,Associated Students (AS)
END:VEVENT
BEGIN:VEVENT
DTSTART;TZID=America/Los_Angeles:20260505T100000
DTEND;TZID=America/Los_Angeles:20260505T143000
DTSTAMP:20260423T194055
CREATED:20260212T001841Z
LAST-MODIFIED:20260212T004114Z
UID:10010596-1777975200-1777991400@news.csun.edu
SUMMARY:AS Farmers Market
DESCRIPTION:Join us every Tuesday for our weekly Farmers Market\, where you can purchase food and various other items from local vendors. Come and relax at our tables and hammocks and enjoy your Tuesday to the fullest.
URL:https://news.csun.edu/event/as-farmers-market/2026-05-05/
LOCATION:Matador Square
CATEGORIES:AS Events,Associated Students (AS)
END:VEVENT
BEGIN:VEVENT
DTSTART;TZID=America/Los_Angeles:20260507T100000
DTEND;TZID=America/Los_Angeles:20260507T140000
DTSTAMP:20260423T194055
CREATED:20260212T003722Z
LAST-MODIFIED:20260313T161325Z
UID:10010658-1778148000-1778162400@news.csun.edu
SUMMARY:Thursday Thrift
DESCRIPTION:Join us on Bayramian Lawn for our weekly Thursday Thrift event. Bring your friends and go thrifting from the clothes available and give some clothes a second life.
URL:https://news.csun.edu/event/thursday-thrift/2026-05-07/
LOCATION:Bayramian Hall Lawn
CATEGORIES:AS Events,Associated Students (AS)
END:VEVENT
END:VCALENDAR