BEGIN:VCALENDAR
VERSION:2.0
PRODID:-//CSUN News &amp; Events - ECPv6.11.2//NONSGML v1.0//EN
CALSCALE:GREGORIAN
METHOD:PUBLISH
X-WR-CALNAME:CSUN News &amp; Events
X-ORIGINAL-URL:https://news.csun.edu
X-WR-CALDESC:Events for CSUN News &amp; Events
REFRESH-INTERVAL;VALUE=DURATION:PT1H
X-Robots-Tag:noindex
X-PUBLISHED-TTL:PT1H
BEGIN:VTIMEZONE
TZID:America/Los_Angeles
BEGIN:DAYLIGHT
TZOFFSETFROM:-0800
TZOFFSETTO:-0700
TZNAME:PDT
DTSTART:20260308T100000
END:DAYLIGHT
BEGIN:STANDARD
TZOFFSETFROM:-0700
TZOFFSETTO:-0800
TZNAME:PST
DTSTART:20261101T090000
END:STANDARD
END:VTIMEZONE
BEGIN:VEVENT
DTSTART;TZID=America/Los_Angeles:20260408T130000
DTEND;TZID=America/Los_Angeles:20260408T141500
DTSTAMP:20260425T064909
CREATED:20260313T172339Z
LAST-MODIFIED:20260313T172339Z
UID:10010946-1775653200-1775657700@news.csun.edu
SUMMARY:Meet the Mayoral Issue: Homelessness
DESCRIPTION:Come to the Meet the Mayoral Issue event and learn more about the Homelessness issues our city is facing!
URL:https://news.csun.edu/event/meet-the-mayoral-issue-homelessness/
LOCATION:Panorama City Room\, East Conference Center\, University Student Union\, 18111 Nordhoff St.\, Northridge\, CA\, 91330-8272\, United States
CATEGORIES:AS Events,Associated Students (AS)
GEO:34.2400703769;-118.525640022
X-APPLE-STRUCTURED-LOCATION;VALUE=URI;X-ADDRESS=Panorama City Room East Conference Center University Student Union 18111 Nordhoff St. Northridge CA 91330-8272 United States;X-APPLE-RADIUS=500;X-TITLE=18111 Nordhoff St.:geo:-118.525640022,34.2400703769
END:VEVENT
BEGIN:VEVENT
DTSTART;TZID=America/Los_Angeles:20260408T130000
DTEND;TZID=America/Los_Angeles:20260408T143000
DTSTAMP:20260425T064909
CREATED:20260313T163355Z
LAST-MODIFIED:20260313T163355Z
UID:10010945-1775653200-1775658600@news.csun.edu
SUMMARY:Matador Conversations with the Basic Needs Office
DESCRIPTION:Matador Conversations with the Basic Needs office is a student dialogue on wellness and financial stability\, highlighting resources like CalFresh\, emergency grants\, and housing support to help every Matador succeed.
URL:https://news.csun.edu/event/matador-conversations-with-the-basic-needs-office/
LOCATION:Van Nuys Room\, East Conference Center\, University Student Union\, 18111 Nordhoff St.\, Northridge\, CA\, 91330-8272\, United States
CATEGORIES:AS Events,Associated Students (AS)
GEO:34.2399861457;-118.525629259
X-APPLE-STRUCTURED-LOCATION;VALUE=URI;X-ADDRESS=Van Nuys Room East Conference Center University Student Union 18111 Nordhoff St. Northridge CA 91330-8272 United States;X-APPLE-RADIUS=500;X-TITLE=18111 Nordhoff St.:geo:-118.525629259,34.2399861457
END:VEVENT
END:VCALENDAR