BEGIN:VCALENDAR
VERSION:2.0
PRODID:-//CSUN News &amp; Events - ECPv6.11.2//NONSGML v1.0//EN
CALSCALE:GREGORIAN
METHOD:PUBLISH
X-WR-CALNAME:CSUN News &amp; Events
X-ORIGINAL-URL:https://news.csun.edu
X-WR-CALDESC:Events for CSUN News &amp; Events
REFRESH-INTERVAL;VALUE=DURATION:PT1H
X-Robots-Tag:noindex
X-PUBLISHED-TTL:PT1H
BEGIN:VTIMEZONE
TZID:America/Los_Angeles
BEGIN:DAYLIGHT
TZOFFSETFROM:-0800
TZOFFSETTO:-0700
TZNAME:PDT
DTSTART:20260308T100000
END:DAYLIGHT
BEGIN:STANDARD
TZOFFSETFROM:-0700
TZOFFSETTO:-0800
TZNAME:PST
DTSTART:20261101T090000
END:STANDARD
END:VTIMEZONE
BEGIN:VEVENT
DTSTART;TZID=America/Los_Angeles:20260211T100000
DTEND;TZID=America/Los_Angeles:20260211T140000
DTSTAMP:20260423T093850
CREATED:20260204T172836Z
LAST-MODIFIED:20260211T202947Z
UID:10010503-1770804000-1770818400@news.csun.edu
SUMMARY:Heartstrings Hangout
DESCRIPTION:Come to the Library Lawn to grab a rose\, make a card for a special someone\, or grab some snacks – all while checking out all our other fun activities!
URL:https://news.csun.edu/event/heartstrings-hangout/
LOCATION:Library Lawn\, 18111 Nordhoff St\, Northridge\, 91330\, United States
CATEGORIES:AS Events,Associated Students (AS)
GEO:34.239463;-118.529335
X-APPLE-STRUCTURED-LOCATION;VALUE=URI;X-ADDRESS=Library Lawn 18111 Nordhoff St Northridge 91330 United States;X-APPLE-RADIUS=500;X-TITLE=18111 Nordhoff St:geo:-118.529335,34.239463
END:VEVENT
END:VCALENDAR