BEGIN:VCALENDAR
VERSION:2.0
PRODID:-//CSUN News &amp; Events - ECPv6.11.2//NONSGML v1.0//EN
CALSCALE:GREGORIAN
METHOD:PUBLISH
X-ORIGINAL-URL:https://news.csun.edu
X-WR-CALDESC:Events for CSUN News &amp; Events
REFRESH-INTERVAL;VALUE=DURATION:PT1H
X-Robots-Tag:noindex
X-PUBLISHED-TTL:PT1H
BEGIN:VTIMEZONE
TZID:America/Los_Angeles
BEGIN:DAYLIGHT
TZOFFSETFROM:-0800
TZOFFSETTO:-0700
TZNAME:PDT
DTSTART:20260308T100000
END:DAYLIGHT
BEGIN:STANDARD
TZOFFSETFROM:-0700
TZOFFSETTO:-0800
TZNAME:PST
DTSTART:20261101T090000
END:STANDARD
END:VTIMEZONE
BEGIN:VEVENT
DTSTART;TZID=America/Los_Angeles:20260128T110000
DTEND;TZID=America/Los_Angeles:20260128T123000
DTSTAMP:20260421T033001
CREATED:20251118T193410Z
LAST-MODIFIED:20251126T183006Z
UID:10009267-1769598000-1769603400@news.csun.edu
SUMMARY:BOD Spring Elections ‘26 Information Session
DESCRIPTION:Matadors\, use your voice and enact the change you want to see on your campus! The Spring 2026 AS and USU Elections are right around the corner. Join us for one of these Information Sessions to learn how you can represent your fellow students on the USU’s Board of Directors. Whether you plan on running or are trying to decide if you should\, this session will answer all the questions you have on how you can serve your campus community.   \nDo you need interpretation for this event? If so\, please fill out the Interpreting Services Request Form at least seven business days prior to the event.   
URL:https://news.csun.edu/event/bod-spring-elections-26-information-session-3/
LOCATION:Ventura Room\, Sol Center\, University Student Union\, 18111 Nordhoff St.\, Northridge\, CA\, 91330-8272\, United States
CATEGORIES:Associated Students (AS),University Student Union
ATTACH;FMTTYPE=image/png:https://news.csun.edu/wp-content/uploads/2025/11/BOD_ElectionsInforSession_FA25_120425.png
GEO:34.2398710403;-118.527191821
X-APPLE-STRUCTURED-LOCATION;VALUE=URI;X-ADDRESS=Ventura Room Sol Center University Student Union 18111 Nordhoff St. Northridge CA 91330-8272 United States;X-APPLE-RADIUS=500;X-TITLE=18111 Nordhoff St.:geo:-118.527191821,34.2398710403
END:VEVENT
END:VCALENDAR