BEGIN:VCALENDAR
VERSION:2.0
PRODID:-//CSUN News &amp; Events - ECPv6.11.2//NONSGML v1.0//EN
CALSCALE:GREGORIAN
METHOD:PUBLISH
X-ORIGINAL-URL:https://news.csun.edu
X-WR-CALDESC:Events for CSUN News &amp; Events
REFRESH-INTERVAL;VALUE=DURATION:PT1H
X-Robots-Tag:noindex
X-PUBLISHED-TTL:PT1H
BEGIN:VTIMEZONE
TZID:America/Los_Angeles
BEGIN:DAYLIGHT
TZOFFSETFROM:-0800
TZOFFSETTO:-0700
TZNAME:PDT
DTSTART:20260308T100000
END:DAYLIGHT
BEGIN:STANDARD
TZOFFSETFROM:-0700
TZOFFSETTO:-0800
TZNAME:PST
DTSTART:20261101T090000
END:STANDARD
END:VTIMEZONE
BEGIN:VEVENT
DTSTART;TZID=America/Los_Angeles:20260401T100000
DTEND;TZID=America/Los_Angeles:20260401T140000
DTSTAMP:20260422T201358
CREATED:20260312T200015Z
LAST-MODIFIED:20260312T200015Z
UID:10010938-1775037600-1775052000@news.csun.edu
SUMMARY:AS Scholarship Fair
DESCRIPTION:Stop by to learn about all the AS Scholarship opportunities for the 2026-2027 academic year!
URL:https://news.csun.edu/event/as-scholarship-fair/2026-04-01/
LOCATION:Library Lawn\, 18111 Nordhoff St\, Northridge\, 91330\, United States
CATEGORIES:AS Events,Associated Students (AS)
GEO:34.239463;-118.529335
X-APPLE-STRUCTURED-LOCATION;VALUE=URI;X-ADDRESS=Library Lawn 18111 Nordhoff St Northridge 91330 United States;X-APPLE-RADIUS=500;X-TITLE=18111 Nordhoff St:geo:-118.529335,34.239463
END:VEVENT
BEGIN:VEVENT
DTSTART;TZID=America/Los_Angeles:20260401T130000
DTEND;TZID=America/Los_Angeles:20260401T141500
DTSTAMP:20260422T201358
CREATED:20260313T161010Z
LAST-MODIFIED:20260313T161010Z
UID:10010943-1775048400-1775052900@news.csun.edu
SUMMARY:Meet the Mayoral Issue: Cost of Living
DESCRIPTION:Come to the Meet the Mayoral Issue event and learn more about the Cost of Living issue our city is facing!
URL:https://news.csun.edu/event/meet-the-mayoral-issue-cost-of-living/
LOCATION:Panorama City Room\, East Conference Center\, University Student Union\, 18111 Nordhoff St.\, Northridge\, CA\, 91330-8272\, United States
CATEGORIES:AS Events,Associated Students (AS)
GEO:34.2400703769;-118.525640022
X-APPLE-STRUCTURED-LOCATION;VALUE=URI;X-ADDRESS=Panorama City Room East Conference Center University Student Union 18111 Nordhoff St. Northridge CA 91330-8272 United States;X-APPLE-RADIUS=500;X-TITLE=18111 Nordhoff St.:geo:-118.525640022,34.2400703769
END:VEVENT
BEGIN:VEVENT
DTSTART;TZID=America/Los_Angeles:20260401T130000
DTEND;TZID=America/Los_Angeles:20260401T143000
DTSTAMP:20260422T201358
CREATED:20260312T194745Z
LAST-MODIFIED:20260312T194745Z
UID:10010937-1775048400-1775053800@news.csun.edu
SUMMARY:Matador Conversations with University Counseling Services
DESCRIPTION:Matador Conversations with University Counseling Services creates an open and empowering space for students to engage directly with mental health professionals on campus. This dialogue will explore available counseling resources\, culturally responsive support programs\, and initiatives such as peer education and identity-affirming services. Students will have the opportunity to ask questions\, learn how to access care\, and discuss how mental health support can better meet the needs of our diverse campus community. Together\, we aim to normalize conversations around mental wellness and strengthen transparency between students and UCS.
URL:https://news.csun.edu/event/matador-conversations-with-university-counseling-services/
LOCATION:Van Nuys Room\, East Conference Center\, University Student Union\, 18111 Nordhoff St.\, Northridge\, CA\, 91330-8272\, United States
CATEGORIES:AS Events,Associated Students (AS)
GEO:34.2399861457;-118.525629259
X-APPLE-STRUCTURED-LOCATION;VALUE=URI;X-ADDRESS=Van Nuys Room East Conference Center University Student Union 18111 Nordhoff St. Northridge CA 91330-8272 United States;X-APPLE-RADIUS=500;X-TITLE=18111 Nordhoff St.:geo:-118.525629259,34.2399861457
END:VEVENT
BEGIN:VEVENT
DTSTART;TZID=America/Los_Angeles:20260401T160000
DTEND;TZID=America/Los_Angeles:20260401T180000
DTSTAMP:20260422T201358
CREATED:20260312T175735Z
LAST-MODIFIED:20260312T175735Z
UID:10010936-1775059200-1775066400@news.csun.edu
SUMMARY:Deaf President Now: Watch Party
DESCRIPTION:This event will be a screening of the documentary “Deaf President Now.” Deaf President Now is a documentary about the Deaf President Now movement of 1988\, when Gallaudet\, the first deaf college in the world\, located in Washington\, DC\, hired a woman by the name of Dr. Elizabeth Ann Zinser\, a hearing woman. A group of students then rallied and started the movement until she resigned\, and the first deaf president was finally elected\, Dr. I. King Jordan.
URL:https://news.csun.edu/event/deaf-president-now-watch-party/
LOCATION:Thousand Oaks Room\, Southwest Addition\, University Student Union\, 18111 Nordhoff St.\, Northridge\, CA\, 91330-8272\, United States
CATEGORIES:AS Events,Associated Students (AS)
GEO:34.239357795;-118.527140941
X-APPLE-STRUCTURED-LOCATION;VALUE=URI;X-ADDRESS=Thousand Oaks Room Southwest Addition University Student Union 18111 Nordhoff St. Northridge CA 91330-8272 United States;X-APPLE-RADIUS=500;X-TITLE=18111 Nordhoff St.:geo:-118.527140941,34.239357795
END:VEVENT
END:VCALENDAR