BEGIN:VCALENDAR
VERSION:2.0
PRODID:-//CSUN News &amp; Events - ECPv6.11.2//NONSGML v1.0//EN
CALSCALE:GREGORIAN
METHOD:PUBLISH
X-WR-CALNAME:CSUN News &amp; Events
X-ORIGINAL-URL:https://news.csun.edu
X-WR-CALDESC:Events for CSUN News &amp; Events
REFRESH-INTERVAL;VALUE=DURATION:PT1H
X-Robots-Tag:noindex
X-PUBLISHED-TTL:PT1H
BEGIN:VTIMEZONE
TZID:America/Los_Angeles
BEGIN:DAYLIGHT
TZOFFSETFROM:-0800
TZOFFSETTO:-0700
TZNAME:PDT
DTSTART:20260308T100000
END:DAYLIGHT
BEGIN:STANDARD
TZOFFSETFROM:-0700
TZOFFSETTO:-0800
TZNAME:PST
DTSTART:20261101T090000
END:STANDARD
END:VTIMEZONE
BEGIN:VEVENT
DTSTART;TZID=America/Los_Angeles:20260303T100000
DTEND;TZID=America/Los_Angeles:20260303T143000
DTSTAMP:20260422T025554
CREATED:20260212T001841Z
LAST-MODIFIED:20260212T004114Z
UID:10010589-1772532000-1772548200@news.csun.edu
SUMMARY:AS Farmers Market
DESCRIPTION:Join us every Tuesday for our weekly Farmers Market\, where you can purchase food and various other items from local vendors. Come and relax at our tables and hammocks and enjoy your Tuesday to the fullest.
URL:https://news.csun.edu/event/as-farmers-market/2026-03-03/
LOCATION:Matador Square
CATEGORIES:AS Events,Associated Students (AS)
END:VEVENT
BEGIN:VEVENT
DTSTART;TZID=America/Los_Angeles:20260304T100000
DTEND;TZID=America/Los_Angeles:20260304T140000
DTSTAMP:20260422T025554
CREATED:20260212T003003Z
LAST-MODIFIED:20260212T003003Z
UID:10010649-1772618400-1772632800@news.csun.edu
SUMMARY:C.R.A.M.P.S (College Resources for All Menstruating Persons and Students)
DESCRIPTION:Learn about on-campus menstruation resources\, get free giveaways\, raffle prizes and more!
URL:https://news.csun.edu/event/cramps/
LOCATION:Library Lawn\, 18111 Nordhoff St\, Northridge\, 91330\, United States
CATEGORIES:AS Events,Associated Students (AS)
GEO:34.239463;-118.529335
X-APPLE-STRUCTURED-LOCATION;VALUE=URI;X-ADDRESS=Library Lawn 18111 Nordhoff St Northridge 91330 United States;X-APPLE-RADIUS=500;X-TITLE=18111 Nordhoff St:geo:-118.529335,34.239463
END:VEVENT
BEGIN:VEVENT
DTSTART;TZID=America/Los_Angeles:20260305T100000
DTEND;TZID=America/Los_Angeles:20260305T140000
DTSTAMP:20260422T025554
CREATED:20260212T003722Z
LAST-MODIFIED:20260313T161325Z
UID:10010652-1772704800-1772719200@news.csun.edu
SUMMARY:Thursday Thrift
DESCRIPTION:Join us on Bayramian Lawn for our weekly Thursday Thrift event. Bring your friends and go thrifting from the clothes available and give some clothes a second life.
URL:https://news.csun.edu/event/thursday-thrift/2026-03-05/
LOCATION:Bayramian Hall Lawn
CATEGORIES:AS Events,Associated Students (AS)
END:VEVENT
BEGIN:VEVENT
DTSTART;TZID=America/Los_Angeles:20260310T100000
DTEND;TZID=America/Los_Angeles:20260310T143000
DTSTAMP:20260422T025554
CREATED:20260212T001841Z
LAST-MODIFIED:20260212T004114Z
UID:10010590-1773136800-1773153000@news.csun.edu
SUMMARY:AS Farmers Market
DESCRIPTION:Join us every Tuesday for our weekly Farmers Market\, where you can purchase food and various other items from local vendors. Come and relax at our tables and hammocks and enjoy your Tuesday to the fullest.
URL:https://news.csun.edu/event/as-farmers-market/2026-03-10/
LOCATION:Matador Square
CATEGORIES:AS Events,Associated Students (AS)
END:VEVENT
BEGIN:VEVENT
DTSTART;TZID=America/Los_Angeles:20260311T100000
DTEND;TZID=America/Los_Angeles:20260311T140000
DTSTAMP:20260422T025554
CREATED:20260212T005820Z
LAST-MODIFIED:20260212T005820Z
UID:10010660-1773223200-1773237600@news.csun.edu
SUMMARY:Save the Bees
DESCRIPTION:Join us on Bayramian Lawn and find out what ways you can help protect the bees in our community.
URL:https://news.csun.edu/event/save-the-bees/
LOCATION:Bayramian Hall Lawn
CATEGORIES:AS Events,Associated Students (AS)
END:VEVENT
BEGIN:VEVENT
DTSTART;TZID=America/Los_Angeles:20260312T100000
DTEND;TZID=America/Los_Angeles:20260312T140000
DTSTAMP:20260422T025554
CREATED:20260212T003722Z
LAST-MODIFIED:20260313T161325Z
UID:10010653-1773309600-1773324000@news.csun.edu
SUMMARY:Thursday Thrift
DESCRIPTION:Join us on Bayramian Lawn for our weekly Thursday Thrift event. Bring your friends and go thrifting from the clothes available and give some clothes a second life.
URL:https://news.csun.edu/event/thursday-thrift/2026-03-12/
LOCATION:Bayramian Hall Lawn
CATEGORIES:AS Events,Associated Students (AS)
END:VEVENT
BEGIN:VEVENT
DTSTART;TZID=America/Los_Angeles:20260312T110000
DTEND;TZID=America/Los_Angeles:20260312T130000
DTSTAMP:20260422T025554
CREATED:20260312T001502Z
LAST-MODIFIED:20260312T001502Z
UID:10010930-1773313200-1773320400@news.csun.edu
SUMMARY:10 Things I Love About My Major
DESCRIPTION:Come tell us why you love your major! Build your own chocolate box and hang out while watching the movie “10 Things I Hate About You.” This event is open for all majors to attend!
URL:https://news.csun.edu/event/10-things-i-love-about-my-major/
LOCATION:Matador Square
CATEGORIES:AS Events,Associated Students (AS)
END:VEVENT
BEGIN:VEVENT
DTSTART;TZID=America/Los_Angeles:20260312T160000
DTEND;TZID=America/Los_Angeles:20260312T180000
DTSTAMP:20260422T025554
CREATED:20260312T002019Z
LAST-MODIFIED:20260312T002019Z
UID:10010931-1773331200-1773338400@news.csun.edu
SUMMARY:Cultural Unity Showcase
DESCRIPTION:Celebrate the cultures that make our campus powerful and diverse! Enjoy live dance performances\, spoken word\, music\, cultural booths\, trivia\, and giveaways.
URL:https://news.csun.edu/event/cultural-unity-showcase/
LOCATION:Orchard
CATEGORIES:AS Events,Associated Students (AS)
END:VEVENT
BEGIN:VEVENT
DTSTART;TZID=America/Los_Angeles:20260324T100000
DTEND;TZID=America/Los_Angeles:20260324T140000
DTSTAMP:20260422T025554
CREATED:20260211T204205Z
LAST-MODIFIED:20260212T010059Z
UID:10010661-1774346400-1774360800@news.csun.edu
SUMMARY:Refill and Repair at the AS Farmers Market
DESCRIPTION:Join us for our Refill and Repair events in Matador Square during our weekly Farmers Market from 10am to 2pm! You can get free soaps\, conditioner\, shampoo\, along with other cleaning supplies! Bring your own container or get one at our refill station! Here you will also have the opportunity to have your torn or damaged clothes repaired with our on-site seamstresses!
URL:https://news.csun.edu/event/repair-and-refill/2026-03-24/
LOCATION:Matador Square
CATEGORIES:AS Events,Associated Students (AS)
END:VEVENT
BEGIN:VEVENT
DTSTART;TZID=America/Los_Angeles:20260324T150000
DTEND;TZID=America/Los_Angeles:20260324T170000
DTSTAMP:20260422T025554
CREATED:20260312T155026Z
LAST-MODIFIED:20260312T161347Z
UID:10010932-1774364400-1774371600@news.csun.edu
SUMMARY:AS and USU Elections Debate
DESCRIPTION:Join us to hear directly from the Presidential candidates as they share their platforms\, answer questions\, and discuss their vision for our campus. This is your chance to stay informed before casting your vote! Don’t miss this opportunity to be part of the conversation!
URL:https://news.csun.edu/event/as-and-usu-elections-debate/
LOCATION:CSUN USU – Northridge Center\, 9346 E University Dr\,\, Northridge\, CA\, 91325\, United States
CATEGORIES:AS Events,Associated Students (AS)
END:VEVENT
BEGIN:VEVENT
DTSTART;TZID=America/Los_Angeles:20260325T183000
DTEND;TZID=America/Los_Angeles:20260325T203000
DTSTAMP:20260422T025554
CREATED:20260312T155947Z
LAST-MODIFIED:20260312T155947Z
UID:10010933-1774463400-1774470600@news.csun.edu
SUMMARY:Big Comedy with Trevor Wallace
DESCRIPTION:FREE tickets available at the AS Ticket Office located in the USU! A standby line will be available the day of the event.
URL:https://news.csun.edu/event/big-comedy-with-trevor-wallace/
LOCATION:Plaza del Sol Performance Hall\, University Student Union\, 18111 Nordhoff Street\, Northridge\, CA\, 91330\, United States
CATEGORIES:AS Events,Associated Students (AS)
GEO:34.240316;-118.526413
X-APPLE-STRUCTURED-LOCATION;VALUE=URI;X-ADDRESS=Plaza del Sol Performance Hall University Student Union 18111 Nordhoff Street Northridge CA 91330 United States;X-APPLE-RADIUS=500;X-TITLE=18111 Nordhoff Street:geo:-118.526413,34.240316
END:VEVENT
BEGIN:VEVENT
DTSTART;TZID=America/Los_Angeles:20260326T100000
DTEND;TZID=America/Los_Angeles:20260326T140000
DTSTAMP:20260422T025554
CREATED:20260312T172220Z
LAST-MODIFIED:20260312T172220Z
UID:10010935-1774519200-1774533600@news.csun.edu
SUMMARY:Thursday Thrift: Spring Cleaning
DESCRIPTION:Join us for the Spring Cleaning themed Thursday Thrift! We can’t wait to see you there!
URL:https://news.csun.edu/event/thursday-thrift-spring-cleaning/
LOCATION:Bayramian Hall Lawn
CATEGORIES:AS Events,Associated Students (AS)
END:VEVENT
BEGIN:VEVENT
DTSTART;TZID=America/Los_Angeles:20260326T130000
DTEND;TZID=America/Los_Angeles:20260326T141500
DTSTAMP:20260422T025554
CREATED:20260312T171036Z
LAST-MODIFIED:20260312T171036Z
UID:10010934-1774530000-1774534500@news.csun.edu
SUMMARY:Meet the Mayoral Issue: Housing and Rent
DESCRIPTION:Come to the Meet the Mayoral Issue event and learn more about the Housing and Rent issues our city is facing!
URL:https://news.csun.edu/event/meet-the-mayoral-issue-housing-and-rent/
LOCATION:Panorama City Room\, East Conference Center\, University Student Union\, 18111 Nordhoff St.\, Northridge\, CA\, 91330-8272\, United States
CATEGORIES:AS Events,Associated Students (AS)
GEO:34.2400703769;-118.525640022
X-APPLE-STRUCTURED-LOCATION;VALUE=URI;X-ADDRESS=Panorama City Room East Conference Center University Student Union 18111 Nordhoff St. Northridge CA 91330-8272 United States;X-APPLE-RADIUS=500;X-TITLE=18111 Nordhoff St.:geo:-118.525640022,34.2400703769
END:VEVENT
END:VCALENDAR