BEGIN:VCALENDAR
VERSION:2.0
PRODID:-//CSUN News &amp; Events - ECPv6.11.2//NONSGML v1.0//EN
CALSCALE:GREGORIAN
METHOD:PUBLISH
X-WR-CALNAME:CSUN News &amp; Events
X-ORIGINAL-URL:https://news.csun.edu
X-WR-CALDESC:Events for CSUN News &amp; Events
REFRESH-INTERVAL;VALUE=DURATION:PT1H
X-Robots-Tag:noindex
X-PUBLISHED-TTL:PT1H
BEGIN:VTIMEZONE
TZID:America/Los_Angeles
BEGIN:DAYLIGHT
TZOFFSETFROM:-0800
TZOFFSETTO:-0700
TZNAME:PDT
DTSTART:20260308T100000
END:DAYLIGHT
BEGIN:STANDARD
TZOFFSETFROM:-0700
TZOFFSETTO:-0800
TZNAME:PST
DTSTART:20261101T090000
END:STANDARD
END:VTIMEZONE
BEGIN:VEVENT
DTSTART;TZID=America/Los_Angeles:20260210T100000
DTEND;TZID=America/Los_Angeles:20260210T140000
DTSTAMP:20260422T153814
CREATED:20260204T172756Z
LAST-MODIFIED:20260204T174114Z
UID:10010502-1770717600-1770732000@news.csun.edu
SUMMARY:AS/USU Elections Kickoff Event
DESCRIPTION:Learn more about Associated Students & USU Elections with our Pit Stop tables and test your skills on our inflatable obstacle course!
URL:https://news.csun.edu/event/as-usu-elections-kickoff-event/
LOCATION:Matador Square
CATEGORIES:AS Events,Associated Students (AS)
END:VEVENT
BEGIN:VEVENT
DTSTART;TZID=America/Los_Angeles:20260211T100000
DTEND;TZID=America/Los_Angeles:20260211T140000
DTSTAMP:20260422T153814
CREATED:20260204T172836Z
LAST-MODIFIED:20260211T202947Z
UID:10010503-1770804000-1770818400@news.csun.edu
SUMMARY:Heartstrings Hangout
DESCRIPTION:Come to the Library Lawn to grab a rose\, make a card for a special someone\, or grab some snacks – all while checking out all our other fun activities!
URL:https://news.csun.edu/event/heartstrings-hangout/
LOCATION:Library Lawn\, 18111 Nordhoff St\, Northridge\, 91330\, United States
CATEGORIES:AS Events,Associated Students (AS)
GEO:34.239463;-118.529335
X-APPLE-STRUCTURED-LOCATION;VALUE=URI;X-ADDRESS=Library Lawn 18111 Nordhoff St Northridge 91330 United States;X-APPLE-RADIUS=500;X-TITLE=18111 Nordhoff St:geo:-118.529335,34.239463
END:VEVENT
BEGIN:VEVENT
DTSTART;TZID=America/Los_Angeles:20260212T100000
DTEND;TZID=America/Los_Angeles:20260212T140000
DTSTAMP:20260422T153814
CREATED:20260212T003722Z
LAST-MODIFIED:20260313T161325Z
UID:10010650-1770890400-1770904800@news.csun.edu
SUMMARY:Thursday Thrift
DESCRIPTION:Join us on Bayramian Lawn for our weekly Thursday Thrift event. Bring your friends and go thrifting from the clothes available and give some clothes a second life.
URL:https://news.csun.edu/event/thursday-thrift/2026-02-12/
LOCATION:Bayramian Hall Lawn
CATEGORIES:AS Events,Associated Students (AS)
END:VEVENT
BEGIN:VEVENT
DTSTART;TZID=America/Los_Angeles:20260212T150000
DTEND;TZID=America/Los_Angeles:20260212T220000
DTSTAMP:20260422T153814
CREATED:20260204T172845Z
LAST-MODIFIED:20260211T202935Z
UID:10010504-1770908400-1770933600@news.csun.edu
SUMMARY:Black History Movie Night: Sinners
DESCRIPTION:Celebrate Black History Month with a Cultural Festival & Movie Night honoring our roots\, strengthening our path\, and shaping our future. Enjoy live performances\, Black-Owned vendors\, and a screening of SINNERS.
URL:https://news.csun.edu/event/black-history-movie-night-sinners/
LOCATION:Matador Square
CATEGORIES:AS Events,Associated Students (AS)
END:VEVENT
BEGIN:VEVENT
DTSTART;TZID=America/Los_Angeles:20260217T100000
DTEND;TZID=America/Los_Angeles:20260217T143000
DTSTAMP:20260422T153814
CREATED:20260212T001841Z
LAST-MODIFIED:20260212T004114Z
UID:10010587-1771322400-1771338600@news.csun.edu
SUMMARY:AS Farmers Market
DESCRIPTION:Join us every Tuesday for our weekly Farmers Market\, where you can purchase food and various other items from local vendors. Come and relax at our tables and hammocks and enjoy your Tuesday to the fullest.
URL:https://news.csun.edu/event/as-farmers-market/2026-02-17/
LOCATION:Matador Square
CATEGORIES:AS Events,Associated Students (AS)
END:VEVENT
BEGIN:VEVENT
DTSTART;TZID=America/Los_Angeles:20260218T100000
DTEND;TZID=America/Los_Angeles:20260218T110000
DTSTAMP:20260422T153814
CREATED:20260116T160546Z
LAST-MODIFIED:20260116T160546Z
UID:10009726-1771408800-1771412400@news.csun.edu
SUMMARY:AI Baseline Workshop for Students
DESCRIPTION:Have you been curious about how CSUN’s Artificial Intelligence (AI) tools can help with your studies and support your educational journey? Join us for a student-led AI Workshop designed by students\, for students; because we understand that the best way to advocate for your educational journey is through the awareness and responsible use of AI. We’ll explore CSUN’s AI tools as options to aid in learning and academic success\, as well as sharing practical tips on how to use them effectively. \nRegister Here
URL:https://news.csun.edu/event/ai-baseline-workshop-for-students/
LOCATION:https://news.csun.edu/event/ai-baseline-workshop-for-students/
CATEGORIES:AS Events
ATTACH;FMTTYPE=image/png:https://news.csun.edu/wp-content/uploads/2026/01/AI-class-student.png
END:VEVENT
BEGIN:VEVENT
DTSTART;TZID=America/Los_Angeles:20260218T100000
DTEND;TZID=America/Los_Angeles:20260218T140000
DTSTAMP:20260422T153814
CREATED:20260204T172852Z
LAST-MODIFIED:20260211T203009Z
UID:10010505-1771408800-1771423200@news.csun.edu
SUMMARY:Paint and Plant
DESCRIPTION:Join us for a chill day of painting and relaxing. Come grab a potted succulent and destress while you paint the day away.
URL:https://news.csun.edu/event/paint-plant/
LOCATION:Library Lawn\, 18111 Nordhoff St\, Northridge\, 91330\, United States
CATEGORIES:AS Events,Associated Students (AS)
GEO:34.239463;-118.529335
X-APPLE-STRUCTURED-LOCATION;VALUE=URI;X-ADDRESS=Library Lawn 18111 Nordhoff St Northridge 91330 United States;X-APPLE-RADIUS=500;X-TITLE=18111 Nordhoff St:geo:-118.529335,34.239463
END:VEVENT
BEGIN:VEVENT
DTSTART;TZID=America/Los_Angeles:20260219T100000
DTEND;TZID=America/Los_Angeles:20260219T140000
DTSTAMP:20260422T153814
CREATED:20260212T003722Z
LAST-MODIFIED:20260313T161325Z
UID:10010651-1771495200-1771509600@news.csun.edu
SUMMARY:Thursday Thrift
DESCRIPTION:Join us on Bayramian Lawn for our weekly Thursday Thrift event. Bring your friends and go thrifting from the clothes available and give some clothes a second life.
URL:https://news.csun.edu/event/thursday-thrift/2026-02-19/
LOCATION:Bayramian Hall Lawn
CATEGORIES:AS Events,Associated Students (AS)
END:VEVENT
BEGIN:VEVENT
DTSTART;TZID=America/Los_Angeles:20260224T100000
DTEND;TZID=America/Los_Angeles:20260224T140000
DTSTAMP:20260422T153814
CREATED:20260211T204205Z
LAST-MODIFIED:20260212T010059Z
UID:10010585-1771927200-1771941600@news.csun.edu
SUMMARY:Refill and Repair at the AS Farmers Market
DESCRIPTION:Join us for our Refill and Repair events in Matador Square during our weekly Farmers Market from 10am to 2pm! You can get free soaps\, conditioner\, shampoo\, along with other cleaning supplies! Bring your own container or get one at our refill station! Here you will also have the opportunity to have your torn or damaged clothes repaired with our on-site seamstresses!
URL:https://news.csun.edu/event/repair-and-refill/2026-02-24/
LOCATION:Matador Square
CATEGORIES:AS Events,Associated Students (AS)
END:VEVENT
BEGIN:VEVENT
DTSTART;TZID=America/Los_Angeles:20260226T100000
DTEND;TZID=America/Los_Angeles:20260226T140000
DTSTAMP:20260422T153814
CREATED:20260212T004754Z
LAST-MODIFIED:20260212T004754Z
UID:10010659-1772100000-1772114400@news.csun.edu
SUMMARY:Thursday Thrift: Back to School Book Swap
DESCRIPTION:Join us at this special themed Back to School Book Swap Thursday Thrift! Hope to see you there!
URL:https://news.csun.edu/event/thursday-thrift-back-to-school-book-swap/
LOCATION:Bayramian Hall Lawn
CATEGORIES:AS Events,Associated Students (AS)
END:VEVENT
END:VCALENDAR