BEGIN:VCALENDAR
VERSION:2.0
PRODID:-//CSUN News &amp; Events - ECPv6.11.2//NONSGML v1.0//EN
CALSCALE:GREGORIAN
METHOD:PUBLISH
X-WR-CALNAME:CSUN News &amp; Events
X-ORIGINAL-URL:https://news.csun.edu
X-WR-CALDESC:Events for CSUN News &amp; Events
REFRESH-INTERVAL;VALUE=DURATION:PT1H
X-Robots-Tag:noindex
X-PUBLISHED-TTL:PT1H
BEGIN:VTIMEZONE
TZID:America/Los_Angeles
BEGIN:DAYLIGHT
TZOFFSETFROM:-0800
TZOFFSETTO:-0700
TZNAME:PDT
DTSTART:20250309T100000
END:DAYLIGHT
BEGIN:STANDARD
TZOFFSETFROM:-0700
TZOFFSETTO:-0800
TZNAME:PST
DTSTART:20251102T090000
END:STANDARD
BEGIN:DAYLIGHT
TZOFFSETFROM:-0800
TZOFFSETTO:-0700
TZNAME:PDT
DTSTART:20260308T100000
END:DAYLIGHT
BEGIN:STANDARD
TZOFFSETFROM:-0700
TZOFFSETTO:-0800
TZNAME:PST
DTSTART:20261101T090000
END:STANDARD
END:VTIMEZONE
BEGIN:VEVENT
DTSTART;TZID=America/Los_Angeles:20260216T090000
DTEND;TZID=America/Los_Angeles:20260216T180000
DTSTAMP:20260421T135740
CREATED:20260217T214356Z
LAST-MODIFIED:20260217T214420Z
UID:10010745-1771232400-1771264800@news.csun.edu
SUMMARY:CSUN SHED Gallery Ceramic Guild
DESCRIPTION:Visit this week’s student group exhibit “Ceramic Guild” \nSunday\, Feb. 15 – Friday\, Feb. 20 in the CSUN SHED Gallery.\nThe reception is on Wednesday\, Feb. 18 at 3-5pm in the CSUN SHED Gallery. \nFeatured Artists: Jessica Rock\, Caitlin Benson\, and Jose Galvan Martinez.
URL:https://news.csun.edu/event/13683/
CATEGORIES:Art & Design,Art & Design Department
ORGANIZER;CN="Art and Design Department":MAILTO:joe.bautista@csun.edu
END:VEVENT
BEGIN:VEVENT
DTSTART;TZID=America/Los_Angeles:20260215T090000
DTEND;TZID=America/Los_Angeles:20260215T180000
DTSTAMP:20260421T135740
CREATED:20260217T214245Z
LAST-MODIFIED:20260217T214245Z
UID:10010744-1771146000-1771178400@news.csun.edu
SUMMARY:CSUN SHED Gallery Ceramic Guild
DESCRIPTION:Visit this week’s student group exhibit “Ceramic Guild” \nSunday\, Feb. 15 – Friday\, Feb. 20 in the CSUN SHED Gallery.\nThe reception is on Wednesday\, Feb. 18 at 3-5pm in the CSUN SHED Gallery. \nFeatured Artists: Jessica Rock\, Caitlin Benson\, and Jose Galvan Martinez.
URL:https://news.csun.edu/event/csun-shed-gallery-ceramic-guild/
CATEGORIES:Art & Design,Art & Design Department
ORGANIZER;CN="Art and Design Department":MAILTO:joe.bautista@csun.edu
END:VEVENT
BEGIN:VEVENT
DTSTART;TZID=America/Los_Angeles:20260214T090000
DTEND;TZID=America/Los_Angeles:20260214T180000
DTSTAMP:20260421T135740
CREATED:20260210T215131Z
LAST-MODIFIED:20260210T215131Z
UID:10010578-1771059600-1771092000@news.csun.edu
SUMMARY:CSUN SHED Gallery Fluid Dynamics
DESCRIPTION:Visit this week’s student exhibit “Fluid Dynamics” by Esther Levi\nSunday\, Feb. 8 – Saturday\, Feb. 14 in the CSUN SHED Gallery.\nThe reception is on Wednesday\, Feb. 11 at 3pm in the CSUN SHED Gallery.
URL:https://news.csun.edu/event/csun-shed-gallery-fluid-dynamics-7/
CATEGORIES:Art & Design,Art & Design Department
ORGANIZER;CN="Art and Design Department":MAILTO:joe.bautista@csun.edu
END:VEVENT
BEGIN:VEVENT
DTSTART;TZID=America/Los_Angeles:20260213T090000
DTEND;TZID=America/Los_Angeles:20260213T180000
DTSTAMP:20260421T135740
CREATED:20260210T214955Z
LAST-MODIFIED:20260210T214955Z
UID:10010577-1770973200-1771005600@news.csun.edu
SUMMARY:CSUN SHED Gallery Fluid Dynamics
DESCRIPTION:Visit this week’s student exhibit “Fluid Dynamics” by Esther Levi\nSunday\, Feb. 8 – Saturday\, Feb. 14 in the CSUN SHED Gallery.\nThe reception is on Wednesday\, Feb. 11 at 3pm in the CSUN SHED Gallery.
URL:https://news.csun.edu/event/csun-shed-gallery-fluid-dynamics-6/
CATEGORIES:Art & Design,Art & Design Department
ORGANIZER;CN="Art and Design Department":MAILTO:joe.bautista@csun.edu
END:VEVENT
BEGIN:VEVENT
DTSTART;TZID=America/Los_Angeles:20260212T090000
DTEND;TZID=America/Los_Angeles:20260212T180000
DTSTAMP:20260421T135740
CREATED:20260210T214758Z
LAST-MODIFIED:20260210T214758Z
UID:10010576-1770886800-1770919200@news.csun.edu
SUMMARY:CSUN SHED Gallery Fluid Dynamics
DESCRIPTION:Visit this week’s student exhibit “Fluid Dynamics” by Esther Levi\nSunday\, Feb. 8 – Saturday\, Feb. 14 in the CSUN SHED Gallery.\nThe reception is on Wednesday\, Feb. 11 at 3pm in the CSUN SHED Gallery.
URL:https://news.csun.edu/event/csun-shed-gallery-fluid-dynamics-5/
CATEGORIES:Art & Design,Art & Design Department
ORGANIZER;CN="Art and Design Department":MAILTO:joe.bautista@csun.edu
END:VEVENT
BEGIN:VEVENT
DTSTART;TZID=America/Los_Angeles:20260211T120000
DTEND;TZID=America/Los_Angeles:20260211T140000
DTSTAMP:20260421T135740
CREATED:20260130T174512Z
LAST-MODIFIED:20260130T192636Z
UID:10010342-1770811200-1770818400@news.csun.edu
SUMMARY:Making A Career in Fashion Design
DESCRIPTION:BHMJoin us for an engaging conversation with designer\, industry leader\, and Black Design Collective co-founder\, TJ Walker. This event is co-hosted by the student organization from Family and Consumer Sciences\, TRENDS. Refreshments will be served. \nFor more than two decades\, the clothing designs of Thomas “TJ” Walker have been featured among the pages of such prominent publications as: Forbes\, Details\, Code\, Black Enterprise\, Elle\, Source\, Sportswear International\, Vibe and Women’s Wear Daily. Known primarily for his design prowess in the menswear apparel industry\, Walker is at heart a true fine artist. Throughout his career\, while simultaneously occupying the position as Educator\, Creative Director\, Design Consultant or Chief Creative Officer for several notable clothing companies such as Cross Colours\, Groove Company\, Mence\, DKNY\, DADA\, and Converse\, he has continued to indulge in his first love\, fine art. \nWalker\, a successful designer is currently developing design programs for inner-city children to inspire and nurture the development of raw creative talent. \nThis event is part of the CSUN University Library’s Black History Month event series. \nThank you to our co-sponsors for making these events possible: University Student Union (USU)\, Educational Opportunity Program (EOP)\, California Faculty Association – Northridge Chapter (CFA – Northridge)\, Provost’s Office\, Africana Studies Department\, The Tom & Ethel Bradley Center\, and the Criminology Department. \nRSVP Today!
URL:https://news.csun.edu/event/making-a-career-in-fashion-design/
LOCATION:Jack and Florence Ferman Presentation Room\, University Library
CATEGORIES:Art & Design,Black History,Education Opportunity Program (EOP),Fashion,Heritage Month
ATTACH;FMTTYPE=image/jpeg:https://news.csun.edu/wp-content/uploads/2026/01/bhm-tj-walker-thumb.jpg
ORGANIZER;CN="University Library":MAILTO:library.event@csun.edu
END:VEVENT
BEGIN:VEVENT
DTSTART;TZID=America/Los_Angeles:20260211T090000
DTEND;TZID=America/Los_Angeles:20260211T180000
DTSTAMP:20260421T135740
CREATED:20260210T214638Z
LAST-MODIFIED:20260210T214638Z
UID:10010575-1770800400-1770832800@news.csun.edu
SUMMARY:CSUN SHED Gallery Fluid Dynamics
DESCRIPTION:Visit this week’s student exhibit “Fluid Dynamics” by Esther Levi\nSunday\, Feb. 8 – Saturday\, Feb. 14 in the CSUN SHED Gallery.\nThe reception is on Wednesday\, Feb. 11 at 3pm in the CSUN SHED Gallery.
URL:https://news.csun.edu/event/csun-shed-gallery-fluid-dynamics-4/
CATEGORIES:Art & Design,Art & Design Department
ORGANIZER;CN="Art and Design Department":MAILTO:joe.bautista@csun.edu
END:VEVENT
BEGIN:VEVENT
DTSTART;TZID=America/Los_Angeles:20260210T090000
DTEND;TZID=America/Los_Angeles:20260210T180000
DTSTAMP:20260421T135740
CREATED:20260210T214507Z
LAST-MODIFIED:20260210T214507Z
UID:10010574-1770714000-1770746400@news.csun.edu
SUMMARY:CSUN SHED Gallery Fluid Dynamics
DESCRIPTION:Visit this week’s student exhibit “Fluid Dynamics” by Esther Levi\nSunday\, Feb. 8 – Saturday\, Feb. 14 in the CSUN SHED Gallery.\nThe reception is on Wednesday\, Feb. 11 at 3pm in the CSUN SHED Gallery.
URL:https://news.csun.edu/event/csun-shed-gallery-fluid-dynamics-3/
CATEGORIES:Art & Design,Art & Design Department
ORGANIZER;CN="Art and Design Department":MAILTO:joe.bautista@csun.edu
END:VEVENT
BEGIN:VEVENT
DTSTART;TZID=America/Los_Angeles:20260209T090000
DTEND;TZID=America/Los_Angeles:20260209T180000
DTSTAMP:20260421T135740
CREATED:20260210T214410Z
LAST-MODIFIED:20260210T214410Z
UID:10010573-1770627600-1770660000@news.csun.edu
SUMMARY:CSUN SHED Gallery Fluid Dynamics
DESCRIPTION:Visit this week’s student exhibit “Fluid Dynamics” by Esther Levi\nSunday\, Feb. 8 – Saturday\, Feb. 14 in the CSUN SHED Gallery.\nThe reception is on Wednesday\, Feb. 11 at 3pm in the CSUN SHED Gallery.
URL:https://news.csun.edu/event/csun-shed-gallery-fluid-dynamics-2/
CATEGORIES:Art & Design,Art & Design Department
ORGANIZER;CN="Art and Design Department":MAILTO:joe.bautista@csun.edu
END:VEVENT
BEGIN:VEVENT
DTSTART;TZID=America/Los_Angeles:20260208T090000
DTEND;TZID=America/Los_Angeles:20260208T180000
DTSTAMP:20260421T135740
CREATED:20260210T214101Z
LAST-MODIFIED:20260210T214236Z
UID:10010572-1770541200-1770573600@news.csun.edu
SUMMARY:CSUN SHED Gallery Fluid Dynamics
DESCRIPTION:Visit this week’s student exhibit “Fluid Dynamics” by Esther Levi\nSunday\, Feb. 8 – Saturday\, Feb. 14 in the CSUN SHED Gallery.\nThe reception is on Wednesday\, Feb. 11 at 3pm in the CSUN SHED Gallery.
URL:https://news.csun.edu/event/csun-shed-gallery-fluid-dynamics/
CATEGORIES:Art & Design,Art & Design Department
ORGANIZER;CN="Art and Design Department":MAILTO:joe.bautista@csun.edu
END:VEVENT
BEGIN:VEVENT
DTSTART;TZID=America/Los_Angeles:20251206T080000
DTEND;TZID=America/Los_Angeles:20251206T170000
DTSTAMP:20260421T135740
CREATED:20251202T165709Z
LAST-MODIFIED:20251202T165709Z
UID:10009349-1765008000-1765040400@news.csun.edu
SUMMARY:CSUN SHED Gallery Queer Joy Is Radical Parts Of Self
DESCRIPTION:Visit this week’s student exhibit “Queer Joy Is Radical: Parts Of Self”\nSunday\, Nov. 3 – Saturday\, Dec. 6 in the CSUN SHED Gallery.\nThe reception is on Thursday\, Dec. 4 and Friday\, Dec. 5 at 5:00pm – 8:45pm in the SHED Gallery.
URL:https://news.csun.edu/event/csun-shed-gallery-queer-joy-is-radical-parts-of-self-6/
CATEGORIES:Art & Design,Art & Design Department
END:VEVENT
BEGIN:VEVENT
DTSTART;TZID=America/Los_Angeles:20251205T080000
DTEND;TZID=America/Los_Angeles:20251205T170000
DTSTAMP:20260421T135740
CREATED:20251202T165659Z
LAST-MODIFIED:20251202T165659Z
UID:10009348-1764921600-1764954000@news.csun.edu
SUMMARY:CSUN SHED Gallery Queer Joy Is Radical Parts Of Self
DESCRIPTION:Visit this week’s student exhibit “Queer Joy Is Radical: Parts Of Self”\nSunday\, Nov. 3 – Saturday\, Dec. 6 in the CSUN SHED Gallery.\nThe reception is on Thursday\, Dec. 4 and Friday\, Dec. 5 at 5:00pm – 8:45pm in the SHED Gallery.
URL:https://news.csun.edu/event/csun-shed-gallery-queer-joy-is-radical-parts-of-self-5/
CATEGORIES:Art & Design,Art & Design Department
END:VEVENT
BEGIN:VEVENT
DTSTART;TZID=America/Los_Angeles:20251204T080000
DTEND;TZID=America/Los_Angeles:20251204T170000
DTSTAMP:20260421T135740
CREATED:20251202T165649Z
LAST-MODIFIED:20251202T165649Z
UID:10009347-1764835200-1764867600@news.csun.edu
SUMMARY:CSUN SHED Gallery Queer Joy Is Radical Parts Of Self
DESCRIPTION:Visit this week’s student exhibit “Queer Joy Is Radical: Parts Of Self”\nSunday\, Nov. 3 – Saturday\, Dec. 6 in the CSUN SHED Gallery.\nThe reception is on Thursday\, Dec. 4 and Friday\, Dec. 5 at 5:00pm – 8:45pm in the SHED Gallery.
URL:https://news.csun.edu/event/csun-shed-gallery-queer-joy-is-radical-parts-of-self-4/
CATEGORIES:Art & Design,Art & Design Department
END:VEVENT
BEGIN:VEVENT
DTSTART;TZID=America/Los_Angeles:20251203T080000
DTEND;TZID=America/Los_Angeles:20251203T170000
DTSTAMP:20260421T135740
CREATED:20251202T165638Z
LAST-MODIFIED:20251202T165638Z
UID:10009346-1764748800-1764781200@news.csun.edu
SUMMARY:CSUN SHED Gallery Queer Joy Is Radical Parts Of Self
DESCRIPTION:Visit this week’s student exhibit “Queer Joy Is Radical: Parts Of Self”\nSunday\, Nov. 3 – Saturday\, Dec. 6 in the CSUN SHED Gallery.\nThe reception is on Thursday\, Dec. 4 and Friday\, Dec. 5 at 5:00pm – 8:45pm in the SHED Gallery.
URL:https://news.csun.edu/event/csun-shed-gallery-queer-joy-is-radical-parts-of-self-3/
CATEGORIES:Art & Design,Art & Design Department
END:VEVENT
BEGIN:VEVENT
DTSTART;TZID=America/Los_Angeles:20251202T080000
DTEND;TZID=America/Los_Angeles:20251202T170000
DTSTAMP:20260421T135740
CREATED:20251202T165624Z
LAST-MODIFIED:20251202T165624Z
UID:10009345-1764662400-1764694800@news.csun.edu
SUMMARY:CSUN SHED Gallery Queer Joy Is Radical Parts Of Self
DESCRIPTION:Visit this week’s student exhibit “Queer Joy Is Radical: Parts Of Self”\nSunday\, Nov. 3 – Saturday\, Dec. 6 in the CSUN SHED Gallery.\nThe reception is on Thursday\, Dec. 4 and Friday\, Dec. 5 at 5:00pm – 8:45pm in the SHED Gallery.
URL:https://news.csun.edu/event/csun-shed-gallery-queer-joy-is-radical-parts-of-self-2/
CATEGORIES:Art & Design,Art & Design Department
END:VEVENT
BEGIN:VEVENT
DTSTART;TZID=America/Los_Angeles:20251201T080000
DTEND;TZID=America/Los_Angeles:20251201T170000
DTSTAMP:20260421T135740
CREATED:20251202T165612Z
LAST-MODIFIED:20251202T165612Z
UID:10009344-1764576000-1764608400@news.csun.edu
SUMMARY:CSUN SHED Gallery Queer Joy Is Radical Parts Of Self
DESCRIPTION:Visit this week’s student exhibit “Queer Joy Is Radical: Parts Of Self”\nSunday\, Nov. 3 – Saturday\, Dec. 6 in the CSUN SHED Gallery.\nThe reception is on Thursday\, Dec. 4 and Friday\, Dec. 5 at 5:00pm – 8:45pm in the SHED Gallery.
URL:https://news.csun.edu/event/csun-shed-gallery-queer-joy-is-radical-parts-of-self/
CATEGORIES:Art & Design,Art & Design Department
END:VEVENT
BEGIN:VEVENT
DTSTART;TZID=America/Los_Angeles:20251130T080000
DTEND;TZID=America/Los_Angeles:20251130T170000
DTSTAMP:20260421T135740
CREATED:20251202T165500Z
LAST-MODIFIED:20251202T165541Z
UID:10009343-1764489600-1764522000@news.csun.edu
SUMMARY:CSUN SHED Gallery Queer Joy Is Radical Parts Of Self
DESCRIPTION:Visit this week’s student exhibit “Queer Joy Is Radical: Parts Of Self”\nSunday\, Nov. 3 – Saturday\, Dec. 6 in the CSUN SHED Gallery.\nThe reception is on Thursday\, Dec. 4 and Friday\, Dec. 5 at 5:00pm – 8:45pm in the SHED Gallery.
URL:https://news.csun.edu/event/12095/
CATEGORIES:Art & Design,Art & Design Department
END:VEVENT
BEGIN:VEVENT
DTSTART;TZID=America/Los_Angeles:20251118T140000
DTEND;TZID=America/Los_Angeles:20251118T160000
DTSTAMP:20260421T135740
CREATED:20251104T202548Z
LAST-MODIFIED:20251104T202626Z
UID:10009218-1763474400-1763481600@news.csun.edu
SUMMARY:Zine Making and Resistant Histories
DESCRIPTION:Make your voice heard—let your zine be seen!\nJoin the Library for this hands-on workshop that will explore how zine-making can be used to document\, share\, and uplift resistant (as opposed to dominant) histories. Participants will learn more about what resistant histories are and will begin creating their own zine. This workshop is part of CSUN Library’s celebration of Native American Heritage Month. \nRegister today and start brainstorming about the stories and lesser-known historical narratives that you care about and want to share with your community. Our librarian facilitators will guide you through shaping your ideas\, gathering information\, and designing your self-published zine. \nNo set theme? No problem—ALL zine ideas and creative expressions are welcome! \nCome\, connect\, and enjoy light snacks while you zine!\nThis event is part of the Library’s activities for Native American Heritage Month. Visit the Library’s Native American Heritage Month Book Display in the lobby for books and literature that celebrate and elevate indigenous voices. \nWhat is a Zine?\nA zine is a small handmade book or magazine that can be self-published and shared. People make zines for many different reasons: to spread the word about an event or political movement\, share information\, start community discussions\, or even to share art. Since the 1930s\, zines have sparked fandoms and been vital to punk and underground scenes\, feminist and queer movements\, and activist networks. They are a radical and countercultural means of self-expression and information-sharing that exist outside of mainstream publishing channels. \nZines are about DIY (do-it-yourself) creativity\, sharing ideas\, and building community. Zines can be printed in small batches on just a few pages and are often small enough to fit in a pocket. There are many styles of zines\, from folded paper to digitally published! All zines are meant to be shared\, copied and passed around. What kind of zine will you create?
URL:https://news.csun.edu/event/zine-making-and-resistant-histories/
LOCATION:University Library: Jack & Florence Ferman Presentation Room
CATEGORIES:Art & Design,Arts and Culture,Heritage Month,Native American
ATTACH;FMTTYPE=image/jpeg:https://news.csun.edu/wp-content/uploads/2025/11/resistant-histories-thumb.jpg
END:VEVENT
BEGIN:VEVENT
DTSTART;TZID=America/Los_Angeles:20251115T100000
DTEND;TZID=America/Los_Angeles:20251115T140000
DTSTAMP:20260421T135740
CREATED:20251017T201554Z
LAST-MODIFIED:20251017T201554Z
UID:10008842-1763200800-1763215200@news.csun.edu
SUMMARY:Holiday Art Market
DESCRIPTION:Join Us at The Holiday Art Market\nWednesday Nov. 12 and Thursday Nov. 13 at 9am – 4pm and Saturday Nov. 15 10am – 2:00 pm in AC 509\nCelebrate the holiday spirit and stop by the Department of Art & Design Holiday Art Market a event filled with creativity and community. Discover a variety of gifts made by local artists\, enjoy live music\, and good vibes. \nPaid parking will be available at the E6 parking lot
URL:https://news.csun.edu/event/holiday-art-market-3/
CATEGORIES:Art & Design,Art & Design Department
ORGANIZER;CN="Art and Design Department":MAILTO:joe.bautista@csun.edu
END:VEVENT
BEGIN:VEVENT
DTSTART;TZID=America/Los_Angeles:20251114T080000
DTEND;TZID=America/Los_Angeles:20251114T170000
DTSTAMP:20260421T135740
CREATED:20251113T170824Z
LAST-MODIFIED:20251113T170956Z
UID:10009249-1763107200-1763139600@news.csun.edu
SUMMARY:CSUN SHED Gallery Pedestrian
DESCRIPTION:Visit this week’s student exhibit “Pedestrian”\nSunday\, Nov. 9 – Friday\, Nov. 14 in the CSUN SHED Gallery.\nThe reception is on Thursday\, Nov. 13 at 4:00pm in the SHED Gallery.
URL:https://news.csun.edu/event/csun-shed-gallery-pedestrian-6/
CATEGORIES:Art & Design,Art & Design Department
END:VEVENT
BEGIN:VEVENT
DTSTART;TZID=America/Los_Angeles:20251113T090000
DTEND;TZID=America/Los_Angeles:20251113T160000
DTSTAMP:20260421T135740
CREATED:20251017T201527Z
LAST-MODIFIED:20251017T201527Z
UID:10008841-1763024400-1763049600@news.csun.edu
SUMMARY:Holiday Art Market
DESCRIPTION:Join Us at The Holiday Art Market\nWednesday Nov. 12 and Thursday Nov. 13 at 9am – 4pm and Saturday Nov. 15 10am – 2:00 pm in AC 509\nCelebrate the holiday spirit and stop by the Department of Art & Design Holiday Art Market a event filled with creativity and community. Discover a variety of gifts made by local artists\, enjoy live music\, and good vibes. \nPaid parking will be available at the E6 parking lot
URL:https://news.csun.edu/event/holiday-art-market-2/
CATEGORIES:Art & Design,Art & Design Department
ORGANIZER;CN="Art and Design Department":MAILTO:joe.bautista@csun.edu
END:VEVENT
BEGIN:VEVENT
DTSTART;TZID=America/Los_Angeles:20251113T080000
DTEND;TZID=America/Los_Angeles:20251113T170000
DTSTAMP:20260421T135740
CREATED:20251113T170118Z
LAST-MODIFIED:20251113T170118Z
UID:10009247-1763020800-1763053200@news.csun.edu
SUMMARY:CSUN SHED Gallery Pedestrian
DESCRIPTION:Visit this week’s student exhibit “Pedestrian”\nSunday\, Nov. 9 – Friday\, Nov. 14 in the CSUN SHED Gallery.\nThe reception is on Thursday\, Nov. 13 at 4:00pm in the SHED Gallery.
URL:https://news.csun.edu/event/csun-shed-gallery-pedestrian-5/
CATEGORIES:Art & Design,Art & Design Department
END:VEVENT
BEGIN:VEVENT
DTSTART;TZID=America/Los_Angeles:20251112T090000
DTEND;TZID=America/Los_Angeles:20251112T160000
DTSTAMP:20260421T135740
CREATED:20251017T201506Z
LAST-MODIFIED:20251017T201506Z
UID:10008840-1762938000-1762963200@news.csun.edu
SUMMARY:Holiday Art Market
DESCRIPTION:Join Us at The Holiday Art Market\nWednesday Nov. 12 and Thursday Nov. 13 at 9am – 4pm and Saturday Nov. 15 10am – 2:00 pm in AC 509\nCelebrate the holiday spirit and stop by the Department of Art & Design Holiday Art Market a event filled with creativity and community. Discover a variety of gifts made by local artists\, enjoy live music\, and good vibes. \nPaid parking will be available at the E6 parking lot
URL:https://news.csun.edu/event/holiday-art-market/
CATEGORIES:Art & Design,Art & Design Department
ORGANIZER;CN="Art and Design Department":MAILTO:joe.bautista@csun.edu
END:VEVENT
BEGIN:VEVENT
DTSTART;TZID=America/Los_Angeles:20251112T080000
DTEND;TZID=America/Los_Angeles:20251112T170000
DTSTAMP:20260421T135740
CREATED:20251113T170106Z
LAST-MODIFIED:20251113T170106Z
UID:10009246-1762934400-1762966800@news.csun.edu
SUMMARY:CSUN SHED Gallery Pedestrian
DESCRIPTION:Visit this week’s student exhibit “Pedestrian”\nSunday\, Nov. 9 – Friday\, Nov. 14 in the CSUN SHED Gallery.\nThe reception is on Thursday\, Nov. 13 at 4:00pm in the SHED Gallery.
URL:https://news.csun.edu/event/csun-shed-gallery-pedestrian-4/
CATEGORIES:Art & Design,Art & Design Department
END:VEVENT
BEGIN:VEVENT
DTSTART;TZID=America/Los_Angeles:20251111T080000
DTEND;TZID=America/Los_Angeles:20251111T170000
DTSTAMP:20260421T135740
CREATED:20251113T170052Z
LAST-MODIFIED:20251113T170052Z
UID:10009245-1762848000-1762880400@news.csun.edu
SUMMARY:CSUN SHED Gallery Pedestrian
DESCRIPTION:Visit this week’s student exhibit “Pedestrian”\nSunday\, Nov. 9 – Friday\, Nov. 14 in the CSUN SHED Gallery.\nThe reception is on Thursday\, Nov. 13 at 4:00pm in the SHED Gallery.
URL:https://news.csun.edu/event/csun-shed-gallery-pedestrian-3/
CATEGORIES:Art & Design,Art & Design Department
END:VEVENT
BEGIN:VEVENT
DTSTART;TZID=America/Los_Angeles:20251110T080000
DTEND;TZID=America/Los_Angeles:20251110T170000
DTSTAMP:20260421T135740
CREATED:20251113T170033Z
LAST-MODIFIED:20251113T170033Z
UID:10009244-1762761600-1762794000@news.csun.edu
SUMMARY:CSUN SHED Gallery Pedestrian
DESCRIPTION:Visit this week’s student exhibit “Pedestrian”\nSunday\, Nov. 9 – Friday\, Nov. 14 in the CSUN SHED Gallery.\nThe reception is on Thursday\, Nov. 13 at 4:00pm in the SHED Gallery.
URL:https://news.csun.edu/event/csun-shed-gallery-pedestrian-2/
CATEGORIES:Art & Design,Art & Design Department
END:VEVENT
BEGIN:VEVENT
DTSTART;TZID=America/Los_Angeles:20251109T080000
DTEND;TZID=America/Los_Angeles:20251109T170000
DTSTAMP:20260421T135740
CREATED:20251113T170013Z
LAST-MODIFIED:20251113T170013Z
UID:10009243-1762675200-1762707600@news.csun.edu
SUMMARY:CSUN SHED Gallery Pedestrian
DESCRIPTION:Visit this week’s student exhibit “Pedestrian”\nSunday\, Nov. 9 – Friday\, Nov. 14 in the CSUN SHED Gallery.\nThe reception is on Thursday\, Nov. 13 at 4:00pm in the SHED Gallery.
URL:https://news.csun.edu/event/csun-shed-gallery-pedestrian/
CATEGORIES:Art & Design,Art & Design Department
END:VEVENT
BEGIN:VEVENT
DTSTART;TZID=America/Los_Angeles:20251108T080000
DTEND;TZID=America/Los_Angeles:20251108T170000
DTSTAMP:20260421T135740
CREATED:20251104T180306Z
LAST-MODIFIED:20251104T180306Z
UID:10009209-1762588800-1762621200@news.csun.edu
SUMMARY:CSUN SHED Gallery Cycles
DESCRIPTION:Visit this week’s student group exhibit “Cycles”\nMonday\, Nov. 3 – Saturday\, Nov. 8 in the CSUN SHED Gallery.\nThe reception is on Thursday\, Nov. 6\, 5pm-6:30pm in the SHED Gallery.
URL:https://news.csun.edu/event/csun-shed-gallery-cycles-6/
CATEGORIES:Art & Design,Art & Design Department
END:VEVENT
BEGIN:VEVENT
DTSTART;TZID=America/Los_Angeles:20251107T080000
DTEND;TZID=America/Los_Angeles:20251107T170000
DTSTAMP:20260421T135740
CREATED:20251104T180242Z
LAST-MODIFIED:20251104T180242Z
UID:10009208-1762502400-1762534800@news.csun.edu
SUMMARY:CSUN SHED Gallery Cycles
DESCRIPTION:Visit this week’s student group exhibit “Cycles”\nMonday\, Nov. 3 – Saturday\, Nov. 8 in the CSUN SHED Gallery.\nThe reception is on Thursday\, Nov. 6\, 5pm-6:30pm in the SHED Gallery.
URL:https://news.csun.edu/event/csun-shed-gallery-cycles-5/
CATEGORIES:Art & Design,Art & Design Department
END:VEVENT
BEGIN:VEVENT
DTSTART;TZID=America/Los_Angeles:20251106T080000
DTEND;TZID=America/Los_Angeles:20251106T170000
DTSTAMP:20260421T135740
CREATED:20251104T180029Z
LAST-MODIFIED:20251104T180029Z
UID:10009207-1762416000-1762448400@news.csun.edu
SUMMARY:CSUN SHED Gallery Cycles
DESCRIPTION:Visit this week’s student group exhibit “Cycles”\nMonday\, Nov. 3 – Saturday\, Nov. 8 in the CSUN SHED Gallery.\nThe reception is on Thursday\, Nov. 6\, 5pm-6:30pm in the SHED Gallery.
URL:https://news.csun.edu/event/csun-shed-gallery-cycles-4/
CATEGORIES:Art & Design,Art & Design Department
END:VEVENT
END:VCALENDAR