BEGIN:VCALENDAR
VERSION:2.0
PRODID:-//CSUN News &amp; Events - ECPv6.11.2//NONSGML v1.0//EN
CALSCALE:GREGORIAN
METHOD:PUBLISH
X-ORIGINAL-URL:https://news.csun.edu
X-WR-CALDESC:Events for CSUN News &amp; Events
REFRESH-INTERVAL;VALUE=DURATION:PT1H
X-Robots-Tag:noindex
X-PUBLISHED-TTL:PT1H
BEGIN:VTIMEZONE
TZID:America/Los_Angeles
BEGIN:DAYLIGHT
TZOFFSETFROM:-0800
TZOFFSETTO:-0700
TZNAME:PDT
DTSTART:20260308T100000
END:DAYLIGHT
BEGIN:STANDARD
TZOFFSETFROM:-0700
TZOFFSETTO:-0800
TZNAME:PST
DTSTART:20261101T090000
END:STANDARD
END:VTIMEZONE
BEGIN:VEVENT
DTSTART;TZID=America/Los_Angeles:20260423T163000
DTEND;TZID=America/Los_Angeles:20260423T173000
DTSTAMP:20260423T164102
CREATED:20260423T201344Z
LAST-MODIFIED:20260423T201344Z
UID:10011404-1776961800-1776965400@news.csun.edu
SUMMARY:Healing Ragas: Sound\, Breath\, and Transformation in Indian Classical Music
DESCRIPTION:Featuring Fulbright Scholar Robin Sukhadia\, student of virtuoso tabla maestro Pandit Swapan Chaudhuri \nApril 23\, 2026 @ The Glenn Omatsu House\, 18356 Halsted Street \n4:30 PM-5:30 PM Immersion Workshop \n5:30 PM-7:30 PM South Asian Food & Decompression
URL:https://news.csun.edu/event/healing-ragas-sound-breath-and-transformation-in-indian-classical-music/2026-04-23/1/
LOCATION:The Glenn Omatsu House\, 18356 Halsted Avenue\, Northridge\, 91330\, United States
CATEGORIES:APIDA,APIDA Heritage Month,Asian American Studies
ATTACH;FMTTYPE=application/pdf:https://news.csun.edu/wp-content/uploads/2026/04/DS-TransformationinIndianClassicalMusic.pdf
END:VEVENT
BEGIN:VEVENT
DTSTART;TZID=America/Los_Angeles:20260423T163000
DTEND;TZID=America/Los_Angeles:20260423T193000
DTSTAMP:20260423T164102
CREATED:20260421T032534Z
LAST-MODIFIED:20260421T032534Z
UID:10011364-1776961800-1776972600@news.csun.edu
SUMMARY:Healing Ragas
DESCRIPTION:Healing Ragas: Sound\, Breath\, and Transformation in Indian Classical Music is an immersive cultural and wellness experience featuring Robin Sukhadia\, a Fulbright Scholar and student of renowned tabla maestro Pandit Swapan Chaudhuri. This program invites participants to explore the foundations of Indian classical music through raga (melodic frameworks) and tala (rhythmic cycles)\, while engaging in practices that connect sound\, breath\, and mindfulness. \nThe event begins with a hands-on immersion workshop (4:30–5:30 PM) where attendees will learn about rhythm\, breathwork\, and the meditative qualities of music as tools for grounding and transformation. Following the workshop\, attendees are invited to continue the experience over South Asian food (5:30–7:30 PM)\, fostering connection\, reflection\, and shared learning in a welcoming space. \nEvent Collaborators: APIDA Resource Center\, Asian American Studies Pathways Project\, Asian American Studies
URL:https://news.csun.edu/event/healing-ragas/
LOCATION:The Glenn Omatsu House\, 18356 Halsted Avenue\, Northridge\, 91330\, United States
CATEGORIES:APIDA,APIDA,APIDA Heritage Month,APIDA Resource Center,Asian American Studies,Asian American Studies Pathways Project,Heritage Month,Heritage Month Events
ATTACH;FMTTYPE=image/png:https://news.csun.edu/wp-content/uploads/2026/04/heritage-month-apida-healing-ragas-2026.png
END:VEVENT
BEGIN:VEVENT
DTSTART;TZID=America/Los_Angeles:20260423T173000
DTEND;TZID=America/Los_Angeles:20260423T193000
DTSTAMP:20260423T164102
CREATED:20260423T201344Z
LAST-MODIFIED:20260423T201344Z
UID:10011405-1776965400-1776972600@news.csun.edu
SUMMARY:Healing Ragas: Sound\, Breath\, and Transformation in Indian Classical Music
DESCRIPTION:Featuring Fulbright Scholar Robin Sukhadia\, student of virtuoso tabla maestro Pandit Swapan Chaudhuri \nApril 23\, 2026 @ The Glenn Omatsu House\, 18356 Halsted Street \n4:30 PM-5:30 PM Immersion Workshop \n5:30 PM-7:30 PM South Asian Food & Decompression
URL:https://news.csun.edu/event/healing-ragas-sound-breath-and-transformation-in-indian-classical-music/2026-04-23/2/
LOCATION:The Glenn Omatsu House\, 18356 Halsted Avenue\, Northridge\, 91330\, United States
CATEGORIES:APIDA,APIDA Heritage Month,Asian American Studies
ATTACH;FMTTYPE=application/pdf:https://news.csun.edu/wp-content/uploads/2026/04/DS-TransformationinIndianClassicalMusic.pdf
END:VEVENT
BEGIN:VEVENT
DTSTART;TZID=America/Los_Angeles:20260428T100000
DTEND;TZID=America/Los_Angeles:20260428T111500
DTSTAMP:20260423T164102
CREATED:20260421T033653Z
LAST-MODIFIED:20260421T035601Z
UID:10011365-1777370400-1777374900@news.csun.edu
SUMMARY:APIDA in Action: Activism and Political Engagement
DESCRIPTION:Join the CSUN Asian American Studies Pathways Project for a discussion on the role of people power and community engagement in politics with Reverend Rae Huang and City Controller of Los Angeles\, Kenneth Mejia. Event Collaborators: Asian American Studies Pathways Project\, Faculty Tracy Buenavista\, Asian American Studies\, Ethnic Studies Center.
URL:https://news.csun.edu/event/apida-in-action-activism-and-political-engagement/
LOCATION:USU Flintridge Room
CATEGORIES:APIDA,APIDA,APIDA Heritage Month,APIDA Resource Center,Asian American Studies,Asian American Studies Pathways Project,Heritage Month,Heritage Month Events
ATTACH;FMTTYPE=image/png:https://news.csun.edu/wp-content/uploads/2026/04/heritage-month-apida-in-action-activism-political-engagement-2026.png
END:VEVENT
BEGIN:VEVENT
DTSTART;TZID=America/Los_Angeles:20260428T100000
DTEND;TZID=America/Los_Angeles:20260428T233000
DTSTAMP:20260423T164102
CREATED:20260417T172038Z
LAST-MODIFIED:20260421T035116Z
UID:10011354-1777370400-1777419000@news.csun.edu
SUMMARY:APIDAs in Action: Activism and Political Engagement
DESCRIPTION:Join the CSUN Asian American Studies Pathways Project for a discussion on the role of people power and community engagement in politics with Reverend Rae Huang and City Controller of Los Angeles\, Kenneth Mejia. \nTuesday\, April 28\, 2026\n10:00–11:15 a.m. \nFlintridge Room\, USU 2nd Floor of East Conference Center
URL:https://news.csun.edu/event/apidas-in-action-activism-and-political-engagement/
LOCATION:Flintridge Room\, East Conference Center\, University Student Union\, 18111 Nordhoff St.\, Northridge\, CA\, 91330-8272\, United States
CATEGORIES:APIDA,Asian American Studies
ATTACH;FMTTYPE=application/pdf:https://news.csun.edu/wp-content/uploads/2026/04/APIDAs-in-Action-Email-Room-Change_compressed.pdf
GEO:34.2398884365;-118.525449213
X-APPLE-STRUCTURED-LOCATION;VALUE=URI;X-ADDRESS=Flintridge Room East Conference Center University Student Union 18111 Nordhoff St. Northridge CA 91330-8272 United States;X-APPLE-RADIUS=500;X-TITLE=18111 Nordhoff St.:geo:-118.525449213,34.2398884365
END:VEVENT
BEGIN:VEVENT
DTSTART;TZID=America/Los_Angeles:20260430T180000
DTEND;TZID=America/Los_Angeles:20260430T200000
DTSTAMP:20260423T164102
CREATED:20260423T185003Z
LAST-MODIFIED:20260423T185255Z
UID:10011396-1777572000-1777579200@news.csun.edu
SUMMARY:Los Angeles Asian Pacific Film Festival
DESCRIPTION:Los Angeles Asian Pacific Film Festival RSVP\n\nApril 30th\, Thursday\, 6 pm: Pacific Cinewaves: Every Body of Water is a Mirror\, Directors Guild of America.\nMay 1st\, Friday\, 5:30 pm: Armed with a Camera\, Shorts program Directors Guild of America Shorts\nMay 2nd\, Saturday\, 5:30 pm: The Auntie Sewing Squad Resistance Playbook\, Documentary Democracy Center at the Japanese American National Museum. Followed by dinner. Round trip transportation from CSUN is available.\nMay 2nd\, Saturday\, 8 pm: Pinch\, AMC Atlantic Times Square 14\nMat 3rd\, Sunday\, 4 pm: Digital Stories\, Documentary Shorts Program Democracy Center at the Japanese American National Museum. Followed by dinner. Round trip transportation from CSUN is available.\n\nCo-sponsored By The Associated Students Ira Program\, Ethnic Studies Ab 1460 Funds\, And Csu ASAP Funds
URL:https://news.csun.edu/event/los-angeles-asian-pacific-film-festival/2026-04-30/
CATEGORIES:APIDA
ATTACH;FMTTYPE=application/pdf:https://news.csun.edu/wp-content/uploads/2026/04/Grey-Classic-Screening-Film-Festival-Event-Flyer-1.pdf
END:VEVENT
BEGIN:VEVENT
DTSTART;TZID=America/Los_Angeles:20260501T173000
DTEND;TZID=America/Los_Angeles:20260501T193000
DTSTAMP:20260423T164102
CREATED:20260423T185003Z
LAST-MODIFIED:20260423T185255Z
UID:10011397-1777656600-1777663800@news.csun.edu
SUMMARY:Los Angeles Asian Pacific Film Festival
DESCRIPTION:Los Angeles Asian Pacific Film Festival RSVP\n\nApril 30th\, Thursday\, 6 pm: Pacific Cinewaves: Every Body of Water is a Mirror\, Directors Guild of America.\nMay 1st\, Friday\, 5:30 pm: Armed with a Camera\, Shorts program Directors Guild of America Shorts\nMay 2nd\, Saturday\, 5:30 pm: The Auntie Sewing Squad Resistance Playbook\, Documentary Democracy Center at the Japanese American National Museum. Followed by dinner. Round trip transportation from CSUN is available.\nMay 2nd\, Saturday\, 8 pm: Pinch\, AMC Atlantic Times Square 14\nMat 3rd\, Sunday\, 4 pm: Digital Stories\, Documentary Shorts Program Democracy Center at the Japanese American National Museum. Followed by dinner. Round trip transportation from CSUN is available.\n\nCo-sponsored By The Associated Students Ira Program\, Ethnic Studies Ab 1460 Funds\, And Csu ASAP Funds
URL:https://news.csun.edu/event/los-angeles-asian-pacific-film-festival/2026-05-01/
CATEGORIES:APIDA
ATTACH;FMTTYPE=application/pdf:https://news.csun.edu/wp-content/uploads/2026/04/Grey-Classic-Screening-Film-Festival-Event-Flyer-1.pdf
END:VEVENT
BEGIN:VEVENT
DTSTART;TZID=America/Los_Angeles:20260502T173000
DTEND;TZID=America/Los_Angeles:20260502T193000
DTSTAMP:20260423T164102
CREATED:20260423T185003Z
LAST-MODIFIED:20260423T185255Z
UID:10011398-1777743000-1777750200@news.csun.edu
SUMMARY:Los Angeles Asian Pacific Film Festival
DESCRIPTION:Los Angeles Asian Pacific Film Festival RSVP\n\nApril 30th\, Thursday\, 6 pm: Pacific Cinewaves: Every Body of Water is a Mirror\, Directors Guild of America.\nMay 1st\, Friday\, 5:30 pm: Armed with a Camera\, Shorts program Directors Guild of America Shorts\nMay 2nd\, Saturday\, 5:30 pm: The Auntie Sewing Squad Resistance Playbook\, Documentary Democracy Center at the Japanese American National Museum. Followed by dinner. Round trip transportation from CSUN is available.\nMay 2nd\, Saturday\, 8 pm: Pinch\, AMC Atlantic Times Square 14\nMat 3rd\, Sunday\, 4 pm: Digital Stories\, Documentary Shorts Program Democracy Center at the Japanese American National Museum. Followed by dinner. Round trip transportation from CSUN is available.\n\nCo-sponsored By The Associated Students Ira Program\, Ethnic Studies Ab 1460 Funds\, And Csu ASAP Funds
URL:https://news.csun.edu/event/los-angeles-asian-pacific-film-festival/2026-05-02/1/
CATEGORIES:APIDA
ATTACH;FMTTYPE=application/pdf:https://news.csun.edu/wp-content/uploads/2026/04/Grey-Classic-Screening-Film-Festival-Event-Flyer-1.pdf
END:VEVENT
BEGIN:VEVENT
DTSTART;TZID=America/Los_Angeles:20260502T200000
DTEND;TZID=America/Los_Angeles:20260502T220000
DTSTAMP:20260423T164102
CREATED:20260423T185003Z
LAST-MODIFIED:20260423T185255Z
UID:10011399-1777752000-1777759200@news.csun.edu
SUMMARY:Los Angeles Asian Pacific Film Festival
DESCRIPTION:Los Angeles Asian Pacific Film Festival RSVP\n\nApril 30th\, Thursday\, 6 pm: Pacific Cinewaves: Every Body of Water is a Mirror\, Directors Guild of America.\nMay 1st\, Friday\, 5:30 pm: Armed with a Camera\, Shorts program Directors Guild of America Shorts\nMay 2nd\, Saturday\, 5:30 pm: The Auntie Sewing Squad Resistance Playbook\, Documentary Democracy Center at the Japanese American National Museum. Followed by dinner. Round trip transportation from CSUN is available.\nMay 2nd\, Saturday\, 8 pm: Pinch\, AMC Atlantic Times Square 14\nMat 3rd\, Sunday\, 4 pm: Digital Stories\, Documentary Shorts Program Democracy Center at the Japanese American National Museum. Followed by dinner. Round trip transportation from CSUN is available.\n\nCo-sponsored By The Associated Students Ira Program\, Ethnic Studies Ab 1460 Funds\, And Csu ASAP Funds
URL:https://news.csun.edu/event/los-angeles-asian-pacific-film-festival/2026-05-02/2/
CATEGORIES:APIDA
ATTACH;FMTTYPE=application/pdf:https://news.csun.edu/wp-content/uploads/2026/04/Grey-Classic-Screening-Film-Festival-Event-Flyer-1.pdf
END:VEVENT
BEGIN:VEVENT
DTSTART;TZID=America/Los_Angeles:20260503T160000
DTEND;TZID=America/Los_Angeles:20260503T180000
DTSTAMP:20260423T164102
CREATED:20260423T185003Z
LAST-MODIFIED:20260423T185255Z
UID:10011400-1777824000-1777831200@news.csun.edu
SUMMARY:Los Angeles Asian Pacific Film Festival
DESCRIPTION:Los Angeles Asian Pacific Film Festival RSVP\n\nApril 30th\, Thursday\, 6 pm: Pacific Cinewaves: Every Body of Water is a Mirror\, Directors Guild of America.\nMay 1st\, Friday\, 5:30 pm: Armed with a Camera\, Shorts program Directors Guild of America Shorts\nMay 2nd\, Saturday\, 5:30 pm: The Auntie Sewing Squad Resistance Playbook\, Documentary Democracy Center at the Japanese American National Museum. Followed by dinner. Round trip transportation from CSUN is available.\nMay 2nd\, Saturday\, 8 pm: Pinch\, AMC Atlantic Times Square 14\nMat 3rd\, Sunday\, 4 pm: Digital Stories\, Documentary Shorts Program Democracy Center at the Japanese American National Museum. Followed by dinner. Round trip transportation from CSUN is available.\n\nCo-sponsored By The Associated Students Ira Program\, Ethnic Studies Ab 1460 Funds\, And Csu ASAP Funds
URL:https://news.csun.edu/event/los-angeles-asian-pacific-film-festival/2026-05-03/
CATEGORIES:APIDA
ATTACH;FMTTYPE=application/pdf:https://news.csun.edu/wp-content/uploads/2026/04/Grey-Classic-Screening-Film-Festival-Event-Flyer-1.pdf
END:VEVENT
END:VCALENDAR