BEGIN:VCALENDAR
VERSION:2.0
PRODID:-//CSUN News &amp; Events - ECPv6.11.2//NONSGML v1.0//EN
CALSCALE:GREGORIAN
METHOD:PUBLISH
X-WR-CALNAME:CSUN News &amp; Events
X-ORIGINAL-URL:https://news.csun.edu
X-WR-CALDESC:Events for CSUN News &amp; Events
REFRESH-INTERVAL;VALUE=DURATION:PT1H
X-Robots-Tag:noindex
X-PUBLISHED-TTL:PT1H
BEGIN:VTIMEZONE
TZID:America/Los_Angeles
BEGIN:DAYLIGHT
TZOFFSETFROM:-0800
TZOFFSETTO:-0700
TZNAME:PDT
DTSTART:20240310T100000
END:DAYLIGHT
BEGIN:STANDARD
TZOFFSETFROM:-0700
TZOFFSETTO:-0800
TZNAME:PST
DTSTART:20241103T090000
END:STANDARD
END:VTIMEZONE
BEGIN:VEVENT
DTSTART;TZID=America/Los_Angeles:20241210T180000
DTEND;TZID=America/Los_Angeles:20241210T203000
DTSTAMP:20260419T051057
CREATED:20241030T214123Z
LAST-MODIFIED:20241202T183150Z
UID:10004586-1733853600-1733862600@news.csun.edu
SUMMARY:Alumni Attorney Networking Group Mixer
DESCRIPTION:Join the CSUN Alumni Attorney Networking Group for our annual mixer at Larsen’s Steakhouse! \nEnjoy heavy appetizers and happy hour drinks! \nDate: December 10 \nTime: 6:00 – 8:30 p.m. \nLocation: Larsen’s Steakhouse\, 16101 Ventura Blvd\, Encino\, CA 91436 \nCost: Free \nThis will be a great opportunity to connect in-person\, so don’t miss it! \nREGISTER FOR THIS EVENT \n___________________________________________________________ \n  \nThis event is sponsored by JBA International. \nJoanna Buickians\, the head of Business Development/Operations and New Market Strategy at JBA International\, will share JBA resources. \n \nUnlock unparalleled experience in legal recruiting with JBA as your partner. Backed by a proven track record\, we offer a personalized approach to match top-tier legal talent with your unique organizational needs. Trust in our dedication\, industry insights\, and a commitment to cultivating a legal team that propels your success forward. From legal secretaries\, paralegals\, associate attorneys to senior attorneys\, partners\, and of-counsel positions\, we have you covered across many different industries of law. \nWe encourage those who require visual\, auditory or mobility assistance to attend. Please contact Hannah Labra by December 2.
URL:https://news.csun.edu/event/alumni-attorney-networking-group-mixer/
LOCATION:Larsen’s Steakhouse\, 16101 Ventura Boulevard\, Encino\, CA\, 91436
CATEGORIES:Alumni,Alumni Chapters
ATTACH;FMTTYPE=image/png:https://news.csun.edu/wp-content/uploads/2024/08/ANG-Standar-Email-Banner-031124.png
END:VEVENT
END:VCALENDAR