BEGIN:VCALENDAR
VERSION:2.0
PRODID:-//CSUN News &amp; Events - ECPv6.11.2//NONSGML v1.0//EN
CALSCALE:GREGORIAN
METHOD:PUBLISH
X-ORIGINAL-URL:https://news.csun.edu
X-WR-CALDESC:Events for CSUN News &amp; Events
REFRESH-INTERVAL;VALUE=DURATION:PT1H
X-Robots-Tag:noindex
X-PUBLISHED-TTL:PT1H
BEGIN:VTIMEZONE
TZID:America/Los_Angeles
BEGIN:DAYLIGHT
TZOFFSETFROM:-0800
TZOFFSETTO:-0700
TZNAME:PDT
DTSTART:20260308T100000
END:DAYLIGHT
BEGIN:STANDARD
TZOFFSETFROM:-0700
TZOFFSETTO:-0800
TZNAME:PST
DTSTART:20261101T090000
END:STANDARD
END:VTIMEZONE
BEGIN:VEVENT
DTSTART;TZID=America/Los_Angeles:20260425T180000
DTEND;TZID=America/Los_Angeles:20260425T210000
DTSTAMP:20260423T143802
CREATED:20251201T214608Z
LAST-MODIFIED:20260420T162701Z
UID:10009341-1777140000-1777150800@news.csun.edu
SUMMARY:CSUN Journalism Hall of Fame
DESCRIPTION:  \nJoin us as we celebrate journalism department alumni for their commitment to truth\, accountability and impact. Categories will honor professionals whose careers span the time of typewriters to TikTok — seasoned professionals with at least 20 years of experience and rising stars with 5-10 years of experience. \nCategories include print\, broadcast\, public relations\, digital media\, journalism education\, business/government and non-profit fields. \nExpect powerful stories as we honor friends and colleagues\, and an opportunity to reconnect and reminisce with fellow alumni. \nDate: Saturday\, April 25\, 2026 \nTime: 6:00 to 9:00 p.m. \nA tour of student media is also available\, and begins promptly at 5:00 p.m.  \nThe tour will last approximately 60 minutes. If you’d like to participate\, please email jour99@csun.edu to be added to the list. \nLocation: Orchard Conference Center \nCost: $75 \nREGISTRATION IS CLOSED\nQuestions may be directed to the Journalism Alumni Association. \nSUPPORT THE ONLINE AUCTION\nBidding closes on April 25 at 9:15 p.m. \nWinner need not be present. Shipping available. \nNet proceeds from the event support the Journalism Department\, further empowering students to become well-educated journalists\, public relations practitioners and related communication professionals. \nCan’t attend but want to support the Journalism Department? \nYou can help fund the future of Journalism at CSUN by making a donation HERE. \nCSUN Journalism Hall of Fame Inductees \nThe Journalism Alumni Association is pleased to announce the 2026 CSUN Journalism Hall of Fame inductees and Rising Star Award recipients: \nAna Kasparian\nDigital journalist and executive producer of “The Young Turks” \nPaul Pringle\nPulitzer Prize-winning investigative journalist\, Los Angeles Times and author of “Bad City: Peril and Power in the City of Angels” \nBarbara Starr\nEmmy Award-winning national security journalist and former CNN Pentagon correspondent \nMilt Valera\nChairman of the National Notary Association and philanthropist \nKim Wyard\nChief Executive Officer\, Northeast Valley Health Corporation \nJim Yeager\nPublic relations strategist and founder of Breakwhitelight\, a full-service marketing agency \nRising Star Recipients \nStar Harvey\nBroadcast journalist and meteorologist at FOX 11 Los Angeles \nOrlando Mayorquín\nReporter for The New York Times \nHonorees were selected through an open nomination process and evaluated on their career accomplishments.
URL:https://news.csun.edu/event/journalism-alumni-association-hall-of-fame/
LOCATION:Orchard Conference Center\, 18111 Nordhoff Street\, Northridge\, CA\, 91330\, United States
CATEGORIES:Alumni,Alumni Chapters
ATTACH;FMTTYPE=image/jpeg:https://news.csun.edu/wp-content/uploads/2025/12/CSUN-Journalism_Hall-of-Fame.jpg
END:VEVENT
END:VCALENDAR