BEGIN:VCALENDAR
VERSION:2.0
PRODID:-//CSUN News &amp; Events - ECPv6.11.2//NONSGML v1.0//EN
CALSCALE:GREGORIAN
METHOD:PUBLISH
X-ORIGINAL-URL:https://news.csun.edu
X-WR-CALDESC:Events for CSUN News &amp; Events
REFRESH-INTERVAL;VALUE=DURATION:PT1H
X-Robots-Tag:noindex
X-PUBLISHED-TTL:PT1H
BEGIN:VTIMEZONE
TZID:America/Los_Angeles
BEGIN:DAYLIGHT
TZOFFSETFROM:-0800
TZOFFSETTO:-0700
TZNAME:PDT
DTSTART:20260308T100000
END:DAYLIGHT
BEGIN:STANDARD
TZOFFSETFROM:-0700
TZOFFSETTO:-0800
TZNAME:PST
DTSTART:20261101T090000
END:STANDARD
END:VTIMEZONE
BEGIN:VEVENT
DTSTART;VALUE=DATE:20260410
DTEND;VALUE=DATE:20260411
DTSTAMP:20260421T175103
CREATED:20260411T063842Z
LAST-MODIFIED:20260411T063842Z
UID:10011336-1775779200-1775865599@news.csun.edu
SUMMARY:A Lifetime Opportunity!
DESCRIPTION:(By Areeya Lena Tivasuradej\, China Council Scholarship Recipient) \nChengdu is indeed a layback city as they claim. One thing that grasped my heart was the abundance of tea houses or tea gardens. Walking through a tea house\, you can hear the locals chatting loudly in thick Sichuan dialect interrupted occasionally by the sound of crashing mahjong tiles and the cracking sound of peanuts. Once in a while\, you will hear a high pitch jingle sound from the “ear cleaners.” This autumn was often warm and sunny\, something that was odd in the cloudy Chengdu\, but the humidity hit the hardest as winter crawled. The lack of sunlight mixed with a little bit of air pollution made everyday feel too cold for a Southern Californian who felt homesick every time the sun peaked out. I spent the first two months strolling around the city silently with my poor Chinese to get familiar with my new home. Chengdu is not big but it is nevertheless full of places to be explored. The famous attractions\, to name a few\, are the panda reserve\, Dufu Cottage\, Sichuan Museum\, and Qing Yang Temple. The periphery of Chengdu is definitely not to be ignored with the prestigious Emei Mountain and the Giant Buddha at Le Shan Mountain. Two hours and a half of high speed railway also took me to Chengdu’s hilly competitor\, Chongqing. When asked the locals from the two cities\, the comparisons reminded me of the Los Angeles versus San Francisco debate. \nThe most welcoming feeling I received was from my supervisor and his graduate students. It was difficult for me the first couple of months to communicate with them because I basically knew zero Chinese\, but they tried to dig out every English word they remembered and occasionally used their cell phones for accurate translation. In the meantime\, I spent the weekdays in Chinese language classes and once a week to practice tai ji and Chinese calligraphy. Chinese culture is very different from American. I learned from my own mistakes and from both international and Chinese students’ anecdotes. Funny thing is the birthday boy/girl has to buy his/her friends dinner not the friends. I made more Chinese friends as my Chinese progress. Aside from learning\, I also taught English twice a week to college freshmen and sophomores and volunteered with a local environmentaloriented NGO. \nNext semester\, I will be teaching a class on geographical information system to entering graduate students. Of course\, it will be in English. By the end of the scholarship\, I hope to take the Chinese language standardized test (HSK). The scholarship undeniably gave me a once in a lifetime opportunity to study in China. The opportunity I always dreamt about but never thought it would come true. Thank you\, Dr. Sun\, Dr. Su\, and everyone at CSUN China Institute for giving me this opportunity.
URL:https://news.csun.edu/event/a-lifetime-opportunity/
CATEGORIES:Academics,College of humanities,Cultural Studies
ATTACH;FMTTYPE=image/jpeg:https://news.csun.edu/wp-content/uploads/2025/08/Areeya-with-friends-in-China_L.jpg
END:VEVENT
BEGIN:VEVENT
DTSTART;VALUE=DATE:20260410
DTEND;VALUE=DATE:20260411
DTSTAMP:20260421T175103
CREATED:20260411T065340Z
LAST-MODIFIED:20260411T065340Z
UID:10011337-1775779200-1775865599@news.csun.edu
SUMMARY:Shielding the Community: CSUN Creates\, Donates Protective Gear for Health Care Workers
DESCRIPTION:[Bingbing Li\, CSUN assistant professor of Manufacturing Systems Engineering\, wears a face shield created in his lab. Li is using 3D printers to create more than 1\,500 face shields for health care workers throughout Los Angeles. Photo courtesy of Bingbing Li.] \n  \nIn a show of unity and collaboration\, CSUN departments across campus are working together to create potentially life-saving face shields for health care workers facing the surge of COVID-19 patients in Los Angeles. \nBingbing Li\, assistant professor of Manufacturing Systems Engineering and Management at CSUN\, has been working hard to create face shields for an intensive care unit for COVID-19 at Barlow Respiratory Hospital in Echo Park. The unit\, run by the UCLA pulmonary and critical care team\, is preparing to accept COVID-19 patients from other hospitals. Li will also make face shields for Keck Medical Center of USC’s Division of Pulmonary\, Critical Care and Sleep Medicine (PCCSM) and Beverly Community Hospital. In total\, he plans to make more than 1\,500 face shields that will be donated to hospitals throughout Southern California. \nRead the story in the CSUN Today. \n 
URL:https://news.csun.edu/event/shielding-the-community-csun-creates-donates-protective-gear-for-health-care-workers/
CATEGORIES:Academics
ATTACH;FMTTYPE=image/jpeg:https://news.csun.edu/wp-content/uploads/2025/08/shielding-community.jpg
END:VEVENT
END:VCALENDAR