BEGIN:VCALENDAR
VERSION:2.0
PRODID:-//CSUN News &amp; Events - ECPv6.11.2//NONSGML v1.0//EN
CALSCALE:GREGORIAN
METHOD:PUBLISH
X-ORIGINAL-URL:https://news.csun.edu
X-WR-CALDESC:Events for CSUN News &amp; Events
REFRESH-INTERVAL;VALUE=DURATION:PT1H
X-Robots-Tag:noindex
X-PUBLISHED-TTL:PT1H
BEGIN:VTIMEZONE
TZID:America/Los_Angeles
BEGIN:DAYLIGHT
TZOFFSETFROM:-0800
TZOFFSETTO:-0700
TZNAME:PDT
DTSTART:20260308T100000
END:DAYLIGHT
BEGIN:STANDARD
TZOFFSETFROM:-0700
TZOFFSETTO:-0800
TZNAME:PST
DTSTART:20261101T090000
END:STANDARD
END:VTIMEZONE
BEGIN:VEVENT
DTSTART;VALUE=DATE:20260227
DTEND;VALUE=DATE:20260510
DTSTAMP:20260419T060514
CREATED:20260121T225753Z
LAST-MODIFIED:20260122T212618Z
UID:10010243-1772150400-1778371199@news.csun.edu
SUMMARY:American Red Cross CPR/First-Aid/AED Classes
DESCRIPTION:Get certified and equipped with important life-saving skills through American Red Cross Adult and Pediatric CPR/First-Aid/AED training! Learn to respond to cardio-respiratory emergencies calmly and confidently through this hands-on course. Check your email after you register for instructions.   \n  \nRegister on the SRC Portal or at the SRC Front Desk today!   \n  \nDo you need interpretation for an event? If so\, please fill out the Interpreting Services Request Form at least seven business days prior to the event. 
URL:https://news.csun.edu/event/american-red-cross-cpr-first-aid-aed-classes/
LOCATION:Student Recreation Center\, University Student Union\, 18111 Nordhoff St.\, Northridge\, CA\, 91330-8449\, United States
CATEGORIES:Student Recreation Center,University Student Union
ATTACH;FMTTYPE=image/png:https://news.csun.edu/wp-content/uploads/2026/01/Calendar_AmericanRedCrossCPR_SP26.png
ORGANIZER;CN="USU Student Recreation Center":MAILTO:src@csun.edu
GEO:34.2397767274;-118.525089862
X-APPLE-STRUCTURED-LOCATION;VALUE=URI;X-ADDRESS=Student Recreation Center University Student Union 18111 Nordhoff St. Northridge CA 91330-8449 United States;X-APPLE-RADIUS=500;X-TITLE=18111 Nordhoff St.:geo:-118.525089862,34.2397767274
END:VEVENT
BEGIN:VEVENT
DTSTART;VALUE=DATE:20260302
DTEND;VALUE=DATE:20260509
DTSTAMP:20260419T060514
CREATED:20260203T231043Z
LAST-MODIFIED:20260224T220716Z
UID:10010499-1772409600-1778284799@news.csun.edu
SUMMARY:Spring 2026 Intramural Sports Season
DESCRIPTION:Sign up through Fusion Play today and get ready to bring the heat!   \nBasketball March 2 – May 8 Red Ring Courts   \nAll-Rec: Wednesdays\, 6 – 8 p.m.  \nSorority: Wednesdays\, 5 – 6 p.m.  \nMen’s/Fraternity: Thursdays\, 5 – 9 p.m.  \nUltimate Frisbee March 2 – April 10 Turf Field  \nFraternity: Fridays\, 4 – 5 p.m.  \nAll-Rec: Fridays\, 3 – 4 p.m.   \nMen’s: Fridays\, 4 – 5 p.m.  \nSorority: Fridays\, 3 – 4 p.m.  \nVolleyball March 2 – May 8 Red Ring Courts  \nAll-Rec: Fridays\, 3 – 5 p.m.  \nIndoor Soccer March 2 – May 8  MatArena  \nAll Rec: Wednesdays\, 5 – 7 p.m.  \nFraternity: Tuesdays\, 7 – 9 p.m.  \nMen’s: Wednesdays\, 7 – 9 p.m.  \nSorority: Tuesdays\, 5 – 7 p.m.  \nSoftball April 12 – May 8 Turf Field  \nAll Rec: Fridays\, 6 – 8p.m.  \nMen’s: Fridays\, 4 – 6 p.m.  \nFraternity: Fridays\, 4 – 6 p.m.  \nSorority: Fridays\, 3 – 5 p.m.  
URL:https://news.csun.edu/event/spring-2026-intramural-sports-season-registration/
LOCATION:Student Recreation Center\, University Student Union\, 18111 Nordhoff St.\, Northridge\, CA\, 91330-8449\, United States
CATEGORIES:Student Recreation Center,University Student Union
ATTACH;FMTTYPE=image/png:https://news.csun.edu/wp-content/uploads/2026/02/Calendar-IntramuralSports-SP26.png
ORGANIZER;CN="USU Student Recreation Center":MAILTO:src@csun.edu
GEO:34.2397767274;-118.525089862
X-APPLE-STRUCTURED-LOCATION;VALUE=URI;X-ADDRESS=Student Recreation Center University Student Union 18111 Nordhoff St. Northridge CA 91330-8449 United States;X-APPLE-RADIUS=500;X-TITLE=18111 Nordhoff St.:geo:-118.525089862,34.2397767274
END:VEVENT
BEGIN:VEVENT
DTSTART;VALUE=DATE:20260309
DTEND;VALUE=DATE:20260404
DTSTAMP:20260419T060514
CREATED:20260210T235338Z
LAST-MODIFIED:20260217T182221Z
UID:10010581-1773014400-1775260799@news.csun.edu
SUMMARY:Gear up for Round 4 Round
DESCRIPTION:Slip into the Boxing Training Program (BTP)\, collect prizes and even be entered in our drawings for a pair of TITLE boxing gloves and a JBL speaker! Have your hand wraps ready\, grab your pass at the Total Training Zone desk and head to the Determination Studio\, where you’ll learn new techniques and experience all the benefits that boxing has to offer\, including an increase in stamina and confidence. Each visit will advance you through three attendance tiers with rewards including your own BTP drawstring bag and an SRC duffle bag. Get moving with the BTP today and gear up for the upcoming Round 4 Round Challenge\, where you can show off your new skills!  \n  \nAll are welcome to come and get hooked on boxing!   \n  \nAll first-timers must complete a 45-minute orientation\, regardless of experience. Hand wraps are available for purchase at the SRC Front Desk.   \n  \n   \nTier 1: 1 – 7 visits   \nPrizes: Boxing Training Program (BTP) sticker and one entry into grand prize drawing  \n  \nTier 2: 8 – 12 visits   \nPrizes: BTP sticker\, BTP drawstring bag and 2 entries into grand prize drawing   \n  \nTier 3: 13 – 20 visits   \nPrizes: BTP sticker\, BTP drawstring bag\, SRC duffle bag and 5 entries into grand prize drawing  
URL:https://news.csun.edu/event/gear-up-for-round-4-round/
LOCATION:Determination Studio\, Student Recreation Center\, University Student Union\, 18111 Nordhoff Street\, Northridge\, 91330-8449\, United States
CATEGORIES:Student Recreation Center,University Student Union
ATTACH;FMTTYPE=image/png:https://news.csun.edu/wp-content/uploads/2026/02/Cal-BTP-R4R-SP26.png
ORGANIZER;CN="USU Student Recreation Center":MAILTO:src@csun.edu
END:VEVENT
BEGIN:VEVENT
DTSTART;VALUE=DATE:20260309
DTEND;VALUE=DATE:20260420
DTSTAMP:20260419T060514
CREATED:20260210T182318Z
LAST-MODIFIED:20260217T182836Z
UID:10010570-1773014400-1776643199@news.csun.edu
SUMMARY:Strong 5
DESCRIPTION:Build strength\, muscle and confidence with the Strong 5 training program! Over six weeks\, you’ll work weekly with a personal trainer to improve your lifting technique in movements such as squat\, hinge\, press\, pull and gait. You can also request to work on specific movements that more closely align with your fitness goals. Don’t miss out on this chance to get the one-on-one coaching you need to achieve the results and consistency you’ve always wanted.   \n  \nRegister at the SRC Front Desk today and get pumped to enhance your performance!   \n  \nRegistration is open from Monday\, Feb. 23 – Friday\, March 6.  \nProgram costs $140 for students\, $295 for non-students. 
URL:https://news.csun.edu/event/strong-5/
LOCATION:Student Recreation Center\, University Student Union\, 18111 Nordhoff St.\, Northridge\, CA\, 91330-8449\, United States
CATEGORIES:Student Recreation Center,University Student Union
ATTACH;FMTTYPE=image/png:https://news.csun.edu/wp-content/uploads/2026/02/Calendar-Strong5-SP26.png
ORGANIZER;CN="USU Student Recreation Center":MAILTO:src@csun.edu
GEO:34.2397767274;-118.525089862
X-APPLE-STRUCTURED-LOCATION;VALUE=URI;X-ADDRESS=Student Recreation Center University Student Union 18111 Nordhoff St. Northridge CA 91330-8449 United States;X-APPLE-RADIUS=500;X-TITLE=18111 Nordhoff St.:geo:-118.525089862,34.2397767274
END:VEVENT
BEGIN:VEVENT
DTSTART;TZID=America/Los_Angeles:20260317T000100
DTEND;TZID=America/Los_Angeles:20260331T235900
DTSTAMP:20260419T060514
CREATED:20260116T003556Z
LAST-MODIFIED:20260116T004446Z
UID:10009753-1773705660-1775001540@news.csun.edu
SUMMARY:Registration-by-Appointment\, Summer 2026
DESCRIPTION:Beginning Tuesday\, March 17\, 2026\, CSUN students who “grabbed” an enrollment appointment last week may enroll in summer 2026 classes on and after their appointment date and time. \nSummer Term 2026 Registration Periods:\n\nFrom March 17 to 31\, 2026\, eligible* new and continuing CSUN students who obtained an appointment last week may enroll in classes for all three summer sessions beginning with their enrollment appointment and after.\nNonrestrictive Registration begins Wednesday\, April 1; no appointment is needed. Repeating courses is permitted.\nVisiting\, non-matriculated* students may also enroll beginning April 1.\n\nFind more dates in the Summer Term 2026 Registration Calendar. \nNoteworthy:\n\nSummer term is currently operated on a state-support basis. If you are a CSUN student\, visit the Student Finance website for Summer 2026 State Tuition and Fees\, along with payment due dates (forthcoming).\nIf you are enrolling in a state-supported\, year-round cohort program\, you will need a permission number to add classes at all times. Contact your program coordinator.\nVisitors\, you’ll find self-support (extension) course fees\, payment due dates and enrollment instructions at Tseng College Open University. If you do not meet course prerequisites\, request a permission number from the professor or the department offering the course.\n\nLooking for Help?\n\nView the Summer Appointment/Enrollment How-To Guide.\nIf you are receiving financial aid\, visit Summer Financial Aid.\n\n*Eligible CSUN students have been matriculated; that is\, they are admitted to the university and enrolled in a CSUN degree or certificate program. Visiting students are not matriculated.
URL:https://news.csun.edu/event/registration-by-appointment-summer-2026/
CATEGORIES:Student Academic Calendar,Summer Term
ATTACH;FMTTYPE=image/png:https://news.csun.edu/wp-content/uploads/2025/01/sac-icon-summer.png
END:VEVENT
BEGIN:VEVENT
DTSTART;TZID=America/Los_Angeles:20260323T100000
DTEND;TZID=America/Los_Angeles:20260323T110000
DTSTAMP:20260419T060514
CREATED:20260217T153124Z
LAST-MODIFIED:20260219T214511Z
UID:10010735-1774260000-1774263600@news.csun.edu
SUMMARY:Video Assignments with GoReact
DESCRIPTION:Hosted by Megan Duncan  \nGoReact is an interactive platform for providing extensive feedback\, critique\, and grading of student video submissions. This workshop will help you get started using GoReact and will cover topics such as creating a GoReact assignment\, reviewing submissions\, and providing time-stamped feedback.  \nJoin the event on Zoom\nYou will need to be signed into Zoom with your csun.edu or my.csun.edu email address to join. \nIf you are signed into the Zoom app with a different account\, log out of Zoom\, and select the Single Sign-On (SSO) button near the bottom. If Zoom asks for a domain enter csun\, and you will be guided to CSUN’s SSO page.
URL:https://news.csun.edu/event/video-assignments-with-goreact-2/
LOCATION:Online via Zoom; Connection details provided upon registration
CATEGORIES:GoReact,Information Technology
ATTACH;FMTTYPE=image/jpeg:https://news.csun.edu/wp-content/uploads/2026/01/goreact-logo.jpg
END:VEVENT
BEGIN:VEVENT
DTSTART;TZID=America/Los_Angeles:20260323T120000
DTEND;TZID=America/Los_Angeles:20260323T130000
DTSTAMP:20260419T060514
CREATED:20260120T195242Z
LAST-MODIFIED:20260120T195242Z
UID:10010182-1774267200-1774270800@news.csun.edu
SUMMARY:Lunch and Write Series-Spring 2026
DESCRIPTION:Interested in writing accountability this fall? Join the Office of Faculty Programs and Initiatives Mondays this semester from noon to 1 p.m. For questions email Dr. Anne Choi at achoi@csun.edu. \nRegister Here
URL:https://news.csun.edu/event/lunch-and-write-series-spring-2026/2026-03-23/
CATEGORIES:Events,Faculty Development,Faculty Programs and Initiatives
ATTACH;FMTTYPE=image/png:https://news.csun.edu/wp-content/uploads/2025/08/lunch-and-write-series-e1768938192474.png
END:VEVENT
BEGIN:VEVENT
DTSTART;TZID=America/Los_Angeles:20260323T120000
DTEND;TZID=America/Los_Angeles:20260323T130000
DTSTAMP:20260419T060514
CREATED:20260128T194001Z
LAST-MODIFIED:20260128T194001Z
UID:10010332-1774267200-1774270800@news.csun.edu
SUMMARY:Improving Accessibility in Canvas: Small Changes\, Big Impact 
DESCRIPTION:In this workshop\, faculty will explore practical\, easy-to-implement strategies for improving accessibility in Canvas using built-in tools and best practices. The new tool in Canvas called “Tidyup” will be featured. There will be concrete tips shared to apply immediately to make courses more inclusive\, accessible\, and student-friendly.\n\nDate: Monday\, March 23 \nTime: Noon to 1 p.m. \nLocation: Zoom \nREGISTER NOW
URL:https://news.csun.edu/event/improving-accessibility-in-canvas-small-changes-big-impact/
CATEGORIES:Events,Faculty Development,Faculty Programs and Initiatives,Information Technology
ORGANIZER;CN="Faculty Development":MAILTO:facdev@csun.edu
END:VEVENT
BEGIN:VEVENT
DTSTART;TZID=America/Los_Angeles:20260323T130000
DTEND;TZID=America/Los_Angeles:20260323T140000
DTSTAMP:20260419T060514
CREATED:20260128T175926Z
LAST-MODIFIED:20260128T180404Z
UID:10010286-1774270800-1774274400@news.csun.edu
SUMMARY:Classroom Technology Essentials
DESCRIPTION:Instructors: Dominic Little and Megan Duncan \nLearn how to leverage classroom technology tools to enrich the teaching and learning experience—without getting bogged down in the mechanics. By spending less time figuring out how the technology works\, you can focus more fully on engaging with your students. This in-person workshop guides participants in effectively using classroom technology through the room touch panel\, including changing inputs\, controlling cameras and audio\, adjusting projection screens\, connecting document cameras and laptops\, joining  Zoom sessions\, Zoom recording management.\nIn Person: UL 30\nRegister Here
URL:https://news.csun.edu/event/classroom-technology-essentials/
LOCATION:UL 30
CATEGORIES:Human Resources,Information Technology
ATTACH;FMTTYPE=image/jpeg:https://news.csun.edu/wp-content/uploads/2026/01/classroom-support.jpg
END:VEVENT
BEGIN:VEVENT
DTSTART;TZID=America/Los_Angeles:20260323T130000
DTEND;TZID=America/Los_Angeles:20260323T140000
DTSTAMP:20260419T060514
CREATED:20260217T163848Z
LAST-MODIFIED:20260217T163924Z
UID:10010736-1774270800-1774274400@news.csun.edu
SUMMARY:Classroom Technology: Hands-On Training Session (In-person)
DESCRIPTION:Hosted by: Dominic Little and Megan Duncan Jones \nLearn how to leverage classroom technology tools to enrich the teaching and learning experience—without getting bogged down in the mechanics. By spending less time figuring out how the technology works\, you can focus more fully on engaging with your students. This in-person workshop guides participants in effectively using classroom technology through the room touch panel\, including changing inputs\, controlling cameras and audio\, adjusting projection screens\, connecting document cameras and laptops\, joining Zoom sessions\, and Zoom recording management. \nLocation: University Library Room 30 \nREGISTER NOW
URL:https://news.csun.edu/event/classroom-technology-hands-on-training-session-in-person/
LOCATION:UL 30
CATEGORIES:Events,Faculty Development,Faculty Programs and Initiatives,Information Technology
ATTACH;FMTTYPE=image/png:https://news.csun.edu/wp-content/uploads/2026/01/hands-on-training-scaled-e1769806790946.png
END:VEVENT
BEGIN:VEVENT
DTSTART;TZID=America/Los_Angeles:20260323T133000
DTEND;TZID=America/Los_Angeles:20260323T140000
DTSTAMP:20260419T060514
CREATED:20260203T214015Z
LAST-MODIFIED:20260210T205015Z
UID:10010401-1774272600-1774274400@news.csun.edu
SUMMARY:Facial Flow Ritual: A Lymphatic Brush Experience
DESCRIPTION:Relax\, detox and promote radiant skin with the Oasis Wellness Center! Discover the many benefits lymphatic brushes have on both physical and mental health. Join us for a hands-on experience\, where you’ll learn how to use this essential wellness tool.   \n  \nRegister today on The USU Rec & Wellness Portal or the MINDBODY app and help cultivate a better and brighter you!   \n  \nDo you need interpretation for an event? If so\, please fill out the Interpreting Services Request Form at least seven business days prior to the event. 
URL:https://news.csun.edu/event/facial-flow-ritual-a-lymphatic-brush-experience/2026-03-23/
LOCATION:Vitality Room\, Oasis Wellness Center\, University Student Union\, 18111 Nordhoff St.\, Northridge\, CA\, 91330-8272\, United States
CATEGORIES:Oasis Wellness Center,University Student Union
ATTACH;FMTTYPE=image/png:https://news.csun.edu/wp-content/uploads/2026/02/Calendar_LymphaticBrushClasses_SP26.png
ORGANIZER;CN="USU Oasis Wellness Center":MAILTO:oasis@csun.edu
GEO:34.2395263017;-118.525712744
X-APPLE-STRUCTURED-LOCATION;VALUE=URI;X-ADDRESS=Vitality Room Oasis Wellness Center University Student Union 18111 Nordhoff St. Northridge CA 91330-8272 United States;X-APPLE-RADIUS=500;X-TITLE=18111 Nordhoff St.:geo:-118.525712744,34.2395263017
END:VEVENT
BEGIN:VEVENT
DTSTART;TZID=America/Los_Angeles:20260323T143000
DTEND;TZID=America/Los_Angeles:20260323T153000
DTSTAMP:20260419T060514
CREATED:20260102T172613Z
LAST-MODIFIED:20260102T172613Z
UID:10009545-1774276200-1774279800@news.csun.edu
SUMMARY:Study Abroad & Exchange Information Session
DESCRIPTION:The International and Exchange Student Center offers regular information sessions during the year to encourage students to learn more about the study abroad and exchange opportunities available at CSUN. Requests for accommodation services (e.g.\, sign language interpreters or transcribers) must be made at least five (5) business days in advance. Please contact the Study Abroad Advisors no less than five (5) business days prior to your desired session to request that accommodation services be provided. \n  \nhttps://www.csun.edu/international/study-abroad/information-sessions
URL:https://news.csun.edu/event/study-abroad-exchange-information-session-52/
LOCATION:Zoom
CATEGORIES:IESC,International and Exchange Student Center
ATTACH;FMTTYPE=image/jpeg:https://news.csun.edu/wp-content/uploads/2025/04/Study-Abroad-Exchange-Information-Session-3.jpg
END:VEVENT
BEGIN:VEVENT
DTSTART;TZID=America/Los_Angeles:20260323T150000
DTEND;TZID=America/Los_Angeles:20260323T160000
DTSTAMP:20260419T060514
CREATED:20260203T044653Z
LAST-MODIFIED:20260206T215217Z
UID:10010376-1774278000-1774281600@news.csun.edu
SUMMARY:Workshop 7: Attending National Conference
DESCRIPTION:Join us for a series of workshops on research\, career prep\, and grad school guidance\, designed to help STEM transfer students thrive\, and open to all CSUN students! \nBadge workshops will be offered in-person (Monday’s\, Wednesday’s) and via Zoom (Friday)  in Spring 2026\n\n\nMonday’s: 3-4PM –  Bookstein Hall (BB) #1240\nWednesday’s: 12-1PM – Bookstein Hall (BB) #1238\n\n\nMonday\, March 23\, 3:00–4:00 PM [In-person] \nWednesday\, March 26\, 12:00–1:00 PM [In-person] \nThursday\, April 1\, 4:00–5:00 PM [Zoom] \nIf you choose the virtual option\, you will be provided with instructions on how to access the Zoom workshop after you have RSVP-ed for a workshop. \nRSVP: https://tinyurl.com/n8rbr23z
URL:https://news.csun.edu/event/workshop-7-attending-national-conference/2026-03-23/
LOCATION:Bookstein Hall (BB) #1240\, 18111 Nordhoff St\, Northridge\, 91330\, United States
CATEGORIES:HERE Center
ATTACH;FMTTYPE=image/png:https://news.csun.edu/wp-content/uploads/2026/02/Spring-2026-Badge-Project-Workshop-Flyer-scaled.png
ORGANIZER;CN="START":MAILTO:start.office@csun.edu
END:VEVENT
BEGIN:VEVENT
DTSTART;TZID=America/Los_Angeles:20260323T150000
DTEND;TZID=America/Los_Angeles:20260323T170000
DTSTAMP:20260419T060514
CREATED:20260115T002032Z
LAST-MODIFIED:20260226T182555Z
UID:10009732-1774278000-1774285200@news.csun.edu
SUMMARY:A Dialogue with Dr. Felecia S. Russell
DESCRIPTION:Join us for an insightful discussion on the experiences of the undocumented Black community with Dr. Felecia S. Russell. Learn about her research and work with the Higher Ed Immigration Portal and hear how her personal journey shapes her leadership today. The lecture will be followed by a signing of Dr. Russell’s book\, Amplifying Undocumented Student Voices in Higher Education.   \nAll are welcome to be a part of this afternoon of learning\, reflection and community.   \nDo you need interpretation for an event? If so\, please fill out the Interpreting Services Request Form at least seven business days prior to the event. 
URL:https://news.csun.edu/event/a-dialogue-with-dr-felecia-s-russell/
LOCATION:Flintridge Room\, East Conference Center\, University Student Union\, 18111 Nordhoff St.\, Northridge\, CA\, 91330-8272\, United States
CATEGORIES:Black History,DREAM Center,Heritage Month,University Student Union
ATTACH;FMTTYPE=image/png:https://news.csun.edu/wp-content/uploads/2026/01/Calendar-ADialogueWithDrRussell_SP26-2.png
ORGANIZER;CN="USU DREAM Center":MAILTO:dreamcenter@csun.edu
GEO:34.2398884365;-118.525449213
X-APPLE-STRUCTURED-LOCATION;VALUE=URI;X-ADDRESS=Flintridge Room East Conference Center University Student Union 18111 Nordhoff St. Northridge CA 91330-8272 United States;X-APPLE-RADIUS=500;X-TITLE=18111 Nordhoff St.:geo:-118.525449213,34.2398884365
END:VEVENT
BEGIN:VEVENT
DTSTART;TZID=America/Los_Angeles:20260323T160000
DTEND;TZID=America/Los_Angeles:20260323T180000
DTSTAMP:20260419T060514
CREATED:20260314T033738Z
LAST-MODIFIED:20260314T033738Z
UID:10010953-1774281600-1774288800@news.csun.edu
SUMMARY:Vision-Board Making
DESCRIPTION:Join the Badge Project and fellow transfer students for Badge Vision-Board Making! Come create your vision board\, set your goals\, and map your path to success 🎨✨. \nSupplies will be provided 🖌️📌!
URL:https://news.csun.edu/event/vision-board-making/
LOCATION:Lilac Hall\, 18100–18210 Plummer St\, Northridge\, 91330\, United States
CATEGORIES:HERE Center
ATTACH;FMTTYPE=image/png:https://news.csun.edu/wp-content/uploads/2026/03/Badge-Vision-Board-Making_Flyer-1.png
ORGANIZER;CN="START":MAILTO:start.office@csun.edu
END:VEVENT
END:VCALENDAR