BEGIN:VCALENDAR
VERSION:2.0
PRODID:-//CSUN News &amp; Events - ECPv6.11.2//NONSGML v1.0//EN
CALSCALE:GREGORIAN
METHOD:PUBLISH
X-ORIGINAL-URL:https://news.csun.edu
X-WR-CALDESC:Events for CSUN News &amp; Events
REFRESH-INTERVAL;VALUE=DURATION:PT1H
X-Robots-Tag:noindex
X-PUBLISHED-TTL:PT1H
BEGIN:VTIMEZONE
TZID:America/Los_Angeles
BEGIN:DAYLIGHT
TZOFFSETFROM:-0800
TZOFFSETTO:-0700
TZNAME:PDT
DTSTART:20260308T100000
END:DAYLIGHT
BEGIN:STANDARD
TZOFFSETFROM:-0700
TZOFFSETTO:-0800
TZNAME:PST
DTSTART:20261101T090000
END:STANDARD
END:VTIMEZONE
BEGIN:VEVENT
DTSTART;VALUE=DATE:20260129
DTEND;VALUE=DATE:20260313
DTSTAMP:20260422T200517
CREATED:20260128T004120Z
LAST-MODIFIED:20260128T004402Z
UID:10010321-1769644800-1773359999@news.csun.edu
SUMMARY:A Stitch & Glitch in Time
DESCRIPTION:January 20 – March 12\, 2026\nReception: Thursday\, January 29 from 5:00 – 7:30pm\n \nA Stitch & Glitch in Time brings together thirteen Los Angeles-based artists who use textiles to explore technology\, fashion\, and collective histories. Los Angeles has a long history in textile production\, both for industrial use and artistic expression. The processes and materials utilized by these artists embody this long and complex history – highlighting how textiles can simultaneously be highly personal objects while revealing the larger economic and social circumstances they were created within. \n  \nExhibition Artists: Fafnir Adamites\, Ekta Aggarwal\, Diane Briones Williams\, Lavialle Campbell\, Mimi Haddon\, Lorenzo Hurtado Segovia\, Ahree Lee\, Aubrey Longley-Cook\, Kayla Mattes\, Minga Opazo\, Aneesa Shami Zizzo\, Irene Georgia Tsatsos\, and Jenny Yurshansky. \n  \nThis exhibition was curated by Holly Jerger\, CSUN Art Galleries Director. The exhibition is made possible through the generous support of the Mike Curb College of Arts\, Media\, and Communication and Louise Lewis. Additional support provided by the Instructionally Related Activities Committee and Arts Council for CSUN. \n  \nThis exhibition is part of Handwork 2026\, Craft in America’s nationwide semiquincentennial collaboration showcasing the importance of the handmade and celebrating the diversity of craft that defines America. \n  \nFree Admission
URL:https://news.csun.edu/event/a-stitch-glitch-in-time/
CATEGORIES:Art Galleries,Arts and Culture
END:VEVENT
BEGIN:VEVENT
DTSTART;VALUE=DATE:20260209
DTEND;VALUE=DATE:20260313
DTSTAMP:20260422T200517
CREATED:20260128T001616Z
LAST-MODIFIED:20260210T181005Z
UID:10010319-1770595200-1773359999@news.csun.edu
SUMMARY:Level Up Your Fitness
DESCRIPTION:Level up on your fitness journey at the SRC’s group exercise (GX) classes and unlock special items throughout the month! After GX attendance reaches a total of 1\,500\, those who took one or more classes will be entered into a drawing for a Wellness Bundle and Beats Studio Pro Premium Wireless Over-Ear Headphones. Members will also be granted an additional entry each time they bring a friend who is taking a GX class for the first time.  \n  \nMilestones:  \nLevel 1 – Getting Started  \n\nAttend two to three GX Classes  \n\n\nPrize: SRC Tote Bag \n\nLevel 2 – Building Momentum  \n\nAttend three to five GX Classes \n\n\nPrize: SRC Shaker Bottle  \n\nLevel 3 – Staying Consistent   \n\nAttend: five to seven GX Classes  \n\n\nPrize: JBL Flip 5 Portable Speaker (three winners) \n\nLevel 4 – Fully Leveled Up   \n\nAttend seven or more GX Classes  \n\n\nPrize: Therabody Relief (three winners) \n\nGet rewarded for getting on the move!   \n  \nDo you need interpretation for an event? If so\, please fill out the Interpreting Services Request Form at least seven business days prior to the event. 
URL:https://news.csun.edu/event/level-up-your-fitness/
LOCATION:Student Recreation Center\, University Student Union\, 18111 Nordhoff St.\, Northridge\, CA\, 91330-8449\, United States
CATEGORIES:Student Recreation Center,University Student Union
ATTACH;FMTTYPE=image/png:https://news.csun.edu/wp-content/uploads/2026/01/Calendar-LevelUpYourFitness_SP26.png
ORGANIZER;CN="USU Student Recreation Center":MAILTO:src@csun.edu
GEO:34.2397767274;-118.525089862
X-APPLE-STRUCTURED-LOCATION;VALUE=URI;X-ADDRESS=Student Recreation Center University Student Union 18111 Nordhoff St. Northridge CA 91330-8449 United States;X-APPLE-RADIUS=500;X-TITLE=18111 Nordhoff St.:geo:-118.525089862,34.2397767274
END:VEVENT
BEGIN:VEVENT
DTSTART;TZID=America/Los_Angeles:20260219T080000
DTEND;TZID=America/Los_Angeles:20260311T170000
DTSTAMP:20260422T200517
CREATED:20251215T221253Z
LAST-MODIFIED:20251215T221253Z
UID:10009427-1771488000-1773248400@news.csun.edu
SUMMARY:National College Health Assessment (NCHA)
DESCRIPTION:
URL:https://news.csun.edu/event/national-college-health-assessment-ncha/
CATEGORIES:CSUN Survey Calendar
END:VEVENT
BEGIN:VEVENT
DTSTART;TZID=America/Los_Angeles:20260224T090000
DTEND;TZID=America/Los_Angeles:20260312T170000
DTSTAMP:20260422T200517
CREATED:20260224T223440Z
LAST-MODIFIED:20260224T223440Z
UID:10010806-1771923600-1773334800@news.csun.edu
SUMMARY:Beyond The Self Portrait Show
DESCRIPTION:Visit the “Beyond The Self Portrait” Show led by CSUN Photo Society and CSUN Printmaking Society in the Manzanita Gallery.\nThis exhibit will be open to visit until March 12\, 2026.\nEach person is shaped by the people they love\, the places they call home\, and the experiences that leave their mark. Oftentimes\, a self portrait captures only the physical appearance of a person\, leaving out the years of life they have lived and the stories that define them. As a collaborative project between the CSUN Photo Society and the CSUN Printmaking Society\, Beyond the Self Portrait began as an exploration of what a self portrait can truly become. \nWe invited our members to share work that reveals a piece of their life\, offering the campus community a chance to connect with the person behind the art. We encouraged them to move beyond the traditional constraints of a self portrait and look deeper into the often unseen aspects of their inner identity. By bringing together different practices and mediums\, this exhibition shows that a self portrait can move beyond appearance and become a reflection of memory\, experience\, and identity. \n  \n 
URL:https://news.csun.edu/event/beyond-the-self-portrait-show/
CATEGORIES:Art & Design,Art & Design Department
ORGANIZER;CN="Art and Design Department":MAILTO:joe.bautista@csun.edu
END:VEVENT
BEGIN:VEVENT
DTSTART;VALUE=DATE:20260227
DTEND;VALUE=DATE:20260510
DTSTAMP:20260422T200517
CREATED:20260121T225753Z
LAST-MODIFIED:20260122T212618Z
UID:10010243-1772150400-1778371199@news.csun.edu
SUMMARY:American Red Cross CPR/First-Aid/AED Classes
DESCRIPTION:Get certified and equipped with important life-saving skills through American Red Cross Adult and Pediatric CPR/First-Aid/AED training! Learn to respond to cardio-respiratory emergencies calmly and confidently through this hands-on course. Check your email after you register for instructions.   \n  \nRegister on the SRC Portal or at the SRC Front Desk today!   \n  \nDo you need interpretation for an event? If so\, please fill out the Interpreting Services Request Form at least seven business days prior to the event. 
URL:https://news.csun.edu/event/american-red-cross-cpr-first-aid-aed-classes/
LOCATION:Student Recreation Center\, University Student Union\, 18111 Nordhoff St.\, Northridge\, CA\, 91330-8449\, United States
CATEGORIES:Student Recreation Center,University Student Union
ATTACH;FMTTYPE=image/png:https://news.csun.edu/wp-content/uploads/2026/01/Calendar_AmericanRedCrossCPR_SP26.png
ORGANIZER;CN="USU Student Recreation Center":MAILTO:src@csun.edu
GEO:34.2397767274;-118.525089862
X-APPLE-STRUCTURED-LOCATION;VALUE=URI;X-ADDRESS=Student Recreation Center University Student Union 18111 Nordhoff St. Northridge CA 91330-8449 United States;X-APPLE-RADIUS=500;X-TITLE=18111 Nordhoff St.:geo:-118.525089862,34.2397767274
END:VEVENT
BEGIN:VEVENT
DTSTART;VALUE=DATE:20260302
DTEND;VALUE=DATE:20260509
DTSTAMP:20260422T200517
CREATED:20260203T231043Z
LAST-MODIFIED:20260224T220716Z
UID:10010499-1772409600-1778284799@news.csun.edu
SUMMARY:Spring 2026 Intramural Sports Season
DESCRIPTION:Sign up through Fusion Play today and get ready to bring the heat!   \nBasketball March 2 – May 8 Red Ring Courts   \nAll-Rec: Wednesdays\, 6 – 8 p.m.  \nSorority: Wednesdays\, 5 – 6 p.m.  \nMen’s/Fraternity: Thursdays\, 5 – 9 p.m.  \nUltimate Frisbee March 2 – April 10 Turf Field  \nFraternity: Fridays\, 4 – 5 p.m.  \nAll-Rec: Fridays\, 3 – 4 p.m.   \nMen’s: Fridays\, 4 – 5 p.m.  \nSorority: Fridays\, 3 – 4 p.m.  \nVolleyball March 2 – May 8 Red Ring Courts  \nAll-Rec: Fridays\, 3 – 5 p.m.  \nIndoor Soccer March 2 – May 8  MatArena  \nAll Rec: Wednesdays\, 5 – 7 p.m.  \nFraternity: Tuesdays\, 7 – 9 p.m.  \nMen’s: Wednesdays\, 7 – 9 p.m.  \nSorority: Tuesdays\, 5 – 7 p.m.  \nSoftball April 12 – May 8 Turf Field  \nAll Rec: Fridays\, 6 – 8p.m.  \nMen’s: Fridays\, 4 – 6 p.m.  \nFraternity: Fridays\, 4 – 6 p.m.  \nSorority: Fridays\, 3 – 5 p.m.  
URL:https://news.csun.edu/event/spring-2026-intramural-sports-season-registration/
LOCATION:Student Recreation Center\, University Student Union\, 18111 Nordhoff St.\, Northridge\, CA\, 91330-8449\, United States
CATEGORIES:Student Recreation Center,University Student Union
ATTACH;FMTTYPE=image/png:https://news.csun.edu/wp-content/uploads/2026/02/Calendar-IntramuralSports-SP26.png
ORGANIZER;CN="USU Student Recreation Center":MAILTO:src@csun.edu
GEO:34.2397767274;-118.525089862
X-APPLE-STRUCTURED-LOCATION;VALUE=URI;X-ADDRESS=Student Recreation Center University Student Union 18111 Nordhoff St. Northridge CA 91330-8449 United States;X-APPLE-RADIUS=500;X-TITLE=18111 Nordhoff St.:geo:-118.525089862,34.2397767274
END:VEVENT
BEGIN:VEVENT
DTSTART;TZID=America/Los_Angeles:20260302T113000
DTEND;TZID=America/Los_Angeles:20260305T124500
DTSTAMP:20260422T200517
CREATED:20260302T214053Z
LAST-MODIFIED:20260302T214248Z
UID:10010828-1772451000-1772714700@news.csun.edu
SUMMARY:SŪKŪJULA TEI’ (Stories of My Mother) Virtual Film Screening & Conversation with David Hernández Palmar
DESCRIPTION:Join us for a virtual screening of SŪKŪJULA TEI’ (Stories of My Mother)\, a powerful and intimate film by Wayuu filmmaker David Hernández Palmar. Rooted in Wayuu memory and oral tradition\, the film weaves together personal narrative\, maternal legacy\, and cultural continuity\, offering a moving reflection on identity\, territory\, and belonging. \nFollowing the screening\, participate in a live discussion with the filmmaker\, who will share insights into the creative process behind the film\, the importance of Indigenous storytelling\, and the film’s cultural significance. \nDavid Hernández Palmar is a Wayuu filmmaker\, cultural advocate\, and communicator from the Guajira region of Venezuela. His work centers on Indigenous identity\, memory\, territory\, and language\, with a strong commitment to visual storytelling as a tool for cultural preservation and self-representation.
URL:https://news.csun.edu/event/sukujula-tei-stories-of-my-mother-virtual-film-screening-conversation-with-david-hernandez-palmar/
LOCATION:https://csun.zoom.us/j/84146752623
END:VEVENT
BEGIN:VEVENT
DTSTART;TZID=America/Los_Angeles:20260303T100000
DTEND;TZID=America/Los_Angeles:20260303T111500
DTSTAMP:20260422T200517
CREATED:20251209T001108Z
LAST-MODIFIED:20251209T175031Z
UID:10009371-1772532000-1772536500@news.csun.edu
SUMMARY:Flyers & Infographics Accessibility
DESCRIPTION:Description: This session introduces best practices for designing accessible flyers and infographics. Participants will explore the importance of accessibility in visual communication and understand how to develop content that is inclusive and usable for all audiences. The session will also cover practical strategies for ensuring accessibility in both emails and infographics. \nLearning Objectives: \n\nExplain the importance of accessibility in flyer and infographic design\nIdentify key accessibility considerations when creating visual content\nApply best practices to design inclusive and accessible flyers and infographics\n\nRecommended Attendees:  Graphic Designers\, Marketing Specialist\, Staff\, IT Specialist\, Web Developers\, Web Content Creators\, Instructional Support\, and Admin Support. \nLocation: Virtual event \n\nThese trainings are only available to CSUN employees. You are required to login with your CSUN credentials in order to access Microsoft Bookings form). If you encounter any issues while completing the training registration form\, please contact udc@csun.edu. \nTo register via Microsoft Bookings\, go to the date of the workshop and select the time in the Bookings calendar\, fill in your information\, then scroll down to select the red Book button. \nRegister for this event\n\nNote: The accessibility training is for CSUN faculty\, staff\, student employees\, and alumni. \nAccommodations: If you require accommodations\, please contact udc@csun.edu. \nPlease note that a minimum of 20 attendees is required for UDC to conduct the training event.
URL:https://news.csun.edu/event/flyers-infographics-accessibility-2/
CATEGORIES:Accessibility & Universal Design,Human Resources,Information Technology,Workshops
ATTACH;FMTTYPE=image/png:https://news.csun.edu/wp-content/uploads/2024/05/udc_flyers_training.png
ORGANIZER;CN="Universal Design Center":MAILTO:udc@csun.edu
END:VEVENT
BEGIN:VEVENT
DTSTART;TZID=America/Los_Angeles:20260303T100000
DTEND;TZID=America/Los_Angeles:20260303T143000
DTSTAMP:20260422T200517
CREATED:20260212T001841Z
LAST-MODIFIED:20260212T004114Z
UID:10010589-1772532000-1772548200@news.csun.edu
SUMMARY:AS Farmers Market
DESCRIPTION:Join us every Tuesday for our weekly Farmers Market\, where you can purchase food and various other items from local vendors. Come and relax at our tables and hammocks and enjoy your Tuesday to the fullest.
URL:https://news.csun.edu/event/as-farmers-market/2026-03-03/
LOCATION:Matador Square
CATEGORIES:AS Events,Associated Students (AS)
END:VEVENT
BEGIN:VEVENT
DTSTART;TZID=America/Los_Angeles:20260303T120000
DTEND;TZID=America/Los_Angeles:20260303T130000
DTSTAMP:20260422T200517
CREATED:20260120T195242Z
LAST-MODIFIED:20260120T195242Z
UID:10010177-1772539200-1772542800@news.csun.edu
SUMMARY:Lunch and Write Series-Spring 2026
DESCRIPTION:Interested in writing accountability this fall? Join the Office of Faculty Programs and Initiatives Mondays this semester from noon to 1 p.m. For questions email Dr. Anne Choi at achoi@csun.edu. \nRegister Here
URL:https://news.csun.edu/event/lunch-and-write-series-spring-2026/2026-03-03/
CATEGORIES:Events,Faculty Development,Faculty Programs and Initiatives
ATTACH;FMTTYPE=image/png:https://news.csun.edu/wp-content/uploads/2025/08/lunch-and-write-series-e1768938192474.png
END:VEVENT
BEGIN:VEVENT
DTSTART;TZID=America/Los_Angeles:20260303T120000
DTEND;TZID=America/Los_Angeles:20260303T130000
DTSTAMP:20260422T200517
CREATED:20260227T185632Z
LAST-MODIFIED:20260227T185632Z
UID:10010821-1772539200-1772542800@news.csun.edu
SUMMARY:Tuesday Teaching Tips: Creating a Mid-semester Check-in
DESCRIPTION:Did you know that creating a mid-semester check-in for your students can positively impact your course evaluations? Come and learn how to design an effective mid-semester assessment. \nDate: Tuesday\, March 3 \nTime: Noon to 1 p.m. \nLocation: Zoom \nREGISTER NOW
URL:https://news.csun.edu/event/tuesday-teaching-tips-creating-a-mid-semester-check-in/
CATEGORIES:Faculty Development,Faculty Programs and Initiatives
ATTACH;FMTTYPE=image/webp:https://news.csun.edu/wp-content/uploads/2025/09/pencil-close-up-e1772218451770.webp
ORGANIZER;CN="Faculty Development":MAILTO:facdev@csun.edu
END:VEVENT
BEGIN:VEVENT
DTSTART;TZID=America/Los_Angeles:20260303T130000
DTEND;TZID=America/Los_Angeles:20260303T140000
DTSTAMP:20260422T200517
CREATED:20260225T205939Z
LAST-MODIFIED:20260225T212322Z
UID:10010815-1772542800-1772546400@news.csun.edu
SUMMARY:Distinguished Speaker Series: Lynn Worcester Jones "Piano in the Age of AI"
DESCRIPTION:Distinguished Visiting Speaker Series\nLynn Worcester Jones “Piano in the Age of AI”\nTuesday March 3rd\, 2026 \n1:00 PM\, Shigemi Matsumoto Recital Hall \nFREE Event\, open to the public. \n  \nLynn Worcester Jones\, DMA is a dedicated artist-educator and serves as Associate Professor of Piano Pedagogy\, Chair of the Secondary Piano and Piano Pedagogy Department at the College-Conservatory of Music\, University of Cincinnati. Dr. Jones is an innovative educator\, writer\, speaker\, mentor\, and leader who encourages career preparation and excellence in students. Well-known as a professional collaborator and supporter of colleagues at every level\, Lynn was named both the 2024 Chattanooga MTA and Tennessee MTA’s Teacher of the Year. Lynn has recently published numerous featured articles in American Music Teacher\, Piano Magazine\, Clavier Companion\, and Piano Pedagogy Forum. \n\nLEARN MORE ABOUT LYNN WORCESTER JONES \nParking via Kiosks in Lot B1
URL:https://news.csun.edu/event/distinguished-speaker-series-lynn-worcester-jones-piano-in-the-age-of-ai/
LOCATION:Shigemi Matsumoto Recital Hall (via Cypress Hall Courtyard)\, 18236 Nordhoff St\, Northridge\, CA\, 91325\, United States
CATEGORIES:Arts and Culture,Music,Special Events and Masterclasses
ATTACH;FMTTYPE=image/png:https://news.csun.edu/wp-content/uploads/2026/02/Lynn-Worcester-Jones-1.png
ORGANIZER;CN="Music":MAILTO:music@csun.edu
GEO:34.2363889;-118.529444444
X-APPLE-STRUCTURED-LOCATION;VALUE=URI;X-ADDRESS=Shigemi Matsumoto Recital Hall (via Cypress Hall Courtyard) 18236 Nordhoff St Northridge CA 91325 United States;X-APPLE-RADIUS=500;X-TITLE=18236 Nordhoff St:geo:-118.529444444,34.2363889
END:VEVENT
BEGIN:VEVENT
DTSTART;TZID=America/Los_Angeles:20260303T130000
DTEND;TZID=America/Los_Angeles:20260303T150000
DTSTAMP:20260422T200517
CREATED:20260115T004449Z
LAST-MODIFIED:20260319T175100Z
UID:10009741-1772542800-1772550000@news.csun.edu
SUMMARY:Career Center Drop Ins
DESCRIPTION:In collaboration with the Career Center\, students can enhance or refine their resumes to effectively highlight their skills and experiences. Additionally\, they will receive expert advice and guidance to improve their interview techniques\, ensuring they are well-prepared for future career opportunities. These sessions aim to provide personalized support to help veterans confidently navigate the transition to civilian employment.
URL:https://news.csun.edu/event/career-center-drop-ins-3/2026-03-03/
LOCATION:Veterans Resource Center\, University Student Union\, 18111 Nordhoff St.\, Northridge\, CA\, 91330-8272\, United States
CATEGORIES:University Student Union,Veterans Resource Center
ATTACH;FMTTYPE=image/png:https://news.csun.edu/wp-content/uploads/2026/01/826702287-calendar-vrcdropins_sp26.png
ORGANIZER;CN="USU Veterans Resource Center":MAILTO:vrc@csun.edu
GEO:34.2396586826;-118.525485205
X-APPLE-STRUCTURED-LOCATION;VALUE=URI;X-ADDRESS=Veterans Resource Center University Student Union 18111 Nordhoff St. Northridge CA 91330-8272 United States;X-APPLE-RADIUS=500;X-TITLE=18111 Nordhoff St.:geo:-118.525485205,34.2396586826
END:VEVENT
BEGIN:VEVENT
DTSTART;TZID=America/Los_Angeles:20260303T133000
DTEND;TZID=America/Los_Angeles:20260303T143000
DTSTAMP:20260422T200517
CREATED:20251218T220239Z
LAST-MODIFIED:20251218T220239Z
UID:10009475-1772544600-1772548200@news.csun.edu
SUMMARY:Immigration Guidance Webinar
DESCRIPTION:We understand that during these unprecedented times\, you may have additional questions about your F1 visa\, I-20\, travel and more. Please attend one of our immigration advisement webinars and meet with an International Student Advisor. While not all the questions have answers at this time\, advisors will do their best to address your concerns with the information available. The webinars will be hosted via ZOOM. Approximately 1 hr
URL:https://news.csun.edu/event/immigration-guidance-webinar-10/
LOCATION:Zoom
CATEGORIES:IESC,International and Exchange Student Center
ATTACH;FMTTYPE=image/jpeg:https://news.csun.edu/wp-content/uploads/2025/04/Immigration-Guidance-Webinar2.jpg
END:VEVENT
BEGIN:VEVENT
DTSTART;TZID=America/Los_Angeles:20260303T143000
DTEND;TZID=America/Los_Angeles:20260303T153000
DTSTAMP:20260422T200517
CREATED:20260217T142857Z
LAST-MODIFIED:20260217T142857Z
UID:10010723-1772548200-1772551800@news.csun.edu
SUMMARY:Canvas Quizzes
DESCRIPTION:Hosted by Kacee Williams   \n\nThis workshop provides an overview of building and using quizzes in your Canvas course. Topics will include: Creating questions and question banks\, Assigning points\, and Gradebook. \nJoin this event on Zoom\n**If you require an ASL interpreter\, please contact your department. \n***For Zoom captions – please pre-enable automated captions/transcript on the Zoom website (not the app) before the meeting begins as it cannot be turned on while the meeting is running. If you have any questions\, contact ftc@csun.edu
URL:https://news.csun.edu/event/canvas-quizzes-7/
LOCATION:Online via Zoom; Connection details provided upon registration
CATEGORIES:Canvas,Information Technology
ATTACH;FMTTYPE=image/png:https://news.csun.edu/wp-content/uploads/2024/12/Canvas-Logo-900x600px-e1736813339905.png
END:VEVENT
BEGIN:VEVENT
DTSTART;TZID=America/Los_Angeles:20260303T143000
DTEND;TZID=America/Los_Angeles:20260303T160000
DTSTAMP:20260422T200517
CREATED:20251217T000219Z
LAST-MODIFIED:20260212T172753Z
UID:10009452-1772548200-1772553600@news.csun.edu
SUMMARY:Undocu-Joy
DESCRIPTION:In honor of Undocu-Joy\, you’re invited to this celebration of undocumented\, DACA-mented\, mixed status students and allies. Meet friends and build community as you make crafts in an environment that embraces the joy and resilience of undocumented folks and centers around equality and inclusion.   \nAs part of Coming Out of the Shadows Week\, join us and Dreams to Be Heard for this opportunity to uplift one another while honoring joy within community allyship.    \nDo you need interpretation for an event? If so\, please fill out the Interpreting Services Request Form at least seven business days prior to the event. 
URL:https://news.csun.edu/event/undocu-joy/
LOCATION:Grand Salon\, University Student Union\, 18111 Nordhoff St.\, Northridge\, CA\, 91330-8272\, United States
CATEGORIES:DREAM Center,University Student Union
ATTACH;FMTTYPE=image/png:https://news.csun.edu/wp-content/uploads/2025/12/Calendar-UndocuJoy_SP26.png
ORGANIZER;CN="USU DREAM Center":MAILTO:dreamcenter@csun.edu
GEO:34.2393874529;-118.526753403
X-APPLE-STRUCTURED-LOCATION;VALUE=URI;X-ADDRESS=Grand Salon University Student Union 18111 Nordhoff St. Northridge CA 91330-8272 United States;X-APPLE-RADIUS=500;X-TITLE=18111 Nordhoff St.:geo:-118.526753403,34.2393874529
END:VEVENT
BEGIN:VEVENT
DTSTART;TZID=America/Los_Angeles:20260303T150000
DTEND;TZID=America/Los_Angeles:20260303T160000
DTSTAMP:20260422T200517
CREATED:20260218T190852Z
LAST-MODIFIED:20260218T190913Z
UID:10010759-1772550000-1772553600@news.csun.edu
SUMMARY:Let’s Talk
DESCRIPTION:Let’s Talk is an outreach program that provides easy access to informal consultations with counselors from University Counseling Services. Get the support\, resources and problem-solving tools you need on a first-come\, first-served basis.   \n  \nDo you need interpretation for an event? If so\, please fill out the Interpreting Services Request Form at least seven business days prior to the event. 
URL:https://news.csun.edu/event/lets-talk-7/2026-03-03/
LOCATION:Pride Center\, University Student Union\, 18111 Nordhoff St.\, Northridge\, CA\, 91330-8272\, United States
CATEGORIES:Pride Center,University Student Union
ATTACH;FMTTYPE=image/png:https://news.csun.edu/wp-content/uploads/2026/01/836628461-pc_recurringevents_letstalk-calendar-sp26.png
ORGANIZER;CN="USU Pride Center":MAILTO:pride@csun.edu
GEO:34.2400672654;-118.526959911
X-APPLE-STRUCTURED-LOCATION;VALUE=URI;X-ADDRESS=Pride Center University Student Union 18111 Nordhoff St. Northridge CA 91330-8272 United States;X-APPLE-RADIUS=500;X-TITLE=18111 Nordhoff St.:geo:-118.526959911,34.2400672654
END:VEVENT
BEGIN:VEVENT
DTSTART;TZID=America/Los_Angeles:20260303T150000
DTEND;TZID=America/Los_Angeles:20260303T163000
DTSTAMP:20260422T200517
CREATED:20260204T003045Z
LAST-MODIFIED:20260226T002512Z
UID:10010501-1772550000-1772555400@news.csun.edu
SUMMARY:Financial Literacy Workshops: Using Your Degree in the Entertainment Business
DESCRIPTION:Using Your Degree in the Entertainment Business with Dr. Lynn Richardson and MC Lyte\nA college degree is a powerful tool\, but how you leverage it can shape the trajectory of your career and your wealth. Join the CSUN College of Social and Behavioral Sciences for an engaging and insightful conversation on how to strategically use your education in the entertainment industry and beyond. \nFeaturing Dr. Lynn Richardson\, nationally recognized financial expert\, author\, entertainment executive\, and founder of New Wealth University\, alongside hip-hop pioneer\, rapper\, business mogul\, and philanthropist MC Lyte\, this dynamic session connects financial literacy\, entrepreneurship\, and real-world entertainment industry experience. \nDr. Richardson is widely recognized for translating complex financial concepts into clear\, actionable strategies. She will share how financial knowledge\, ownership\, and strong business foundations are essential for long-term success in entertainment and media. MC Lyte brings decades of experience as an artist\, executive\, and entrepreneur. She will offer firsthand insight into building a sustainable career\, expanding beyond performance into business leadership\, and creating meaningful impact through entrepreneurship and philanthropy. \nTogether\, they will explore: \n\nHow to strategically apply your degree within the entertainment business\nThe importance of financial literacy and ownership in creative industries\nBuilding multiple streams of income\nTurning talent\, education\, and influence into long-term wealth and legacy\n\nWhether you aspire to work in music\, media\, production\, business management\, or entrepreneurship\, this conversation will provide practical tools\, industry perspective\, and inspiration to help you move from education to execution and from opportunity to ownership. \nTuesday\, March 3 | In Person\n3:00PM to 4:30PM\nWhitsett Room\, Sierra Hall\, Room 451 \nDo not miss this opportunity to gain clarity\, confidence\, and a new perspective on what it really means to plan for your financial future. \nRequesting Accommodations\nThe CSUN College of Social and Behavioral Sciences is committed to making its events accessible to everyone. If you require an accommodation or service to fully participate\, please let us know. Note: If you require an ASL interpreter\, please contact us no later than five working days prior to the event. To request accommodations\, please contact Jacqueline Edwards at 818-677-4035 or via email at jacqueline.edwards@csun.edu. \n \n  \n 
URL:https://news.csun.edu/event/financial-literacy-workshops-your-degree-is-not-a-financial-plan-with-dr-lynn-richardson/
LOCATION:Whitsett Room\, SH 451
CATEGORIES:Alumni,Alumni Career & Professional,College of Social and Behavioral Sciences,Community Engagement
ATTACH;FMTTYPE=image/png:https://news.csun.edu/wp-content/uploads/2026/02/FinancialLiteracyEvent_Feature_REV.png
END:VEVENT
BEGIN:VEVENT
DTSTART;TZID=America/Los_Angeles:20260303T170000
DTEND;TZID=America/Los_Angeles:20260303T183000
DTSTAMP:20260422T200517
CREATED:20260212T214304Z
LAST-MODIFIED:20260212T214316Z
UID:10010668-1772557200-1772562600@news.csun.edu
SUMMARY:CSUN Alumni Attorney Networking Group - March Meeting
DESCRIPTION:Join the CSUN Alumni Attorney Networking Group’s March meeting via Zoom to connect and learn with fellow Matador attorneys. \nDate: March 3\, 2026*\nTime: 5:00 p.m.\nCost: Free\nVIA ZOOM \nZoom Link \nMeeting ID: 899 0171 6064 \nPasscode: 438425 \nRegister Here\n*Note March meeting will take place on Tuesday\, March 3\, 2026 \nPresentation: Perfecting Your Fee Agreement So It Protects You by Marshall Cole\, Certified Specialist\, Legal Malpractice Law. \nMarshall Cole of Nemecek & Cole provides a practical\, straightforward guide to drafting fee agreements that truly protect the attorney. The program covers the essential clauses\, ethical requirements\, and risk-management strategies that keep lawyers out of fee disputes and disciplinary trouble\, while highlighting the recurring pitfalls that undermine enforceability. Attorneys will learn how to tighten their agreements\, avoid ambiguity\, and structure terms that reduce exposure from the outset. \nThe Attorney Networking Group’s monthly meetings help build mutually beneficial social connections between fellow Matador attorney alumni. Increasing the potential for consultations and referrals\, our monthly meetings also feature continuing education credits and/or presentations by a guest speaker specifically tailored for practicing attorneys. Feel free to invite fellow Matador attorneys in your network to join.
URL:https://news.csun.edu/event/csun-alumni-attorney-networking-group-march-meeting-2/
LOCATION:Zoom
CATEGORIES:Alumni,Alumni Career & Professional,Alumni Chapters,Career Development
ATTACH;FMTTYPE=image/png:https://news.csun.edu/wp-content/uploads/2024/08/ANG-Standar-Email-Banner-031124.png
END:VEVENT
END:VCALENDAR