BEGIN:VCALENDAR
VERSION:2.0
PRODID:-//CSUN News &amp; Events - ECPv6.11.2//NONSGML v1.0//EN
CALSCALE:GREGORIAN
METHOD:PUBLISH
X-ORIGINAL-URL:https://news.csun.edu
X-WR-CALDESC:Events for CSUN News &amp; Events
REFRESH-INTERVAL;VALUE=DURATION:PT1H
X-Robots-Tag:noindex
X-PUBLISHED-TTL:PT1H
BEGIN:VTIMEZONE
TZID:America/Los_Angeles
BEGIN:DAYLIGHT
TZOFFSETFROM:-0800
TZOFFSETTO:-0700
TZNAME:PDT
DTSTART:20260308T100000
END:DAYLIGHT
BEGIN:STANDARD
TZOFFSETFROM:-0700
TZOFFSETTO:-0800
TZNAME:PST
DTSTART:20261101T090000
END:STANDARD
END:VTIMEZONE
BEGIN:VEVENT
DTSTART;VALUE=DATE:20260126
DTEND;VALUE=DATE:20260207
DTSTAMP:20260420T151222
CREATED:20260115T222227Z
LAST-MODIFIED:20260127T182049Z
UID:10009750-1769385600-1770422399@news.csun.edu
SUMMARY:25% Off Personal Training Sale
DESCRIPTION:Need help achieving your personal fitness goals at an affordable cost? Get 25% off for personal training for a limited time! With our newly-structured training packages\, there are options for both students and non-students\, no matter your skill level or goals.   \nAfter purchasing your sessions at the SRC front desk\, a trainer will contact you within 5 business days. Get the encouragement and expertise you need to start the year off strong!   \n\n\n\n\nStudent\nNon-Student\n\n\nSessions\nBefore\nAfter\nBefore\nAfter\n\n\n2\n$62.50\n$46.88\n$130\n$97.50\n\n\n2 \n(Build-A-Workout)\n\n\n4\n$117.50\n$88.13\n$224.40\n$168.30\n\n\n8\n$227.50\n$170.63\n$473.20\n$354.90\n\n\n12\n$330\n$247.50\n$686.40\n$514.80\n\n\n\nDo you need interpretation for an event? If so\, please fill out the Interpreting Services Request Form at least seven business days prior to the event. 
URL:https://news.csun.edu/event/25-off-personal-training-sale/
LOCATION:Student Recreation Center\, University Student Union\, 18111 Nordhoff St.\, Northridge\, CA\, 91330-8449\, United States
CATEGORIES:Student Recreation Center,University Student Union
ATTACH;FMTTYPE=image/png:https://news.csun.edu/wp-content/uploads/2026/01/Calendar-SRCPersonalTrainingSale_SP26.png
ORGANIZER;CN="USU Student Recreation Center":MAILTO:src@csun.edu
GEO:34.2397767274;-118.525089862
X-APPLE-STRUCTURED-LOCATION;VALUE=URI;X-ADDRESS=Student Recreation Center University Student Union 18111 Nordhoff St. Northridge CA 91330-8449 United States;X-APPLE-RADIUS=500;X-TITLE=18111 Nordhoff St.:geo:-118.525089862,34.2397767274
END:VEVENT
BEGIN:VEVENT
DTSTART;VALUE=DATE:20260129
DTEND;VALUE=DATE:20260313
DTSTAMP:20260420T151222
CREATED:20260128T004120Z
LAST-MODIFIED:20260128T004402Z
UID:10010321-1769644800-1773359999@news.csun.edu
SUMMARY:A Stitch & Glitch in Time
DESCRIPTION:January 20 – March 12\, 2026\nReception: Thursday\, January 29 from 5:00 – 7:30pm\n \nA Stitch & Glitch in Time brings together thirteen Los Angeles-based artists who use textiles to explore technology\, fashion\, and collective histories. Los Angeles has a long history in textile production\, both for industrial use and artistic expression. The processes and materials utilized by these artists embody this long and complex history – highlighting how textiles can simultaneously be highly personal objects while revealing the larger economic and social circumstances they were created within. \n  \nExhibition Artists: Fafnir Adamites\, Ekta Aggarwal\, Diane Briones Williams\, Lavialle Campbell\, Mimi Haddon\, Lorenzo Hurtado Segovia\, Ahree Lee\, Aubrey Longley-Cook\, Kayla Mattes\, Minga Opazo\, Aneesa Shami Zizzo\, Irene Georgia Tsatsos\, and Jenny Yurshansky. \n  \nThis exhibition was curated by Holly Jerger\, CSUN Art Galleries Director. The exhibition is made possible through the generous support of the Mike Curb College of Arts\, Media\, and Communication and Louise Lewis. Additional support provided by the Instructionally Related Activities Committee and Arts Council for CSUN. \n  \nThis exhibition is part of Handwork 2026\, Craft in America’s nationwide semiquincentennial collaboration showcasing the importance of the handmade and celebrating the diversity of craft that defines America. \n  \nFree Admission
URL:https://news.csun.edu/event/a-stitch-glitch-in-time/
CATEGORIES:Art Galleries,Arts and Culture
END:VEVENT
BEGIN:VEVENT
DTSTART;VALUE=DATE:20260201
DTEND;VALUE=DATE:20260301
DTSTAMP:20260420T151222
CREATED:20260130T235847Z
LAST-MODIFIED:20260203T223148Z
UID:10010351-1769904000-1772323199@news.csun.edu
SUMMARY:Africana Studies Celebrates 100 Years of Black History Month
DESCRIPTION:Honoring Our Roots\, Strengthening Our Path\, and Shaping Our Future. \nThe theme invites the CSUN community to explore and celebrate the vast and dynamic history of the African Diaspora — from the brilliance of ancient kingship to the enduring legacy of Black excellence across centuries. It uncovers generations of resilience\, growth\, and evolution\, reminding us that our story is one of continual progress and transformation. By reflecting on the triumphs and struggles that have shaped our collective journey\, we strengthen our path towards equity\, unity\, and empowerment. Most importantly\, this theme centers the next generation of scholars and change-makers\, whose innovation\, leadership\, and commitment will carry the community into a new era of achievement and possibility. \nSchedule of Events\nMemorial of Dr. Darryle Gatlin\nMonday\, February 9\, 2026\n4:00PM-6:00PM\nLocation: University Student Union | Grand Salon \nBlack Student Athlete Exchange\nMonday\, February 16\, 2026\n6:00PM-7:30PM\nLocation: University Student Union | Grand Salon \nBodies\, Power\, and Protest: Sport as a Site of Black Resistance\nWednesday\, February 18\, 2026\n10:00AM-11:15AM\nLocation: Whitsett Room | Sierra Hall 451 \nAfrican American Cotillions — History\, Culture\, and Tradition\nThursday\, February 19\, 2026\n11:00AM-1:00PM\nLocation: TBA | Please check back \nBlack Poetry Workshop: Annual Celebration of Black Poets and Poetry featuring PoetRoni Girl of LA\nThursday\, February 19\, 2026\n5:00PM-7:00PM\nLocation: TBA | Please check back \nThe Black Trilogy: Shaping the Future Through Sound\nWednesday\, February 25\, 2026\n1:00PM-2:15PM\nLocation: University Student Union | Flintridge Room \nDistinguished Visitor Speaker Program\, 100 Years Black History Month Celebration Lecture with Professor Stephen A. Small\nWednesday\, February 26\, 2026\n11:30AM-12:45AM\nLocation: University Student Union | Grand Salon \nAfrican American Empowerment Summit\nSaturday\, February 28\, 2026\n9:00AM-2:00PM\nLocation: University Student Union | Grand Salon \n\nRequesting Accommodations\nThe CSUN Department of Africana Studies and the College of Social and Behavioral Sciences are committed to making our events accessible to everyone. If you require an accommodation or service to fully participate\, please let us know. Note: If you require an ASL interpreter\, please contact us at least 5 working days prior to the event. To request accommodations\, please contact Dr. Cedric Hackett at cedric.hackett@csun.edu.
URL:https://news.csun.edu/event/africana-studies-celebrates-100-years-of-black-history-month/
CATEGORIES:Alumni,Black History,College of Social and Behavioral Sciences
ATTACH;FMTTYPE=image/png:https://news.csun.edu/wp-content/uploads/2026/01/BHM_2026_Featrue.png
ORGANIZER;CN="Department of Africana Studies":MAILTO:cedric.hackett@csun.edu
END:VEVENT
BEGIN:VEVENT
DTSTART;VALUE=DATE:20260201
DTEND;VALUE=DATE:20260208
DTSTAMP:20260420T151222
CREATED:20250410T161806Z
LAST-MODIFIED:20250417T171545Z
UID:10006198-1769904000-1770508799@news.csun.edu
SUMMARY:Mandatory Virtual Spring Graduate Program Orientation for incoming students.
DESCRIPTION:The Virtual Spanish M.A. Orientation welcomes new students and provides essential information on academic requirements\, course selection and graduation pathways. Topics include degree mapping and requirements\, financial and career opportunities\, scholarships such as the Barbara Ann Ward Scholarship and the scholarship that gives the opportunity to teach a Spanish class for a year (TAship). Students will also learn about mentoring programs\, service-learning opportunities\, and resources to support their academic journey. This session is key to ensuring your successful start to the program. We are looking forward to meeting you! \n*Orientations happen during the first two weeks of the semester. For specific orientation date\, contact Graduate Program Director.
URL:https://news.csun.edu/event/mandatory-virtual-spring-graduate-program-orientation-for-incoming-students/
END:VEVENT
BEGIN:VEVENT
DTSTART;TZID=America/Los_Angeles:20260204T100000
DTEND;TZID=America/Los_Angeles:20260204T110000
DTSTAMP:20260420T151222
CREATED:20260121T143823Z
LAST-MODIFIED:20260121T143823Z
UID:10010213-1770199200-1770202800@news.csun.edu
SUMMARY:Turnitin AI Detection
DESCRIPTION:Hosted by Herbert Serrano \n \nGain a clear understanding of how Turnitin’s AI detection works\, its limitations\, and best practices for interpreting reports. This session helps faculty navigate AI-related integrity concerns and communicate clear expectations to students. \n \nJoin the event on Zoom\nYou will need to be signed into Zoom with your csun.edu or my.csun.edu email address to join. \nIf you are signed into the Zoom app with a different account\, log out of Zoom\, and select the Single Sign-On (SSO) button near the bottom. If Zoom asks for a domain enter csun\, and you will be guided to CSUN’s SSO page. \n*If you require an ASL interpreter\, please contact your department. \n\n**For Zoom captions – please pre-enable automated captions/transcript on the Zoom website (not the app) before the meeting begins as it cannot be turned on while the meeting is running. If you have any questions\, contact ftc@csun.edu
URL:https://news.csun.edu/event/turnitin-ai-detection-6/
LOCATION:Online via Zoom; Connection details provided upon registration
CATEGORIES:Artificial Intelligence (AI),Information Technology,Learning Technologies
ATTACH;FMTTYPE=image/png:https://news.csun.edu/wp-content/uploads/2024/10/turnitin-ai-detection-workshop-900x600-1-e1730412454512.png
END:VEVENT
BEGIN:VEVENT
DTSTART;TZID=America/Los_Angeles:20260204T100000
DTEND;TZID=America/Los_Angeles:20260204T140000
DTSTAMP:20260420T151222
CREATED:20260115T004028Z
LAST-MODIFIED:20260402T215032Z
UID:10009745-1770199200-1770213600@news.csun.edu
SUMMARY:The Blend
DESCRIPTION:Learn about valuable veteran resources from external partners at The Blend. Each month will feature a different Veteran Service Organization\, so stop by the VRC for each session.
URL:https://news.csun.edu/event/the-blend-4/2026-02-04/
LOCATION:Veterans Resource Center\, University Student Union\, 18111 Nordhoff St.\, Northridge\, CA\, 91330-8272\, United States
CATEGORIES:University Student Union,Veterans Resource Center
ATTACH;FMTTYPE=image/png:https://news.csun.edu/wp-content/uploads/2026/01/826702342-calendar-vrctheblend_sp26.png
ORGANIZER;CN="USU Veterans Resource Center":MAILTO:vrc@csun.edu
GEO:34.2396586826;-118.525485205
X-APPLE-STRUCTURED-LOCATION;VALUE=URI;X-ADDRESS=Veterans Resource Center University Student Union 18111 Nordhoff St. Northridge CA 91330-8272 United States;X-APPLE-RADIUS=500;X-TITLE=18111 Nordhoff St.:geo:-118.525485205,34.2396586826
END:VEVENT
BEGIN:VEVENT
DTSTART;TZID=America/Los_Angeles:20260204T110000
DTEND;TZID=America/Los_Angeles:20260204T140000
DTSTAMP:20260420T151222
CREATED:20251216T162553Z
LAST-MODIFIED:20260107T233459Z
UID:10009432-1770202800-1770213600@news.csun.edu
SUMMARY:Matador Employer Resume Review
DESCRIPTION:In collaboration with Global HSI Equity Innovation Hub and Career Center join esteemed alumni and employers. Your resume is often your first chance to make a solid impression on employers. CSUNs Employer Resume Review gives you a hands-on opportunity to get real feedback from hiring professionals across multiple industries. Bring a printed copy of your resume and use this chance to learn directly from the people who review applications every day. \nRegister Today!
URL:https://news.csun.edu/event/matador-employer-resume-review/
LOCATION:ATEC Lobby
CATEGORIES:Alumni,Career Center,Career Development
ATTACH;FMTTYPE=image/png:https://news.csun.edu/wp-content/uploads/2025/12/Matador-Employer-Resume-Review-Web-Event-scaled.png
ORGANIZER;CN="Career Center":MAILTO:career.center@csun.edu
END:VEVENT
BEGIN:VEVENT
DTSTART;TZID=America/Los_Angeles:20260204T120000
DTEND;TZID=America/Los_Angeles:20260204T130000
DTSTAMP:20260420T151222
CREATED:20260202T145812Z
LAST-MODIFIED:20260206T215523Z
UID:10010355-1770206400-1770210000@news.csun.edu
SUMMARY:Workshop 2: Academic Organization
DESCRIPTION:Join us for a series of workshops on research\, career prep\, and grad school guidance\, designed to help STEM transfer students thrive\, and open to all CSUN students! \nBadge workshops will be offered in-person (Monday’s\, Wednesday’s) and via Zoom (Friday)  in Spring 2026\n\n\nMonday’s: 3-4PM –  Bookstein Hall (BB) #1240\nWednesday’s: 12-1PM – Bookstein Hall (BB) #1238\n\n\nWed\, Feb 4\, 12–1 PM \nThur\, Feb 12\, 4–5:00 PM [Zoom] \nMon\, Feb 9\, 3–4 PM [In-person] \nIf you choose the virtual option\, you will be provided with instructions on how to access the Zoom workshop after you have RSVP-ed for a workshop. \nRSVP: https://tinyurl.com/n8rbr23z
URL:https://news.csun.edu/event/workshop-2-academic-organization/2026-02-04/
LOCATION:Bookstein Hall (BB) #1240\, 18111 Nordhoff St\, Northridge\, 91330\, United States
CATEGORIES:HERE Center
ATTACH;FMTTYPE=image/png:https://news.csun.edu/wp-content/uploads/2026/02/Spring-2026-Badge-Project-Workshop-Flyer-scaled.png
ORGANIZER;CN="START":MAILTO:start.office@csun.edu
END:VEVENT
BEGIN:VEVENT
DTSTART;TZID=America/Los_Angeles:20260204T120000
DTEND;TZID=America/Los_Angeles:20260204T130000
DTSTAMP:20260420T151222
CREATED:20260202T204622Z
LAST-MODIFIED:20260202T223819Z
UID:10010361-1770206400-1770210000@news.csun.edu
SUMMARY:Demystifying CSUN: Practical sessions that clarify campus roles\, processes\, and resources
DESCRIPTION:With Jamie Johnson\, Associate Librarian \nCSUN University Library’s Subject Specialists support teaching and research in ways many faculty don’t always know about. Learn what they do\, how to work with them\, and bring your questions. Feel free to bring your lunch! Questions? Email facdev@csun.edu \nDate and Time: Wednesday\, February 4 from noon to 1:00 p.m. \nLocation: FacDev Commons (University Library Room 3) \nREGISTER HERE \n  \n 
URL:https://news.csun.edu/event/demystifying-csun-practical-sessions-that-clarify-campus-roles-processes-and-resources/
CATEGORIES:Faculty Development,Faculty Programs and Initiatives
ATTACH;FMTTYPE=image/jpeg:https://news.csun.edu/wp-content/uploads/2026/02/CSUN-library-e1770065414526.jpg
ORGANIZER;CN="Faculty Development":MAILTO:facdev@csun.edu
END:VEVENT
BEGIN:VEVENT
DTSTART;TZID=America/Los_Angeles:20260204T120000
DTEND;TZID=America/Los_Angeles:20260204T140000
DTSTAMP:20260420T151222
CREATED:20260115T003305Z
LAST-MODIFIED:20260122T191314Z
UID:10009733-1770206400-1770213600@news.csun.edu
SUMMARY:Vets Uncensored
DESCRIPTION:Attention CSUN veterans\, reservists and National Guard members! Come share your experiences\, engage in meaningful conversations and build community at Vets Uncensored.  \nRetired Marine Corps veteran and University Counseling Services member Dr. Abram Milton will help us navigate these conversations and refreshments will be provided\, so come connect with your veteran village.  \n  \nDo you need interpretation for an event? If so\, please fill out the Interpreting Services Request Form at least seven business days prior to the event. 
URL:https://news.csun.edu/event/vets-uncensored/2026-02-04/
LOCATION:Altadena Room\, East Conference Center\, University Student Union\, 18111 Nordhoff St.\, Northridge\, CA\, 91330-8272\, United States
CATEGORIES:University Student Union,Veterans Resource Center
ATTACH;FMTTYPE=image/png:https://news.csun.edu/wp-content/uploads/2026/01/Calendar.png
ORGANIZER;CN="USU Veterans Resource Center":MAILTO:vrc@csun.edu
GEO:34.2400298826;-118.525466625
X-APPLE-STRUCTURED-LOCATION;VALUE=URI;X-ADDRESS=Altadena Room East Conference Center University Student Union 18111 Nordhoff St. Northridge CA 91330-8272 United States;X-APPLE-RADIUS=500;X-TITLE=18111 Nordhoff St.:geo:-118.525466625,34.2400298826
END:VEVENT
BEGIN:VEVENT
DTSTART;TZID=America/Los_Angeles:20260204T123000
DTEND;TZID=America/Los_Angeles:20260204T140000
DTSTAMP:20260420T151222
CREATED:20251223T183952Z
LAST-MODIFIED:20251223T183952Z
UID:10009510-1770208200-1770213600@news.csun.edu
SUMMARY:Bright Smiles\, Healthy Futures | Sonrisas Brillantes\, Futuros Saludables
DESCRIPTION:Join Dr. Lucy Hallajian\, DDS for a workshop on protecting your child’s smile. Learn practical tips for oral hygiene\, nutrition\, and preventive care to help build healthy habits early. This family-friendly session will give parents the tools to keep kids’ teeth strong and bright. \nFebruary 4\, 2026 at 12:30 PMThis session will explore practical strategies that families can use to maintain healthy teeth\, prevent dental problems\, and promote lifelong oral care habits. \nTo register\, please visit: https://csun.zoom.us/meeting/register/DzwjsHM1Tz2Y4T0Hb23uNwThis workshop will be presented in English with Spanish translation available. \nFor more information\, contact Diana at diana.chulak@csun.edu or (818) 677-5575 \n\nAcompaña a la Dra. Lucy Hallajian\, DDS en un taller sobre cómo proteger la sonrisa de tu hijo. Aprende consejos prácticos sobre higiene oral\, nutrición y cuidado preventivo para ayudar a crear hábitos saludables desde temprana edad. Esta sesión familiar brindará a los padres las herramientas para mantener los dientes de los niños fuertes y brillantes. \n4 de febrero de 2026 a las 12:30 PMEsta sesión explorará estrategias prácticas que las familias pueden usar para mantener dientes saludables\, prevenir problemas dentales y fomentar hábitos de cuidado oral desde temprana edad. \nRegístrate aquí: https://csun.zoom.us/meeting/register/DzwjsHM1Tz2Y4T0Hb23uNwEste taller se presentará en inglés con traducción al español disponible. \nPara más información\, comuníquese con Diana al diana.chulak@csun.edu o (818) 677-5575
URL:https://news.csun.edu/event/bright-smiles-healthy-futures-sonrisas-brillantes-futuros-saludables/
LOCATION:Online via Zoom
CATEGORIES:Family Focus Center-Workshops and Trainings,Family Focus Resource Center
ATTACH;FMTTYPE=image/png:https://news.csun.edu/wp-content/uploads/2025/12/Bright-Smiles-Healthy-Futures-1.png
END:VEVENT
BEGIN:VEVENT
DTSTART;TZID=America/Los_Angeles:20260204T140000
DTEND;TZID=America/Los_Angeles:20260204T150000
DTSTAMP:20260420T151222
CREATED:20251218T220203Z
LAST-MODIFIED:20251218T220203Z
UID:10009474-1770213600-1770217200@news.csun.edu
SUMMARY:Immigration Guidance Webinar
DESCRIPTION:We understand that during these unprecedented times\, you may have additional questions about your F1 visa\, I-20\, travel and more. Please attend one of our immigration advisement webinars and meet with an International Student Advisor. While not all the questions have answers at this time\, advisors will do their best to address your concerns with the information available. The webinars will be hosted via ZOOM. Approximately 1 hr
URL:https://news.csun.edu/event/immigration-guidance-webinar-9/
LOCATION:Zoom
CATEGORIES:IESC,International and Exchange Student Center
ATTACH;FMTTYPE=image/jpeg:https://news.csun.edu/wp-content/uploads/2025/04/Immigration-Guidance-Webinar2.jpg
END:VEVENT
BEGIN:VEVENT
DTSTART;TZID=America/Los_Angeles:20260204T150000
DTEND;TZID=America/Los_Angeles:20260204T170000
DTSTAMP:20260420T151222
CREATED:20260107T224340Z
LAST-MODIFIED:20260107T224340Z
UID:10009625-1770217200-1770224400@news.csun.edu
SUMMARY:Let's Talk
DESCRIPTION:Talking can help. As an international student\, there are many new experiences that will bring excitement and others that may bring discomfort. Whether it is homesickness\, academic concerns\, relationship problems\, difficulty adjusting\, or other stress\, sharing your concerns with another person can make a positive difference. \nWhat is Let’s Talk? Let’s Talk is a safe\, casual\, and private drop-in service provided by University Counseling Services. A Let’s Talk counselor\, Dr. Sunil Obediah\, is available to listen\, offer support\, provide resources\, and explore solutions \nLet’s Talk consultations are: \n\nFREE to currently enrolled CSUN students and no appointment is needed.\nOffered on a first-come\, first-served basis.\n20 to 25 minutes in length.\nNot a substitute for counseling.
URL:https://news.csun.edu/event/lets-talk-9/2026-02-04/
LOCATION:International & Exchange Student Center\, USU
CATEGORIES:IESC,International and Exchange Student Center
ATTACH;FMTTYPE=image/jpeg:https://news.csun.edu/wp-content/uploads/2025/04/LETSTALK2.jpg
END:VEVENT
BEGIN:VEVENT
DTSTART;TZID=America/Los_Angeles:20260204T150000
DTEND;TZID=America/Los_Angeles:20260204T170000
DTSTAMP:20260420T151222
CREATED:20260121T213743Z
LAST-MODIFIED:20260127T225101Z
UID:10010240-1770217200-1770224400@news.csun.edu
SUMMARY:Deborah Swan and The Impresario: Leon Hefflin and the World’s First Annual Jazz Festival
DESCRIPTION:Join us for a presentation on The Impresario: Leon Hefflin and the World’s First Annual Jazz Festival by the author\, Deborah Swan. \nDeborah has dedicated herself to honoring and preserving the legacy of her grandfather\, Leon\nHefflin Sr. Hefflin was the producer of the long running Cavalcade of Jazz at Wrigley Field in Los Angeles\, California. Cavalcade of Jazz is considered the first large-scale Jazz music event in the United States. \nThis event is part of the CSUN University Library’s Black History Month event series. \nThank you to our co-sponsors for making these events possible: University Student Union (USU)\, Educational Opportunity Program (EOP)\, California Faculty Association (CFA)\, Provost’s Office\, TRENDS club\, Africana Studies Department\, History Department\, and the Criminology Department.
URL:https://news.csun.edu/event/deborah-swan-and-the-impresario-leon-heflin-and-the-worlds-first-annual-jazz-festival/
LOCATION:Jack and Florence Ferman Presentation Room\, University Library
CATEGORIES:Arts and Culture,Black History,Education Opportunity Program (EOP),Heritage Month
ATTACH;FMTTYPE=image/jpeg:https://news.csun.edu/wp-content/uploads/2026/01/bhm-2026-thumb.jpg
ORGANIZER;CN="University Library":MAILTO:library.event@csun.edu
END:VEVENT
BEGIN:VEVENT
DTSTART;TZID=America/Los_Angeles:20260204T160000
DTEND;TZID=America/Los_Angeles:20260204T183000
DTSTAMP:20260420T151222
CREATED:20260120T231637Z
LAST-MODIFIED:20260402T220700Z
UID:10010204-1770220800-1770229800@news.csun.edu
SUMMARY:Welcome Black
DESCRIPTION:Celebrate the unique and diverse cultural heritages that make up our Matador community with Cultural Welcomes. Snack on delicious food from around the world\, enjoy performances and get connected with a wide range of organizations. Don’t forget to grab your Cultural Welcomes tote bag and enter in our lucky draw\, with prizes that are specific to the traditions that we are celebrating throughout the week.   \nCome together and embrace the numerous identities that enrich our campus!   \nDo you need interpretation for an event? If so\, please fill out the Interpreting Services Request Form at least seven business days prior to the event. 
URL:https://news.csun.edu/event/welcome-black-3/
LOCATION:Northridge Center Complex\, University Student Union\, 18111 Nordhoff St.\, Northridge\, CA\, 91330-8272\, United States
CATEGORIES:Black History,Heritage Month,University Student Union
ATTACH;FMTTYPE=image/png:https://news.csun.edu/wp-content/uploads/2026/01/823770459-edi_culturalwelcomes_sp26-calendar_0204.png
ORGANIZER;CN="University Student Union":MAILTO:usuevents@csun.edu
GEO:34.2401116195;-118.526225853
X-APPLE-STRUCTURED-LOCATION;VALUE=URI;X-ADDRESS=Northridge Center Complex University Student Union 18111 Nordhoff St. Northridge CA 91330-8272 United States;X-APPLE-RADIUS=500;X-TITLE=18111 Nordhoff St.:geo:-118.526225853,34.2401116195
END:VEVENT
BEGIN:VEVENT
DTSTART;TZID=America/Los_Angeles:20260204T160000
DTEND;TZID=America/Los_Angeles:20260204T183000
DTSTAMP:20260420T151222
CREATED:20260127T214004Z
LAST-MODIFIED:20260130T191902Z
UID:10010307-1770220800-1770229800@news.csun.edu
SUMMARY:Welcome Black
DESCRIPTION:Welcome Black is a fresh start to the new semester filled with great energy\, resources\, and new connections. \n \n  \n 
URL:https://news.csun.edu/event/welcome-black-2026/
LOCATION:CSUN USU – Northridge Center\, 9346 E University Dr\,\, Northridge\, CA\, 91325\, United States
CATEGORIES:Black History,Heritage Month
ATTACH;FMTTYPE=image/jpeg:https://news.csun.edu/wp-content/uploads/2026/01/Featured-Image-JPG.jpg
ORGANIZER;CN="University Student Union":MAILTO:usuevents@csun.edu
END:VEVENT
BEGIN:VEVENT
DTSTART;TZID=America/Los_Angeles:20260204T170000
DTEND;TZID=America/Los_Angeles:20260204T183000
DTSTAMP:20260420T151222
CREATED:20260115T202135Z
LAST-MODIFIED:20260121T173059Z
UID:10009749-1770224400-1770229800@news.csun.edu
SUMMARY:CSUN Alumni Attorney Networking Group - February Meeting
DESCRIPTION:Join the CSUN Alumni Attorney Networking Group’s February meeting via Zoom to connect and learn with fellow Matador attorneys. \nDate: February 4\, 2026\nTime: 5:00 p.m.\nCost: Free\nVIA ZOOM \nZoom Link \nMeeting ID: 899 0171 6064 \nPasscode: 438425 \nRegister Here\nPresentation: “You Can’t Make This Stuff Up”: War Stories in the World of Probate and Estate Planning and Disputes \nSpeaker: Alexander Prado Baxter\, Principal Prabax Legal. Alexandra Prado Baxter is a proud graduate from the University of Southern California and received her Juris Doctor from Western State College of Law at Westcliff University. \nThe Attorney Networking Group’s monthly meetings help build mutually beneficial social connections between fellow Matador attorney alumni. Increasing the potential for consultations and referrals\, our monthly meetings also feature continuing education credits and/or presentations by a guest speaker specifically tailored for practicing attorneys. Feel free to invite fellow Matador attorneys in your network to join.
URL:https://news.csun.edu/event/csun-alumni-attorney-networking-group-february-meeting-2/
LOCATION:Zoom
CATEGORIES:Alumni,Alumni Career & Professional,Alumni Chapters,Career Development
ATTACH;FMTTYPE=image/png:https://news.csun.edu/wp-content/uploads/2024/08/ANG-Standar-Email-Banner-031124.png
END:VEVENT
BEGIN:VEVENT
DTSTART;TZID=America/Los_Angeles:20260204T180000
DTEND;TZID=America/Los_Angeles:20260204T190000
DTSTAMP:20260420T151222
CREATED:20260128T184416Z
LAST-MODIFIED:20260128T231908Z
UID:10010326-1770228000-1770231600@news.csun.edu
SUMMARY:MLA Style Formatting
DESCRIPTION:Modality: Zoom \nTo sign up\, follow the instructions below or call the LRC at (818) 677-2033. \n\nLog in to EAB.\nSelect the blue “Schedule appointment or view drop-in availability” button on the top right.\nOn the next screen\, select “Learning Resource Center (LRC)” from the first drop-down menu.\nUnder “Reason for your appointment\,” select the desired workshop. You must sign up more than one hour prior to the start of the workshop.\nYou may input your desired date. Then\, select “Find Available Time.” You will be taken to a screen which displays all currently available workshop dates and times.\nSelect the “appointment” time (the day and time of the workshop\, usually displayed within an oval).\nThen\, read the appointment details for important information\, such as the Zoom link for online workshops. In the “Would you like to share anything else?” box\, please include the words “proof needed” and your professor’s email address if you’d like us to send proof of attendance\, and any other important information such as whether you will be joined by an interpreter.\nSelect what type of reminders you’d like to receive and then select “Schedule.”\nYou can verify and cancel your workshop registration at any time by clicking “View Appointments.”
URL:https://news.csun.edu/event/mla-style-formatting/
LOCATION:Zoom
CATEGORIES:Writing Center
END:VEVENT
BEGIN:VEVENT
DTSTART;TZID=America/Los_Angeles:20260204T183000
DTEND;TZID=America/Los_Angeles:20260204T203000
DTSTAMP:20260420T151222
CREATED:20251126T214802Z
LAST-MODIFIED:20251126T214802Z
UID:10009331-1770229800-1770237000@news.csun.edu
SUMMARY:Black and African American Family Focus Support Group
DESCRIPTION:Coming together to create a safe\, supportive place to connect with other families of children\, young and old\, with special needs\, to share resources\, provide advocacy and to be a part of an inclusive community.\nFor more information contact Theresa at theresa.quary@csun.edu \nJoin us at 6:30pm via Zoom the first Wednesday of the month\nMeeting dates are: \n\n\n\n\n\nFebruary 4\nMarch 4\nApril 1\nMay 6\nJune 3
URL:https://news.csun.edu/event/black-and-african-american-family-focus-support-group/2026-02-04/
LOCATION:Online via Zoom
CATEGORIES:Family Focus Resource Center,Family Focus Resource Center Parent Support Groups
ATTACH;FMTTYPE=image/png:https://news.csun.edu/wp-content/uploads/2025/11/Black-African-American-Family-Focus-Support-Group-2026.png
END:VEVENT
END:VCALENDAR