BEGIN:VCALENDAR
VERSION:2.0
PRODID:-//CSUN News &amp; Events - ECPv6.11.2//NONSGML v1.0//EN
CALSCALE:GREGORIAN
METHOD:PUBLISH
X-ORIGINAL-URL:https://news.csun.edu
X-WR-CALDESC:Events for CSUN News &amp; Events
REFRESH-INTERVAL;VALUE=DURATION:PT1H
X-Robots-Tag:noindex
X-PUBLISHED-TTL:PT1H
BEGIN:VTIMEZONE
TZID:America/Los_Angeles
BEGIN:DAYLIGHT
TZOFFSETFROM:-0800
TZOFFSETTO:-0700
TZNAME:PDT
DTSTART:20260308T100000
END:DAYLIGHT
BEGIN:STANDARD
TZOFFSETFROM:-0700
TZOFFSETTO:-0800
TZNAME:PST
DTSTART:20261101T090000
END:STANDARD
END:VTIMEZONE
BEGIN:VEVENT
DTSTART;VALUE=DATE:20260126
DTEND;VALUE=DATE:20260207
DTSTAMP:20260420T012207
CREATED:20260115T222227Z
LAST-MODIFIED:20260127T182049Z
UID:10009750-1769385600-1770422399@news.csun.edu
SUMMARY:25% Off Personal Training Sale
DESCRIPTION:Need help achieving your personal fitness goals at an affordable cost? Get 25% off for personal training for a limited time! With our newly-structured training packages\, there are options for both students and non-students\, no matter your skill level or goals.   \nAfter purchasing your sessions at the SRC front desk\, a trainer will contact you within 5 business days. Get the encouragement and expertise you need to start the year off strong!   \n\n\n\n\nStudent\nNon-Student\n\n\nSessions\nBefore\nAfter\nBefore\nAfter\n\n\n2\n$62.50\n$46.88\n$130\n$97.50\n\n\n2 \n(Build-A-Workout)\n\n\n4\n$117.50\n$88.13\n$224.40\n$168.30\n\n\n8\n$227.50\n$170.63\n$473.20\n$354.90\n\n\n12\n$330\n$247.50\n$686.40\n$514.80\n\n\n\nDo you need interpretation for an event? If so\, please fill out the Interpreting Services Request Form at least seven business days prior to the event. 
URL:https://news.csun.edu/event/25-off-personal-training-sale/
LOCATION:Student Recreation Center\, University Student Union\, 18111 Nordhoff St.\, Northridge\, CA\, 91330-8449\, United States
CATEGORIES:Student Recreation Center,University Student Union
ATTACH;FMTTYPE=image/png:https://news.csun.edu/wp-content/uploads/2026/01/Calendar-SRCPersonalTrainingSale_SP26.png
ORGANIZER;CN="USU Student Recreation Center":MAILTO:src@csun.edu
GEO:34.2397767274;-118.525089862
X-APPLE-STRUCTURED-LOCATION;VALUE=URI;X-ADDRESS=Student Recreation Center University Student Union 18111 Nordhoff St. Northridge CA 91330-8449 United States;X-APPLE-RADIUS=500;X-TITLE=18111 Nordhoff St.:geo:-118.525089862,34.2397767274
END:VEVENT
BEGIN:VEVENT
DTSTART;VALUE=DATE:20260129
DTEND;VALUE=DATE:20260313
DTSTAMP:20260420T012207
CREATED:20260128T004120Z
LAST-MODIFIED:20260128T004402Z
UID:10010321-1769644800-1773359999@news.csun.edu
SUMMARY:A Stitch & Glitch in Time
DESCRIPTION:January 20 – March 12\, 2026\nReception: Thursday\, January 29 from 5:00 – 7:30pm\n \nA Stitch & Glitch in Time brings together thirteen Los Angeles-based artists who use textiles to explore technology\, fashion\, and collective histories. Los Angeles has a long history in textile production\, both for industrial use and artistic expression. The processes and materials utilized by these artists embody this long and complex history – highlighting how textiles can simultaneously be highly personal objects while revealing the larger economic and social circumstances they were created within. \n  \nExhibition Artists: Fafnir Adamites\, Ekta Aggarwal\, Diane Briones Williams\, Lavialle Campbell\, Mimi Haddon\, Lorenzo Hurtado Segovia\, Ahree Lee\, Aubrey Longley-Cook\, Kayla Mattes\, Minga Opazo\, Aneesa Shami Zizzo\, Irene Georgia Tsatsos\, and Jenny Yurshansky. \n  \nThis exhibition was curated by Holly Jerger\, CSUN Art Galleries Director. The exhibition is made possible through the generous support of the Mike Curb College of Arts\, Media\, and Communication and Louise Lewis. Additional support provided by the Instructionally Related Activities Committee and Arts Council for CSUN. \n  \nThis exhibition is part of Handwork 2026\, Craft in America’s nationwide semiquincentennial collaboration showcasing the importance of the handmade and celebrating the diversity of craft that defines America. \n  \nFree Admission
URL:https://news.csun.edu/event/a-stitch-glitch-in-time/
CATEGORIES:Art Galleries,Arts and Culture
END:VEVENT
BEGIN:VEVENT
DTSTART;VALUE=DATE:20260201
DTEND;VALUE=DATE:20260301
DTSTAMP:20260420T012207
CREATED:20260130T235847Z
LAST-MODIFIED:20260203T223148Z
UID:10010351-1769904000-1772323199@news.csun.edu
SUMMARY:Africana Studies Celebrates 100 Years of Black History Month
DESCRIPTION:Honoring Our Roots\, Strengthening Our Path\, and Shaping Our Future. \nThe theme invites the CSUN community to explore and celebrate the vast and dynamic history of the African Diaspora — from the brilliance of ancient kingship to the enduring legacy of Black excellence across centuries. It uncovers generations of resilience\, growth\, and evolution\, reminding us that our story is one of continual progress and transformation. By reflecting on the triumphs and struggles that have shaped our collective journey\, we strengthen our path towards equity\, unity\, and empowerment. Most importantly\, this theme centers the next generation of scholars and change-makers\, whose innovation\, leadership\, and commitment will carry the community into a new era of achievement and possibility. \nSchedule of Events\nMemorial of Dr. Darryle Gatlin\nMonday\, February 9\, 2026\n4:00PM-6:00PM\nLocation: University Student Union | Grand Salon \nBlack Student Athlete Exchange\nMonday\, February 16\, 2026\n6:00PM-7:30PM\nLocation: University Student Union | Grand Salon \nBodies\, Power\, and Protest: Sport as a Site of Black Resistance\nWednesday\, February 18\, 2026\n10:00AM-11:15AM\nLocation: Whitsett Room | Sierra Hall 451 \nAfrican American Cotillions — History\, Culture\, and Tradition\nThursday\, February 19\, 2026\n11:00AM-1:00PM\nLocation: TBA | Please check back \nBlack Poetry Workshop: Annual Celebration of Black Poets and Poetry featuring PoetRoni Girl of LA\nThursday\, February 19\, 2026\n5:00PM-7:00PM\nLocation: TBA | Please check back \nThe Black Trilogy: Shaping the Future Through Sound\nWednesday\, February 25\, 2026\n1:00PM-2:15PM\nLocation: University Student Union | Flintridge Room \nDistinguished Visitor Speaker Program\, 100 Years Black History Month Celebration Lecture with Professor Stephen A. Small\nWednesday\, February 26\, 2026\n11:30AM-12:45AM\nLocation: University Student Union | Grand Salon \nAfrican American Empowerment Summit\nSaturday\, February 28\, 2026\n9:00AM-2:00PM\nLocation: University Student Union | Grand Salon \n\nRequesting Accommodations\nThe CSUN Department of Africana Studies and the College of Social and Behavioral Sciences are committed to making our events accessible to everyone. If you require an accommodation or service to fully participate\, please let us know. Note: If you require an ASL interpreter\, please contact us at least 5 working days prior to the event. To request accommodations\, please contact Dr. Cedric Hackett at cedric.hackett@csun.edu.
URL:https://news.csun.edu/event/africana-studies-celebrates-100-years-of-black-history-month/
CATEGORIES:Alumni,Black History,College of Social and Behavioral Sciences
ATTACH;FMTTYPE=image/png:https://news.csun.edu/wp-content/uploads/2026/01/BHM_2026_Featrue.png
ORGANIZER;CN="Department of Africana Studies":MAILTO:cedric.hackett@csun.edu
END:VEVENT
BEGIN:VEVENT
DTSTART;VALUE=DATE:20260201
DTEND;VALUE=DATE:20260208
DTSTAMP:20260420T012207
CREATED:20250410T161806Z
LAST-MODIFIED:20250417T171545Z
UID:10006198-1769904000-1770508799@news.csun.edu
SUMMARY:Mandatory Virtual Spring Graduate Program Orientation for incoming students.
DESCRIPTION:The Virtual Spanish M.A. Orientation welcomes new students and provides essential information on academic requirements\, course selection and graduation pathways. Topics include degree mapping and requirements\, financial and career opportunities\, scholarships such as the Barbara Ann Ward Scholarship and the scholarship that gives the opportunity to teach a Spanish class for a year (TAship). Students will also learn about mentoring programs\, service-learning opportunities\, and resources to support their academic journey. This session is key to ensuring your successful start to the program. We are looking forward to meeting you! \n*Orientations happen during the first two weeks of the semester. For specific orientation date\, contact Graduate Program Director.
URL:https://news.csun.edu/event/mandatory-virtual-spring-graduate-program-orientation-for-incoming-students/
END:VEVENT
BEGIN:VEVENT
DTSTART;TZID=America/Los_Angeles:20260203T100000
DTEND;TZID=America/Los_Angeles:20260203T110000
DTSTAMP:20260420T012207
CREATED:20260121T142129Z
LAST-MODIFIED:20260121T151954Z
UID:10010209-1770112800-1770116400@news.csun.edu
SUMMARY:Building Canvas Rubrics
DESCRIPTION:Hosted by Herbert Serrano & Kacee Williams \nLearn how to design and build effective Canvas rubrics that streamline grading\, clarify expectations\, and support consistent feedback. This hands-on workshop will walk through rubric setup\, best practices\, and tips for aligning rubrics with learning outcomes.  \n\nJoin the event on Zoom\nYou will need to be signed into Zoom with your csun.edu or my.csun.edu email address to join. \nIf you are signed into the Zoom app with a different account\, log out of Zoom\, and select the Single Sign-On (SSO) button near the bottom. If Zoom asks for a domain enter csun\, and you will be guided to CSUN’s SSO page. \n**If you require an ASL interpreter\, please contact your department. \n***For Zoom captions – please pre-enable automated captions/transcript on the Zoom website (not the app) before the meeting begins as it cannot be turned on while the meeting is running. If you have any questions\, contact ftc@csun.edu
URL:https://news.csun.edu/event/building-canvas-rubrics/
LOCATION:Online via Zoom; Connection details provided upon registration
CATEGORIES:Canvas,Information Technology,Workshops
ATTACH;FMTTYPE=image/png:https://news.csun.edu/wp-content/uploads/2024/12/Canvas-Logo-900x600px-e1736813339905.png
END:VEVENT
BEGIN:VEVENT
DTSTART;TZID=America/Los_Angeles:20260203T100000
DTEND;TZID=America/Los_Angeles:20260203T113000
DTSTAMP:20260420T012207
CREATED:20260112T215357Z
LAST-MODIFIED:20260112T223436Z
UID:10009716-1770112800-1770118200@news.csun.edu
SUMMARY:Medi-Cal Basics with Disability Rights California / Lo Básico de Medi-Cal con Disability Rights California
DESCRIPTION:Join FFRC and Disability Rights California (DRC) for a live virtual workshop as part of the monthly Advocacy and Community Engagement (ACE) series. This session will focus on Medi-Cal\, California’s Medicaid program\, and will cover Medi-Cal basics along with important changes beginning in 2026. \nReasonable accommodations\, including American Sign Language (ASL) interpretation\, will be provided. For more information\, please contact Diana at diana.chulak@csun.edu. \nWorkshop dates are: \nEnglish: Tuesday\, February 3\, 2026 | 10:00–11:30 AMSpanish: Thursday\, February 5\, 2026 | 6:00–7:30 PM \nRegister Here: https://forms.gle/jHo3QsWenXK5gazo6 \n\nAcompañe a FFRC y Disability Rights California (DRC) a un seminario web en vivo como parte de la serie mensual de Participación Comunitaria y Defensa (ACE). Esta sesión cubrirá lo básico de Medi-Cal y destacará cambios importantes que comenzarán en 2026. \nPara más información\, comuníquese con Diana a diana.chulak@csun.edu. \nFechas del seminario: \nInglés: Martes\, 3 de febrero de 2026 | 10:00–11:30 AMEspañol: Jueves\, 5 de febrero de 2026 | 6:00–7:30 PM \nRegistrarse aquí: https://forms.gle/jHo3QsWenXK5gazo6
URL:https://news.csun.edu/event/medi-cal-basics-with-disability-rights-california-lo-basico-de-medi-cal-con-disability-rights-california/2026-02-03/
LOCATION:Online via Zoom
CATEGORIES:Family Focus Center-Workshops and Trainings,Family Focus Resource Center
ATTACH;FMTTYPE=image/png:https://news.csun.edu/wp-content/uploads/2026/01/Understanding-Respite-Services.png
END:VEVENT
BEGIN:VEVENT
DTSTART;TZID=America/Los_Angeles:20260203T120000
DTEND;TZID=America/Los_Angeles:20260203T130000
DTSTAMP:20260420T012207
CREATED:20260120T190351Z
LAST-MODIFIED:20260130T200023Z
UID:10010158-1770120000-1770123600@news.csun.edu
SUMMARY:Tuesday Teaching Tips: Learning About Your Students
DESCRIPTION:Discover how to design and implement a short learner profile survey to better understand your students and support their specific goals and needs. \nDate and Time: Tuesday\, February 3 from noon to 1 p.m. \nLocation: Zoom \nRSVP HERE \n 
URL:https://news.csun.edu/event/tuesday-teaching-tips-learning-about-your-students/
CATEGORIES:Faculty Development,Faculty Programs and Initiatives
ATTACH;FMTTYPE=image/png:https://news.csun.edu/wp-content/uploads/2026/01/learning-about-your-students-scaled-e1769803203205.png
END:VEVENT
BEGIN:VEVENT
DTSTART;TZID=America/Los_Angeles:20260203T120000
DTEND;TZID=America/Los_Angeles:20260203T130000
DTSTAMP:20260420T012207
CREATED:20260120T195242Z
LAST-MODIFIED:20260120T195242Z
UID:10010169-1770120000-1770123600@news.csun.edu
SUMMARY:Lunch and Write Series-Spring 2026
DESCRIPTION:Interested in writing accountability this fall? Join the Office of Faculty Programs and Initiatives Mondays this semester from noon to 1 p.m. For questions email Dr. Anne Choi at achoi@csun.edu. \nRegister Here
URL:https://news.csun.edu/event/lunch-and-write-series-spring-2026/2026-02-03/
CATEGORIES:Events,Faculty Development,Faculty Programs and Initiatives
ATTACH;FMTTYPE=image/png:https://news.csun.edu/wp-content/uploads/2025/08/lunch-and-write-series-e1768938192474.png
END:VEVENT
BEGIN:VEVENT
DTSTART;TZID=America/Los_Angeles:20260203T120000
DTEND;TZID=America/Los_Angeles:20260203T140000
DTSTAMP:20260420T012207
CREATED:20260122T000612Z
LAST-MODIFIED:20260127T185509Z
UID:10010261-1770120000-1770127200@news.csun.edu
SUMMARY:Pride Center Open House
DESCRIPTION:You’re invited to a day of community and empowerment at the Pride Center’s Open House! Meet our amazing team who are available to support LGBTQIA2S+ students\, get connected to valuable resources and discover a sense of belonging at the Pride Center. We’ll even have special prizes to help kickstart your semester!  \n  \nDo you need interpretation for an event? If so\, please fill out the Interpreting Services Request Form at least seven business days prior to the event. 
URL:https://news.csun.edu/event/pride-center-open-house-2/
LOCATION:Pride Center\, University Student Union\, 18111 Nordhoff St.\, Northridge\, CA\, 91330-8272\, United States
CATEGORIES:Pride Center,University Student Union
ATTACH;FMTTYPE=image/png:https://news.csun.edu/wp-content/uploads/2026/01/PC_OpenHouse_Calendar_SP26.png
ORGANIZER;CN="USU Pride Center":MAILTO:pride@csun.edu
GEO:34.2400672654;-118.526959911
X-APPLE-STRUCTURED-LOCATION;VALUE=URI;X-ADDRESS=Pride Center University Student Union 18111 Nordhoff St. Northridge CA 91330-8272 United States;X-APPLE-RADIUS=500;X-TITLE=18111 Nordhoff St.:geo:-118.526959911,34.2400672654
END:VEVENT
BEGIN:VEVENT
DTSTART;TZID=America/Los_Angeles:20260203T143000
DTEND;TZID=America/Los_Angeles:20260203T153000
DTSTAMP:20260420T012207
CREATED:20260121T143259Z
LAST-MODIFIED:20260121T151927Z
UID:10010212-1770129000-1770132600@news.csun.edu
SUMMARY:Talk to Your Students About AI
DESCRIPTION:Hosted by Megan Duncan   \nLearn how to confidently talk with your students about AI tools like ChatGPT. This workshop provides clear language\, practical examples\, and guidance for addressing common questions\, academic integrity considerations\, and course policy expectations. Perfect for faculty supporting AI literacy across disciplines. \n\nJoin the event on Zoom\nYou will need to be signed into Zoom with your csun.edu or my.csun.edu email address to join. \nIf you are signed into the Zoom app with a different account\, log out of Zoom\, and select the Single Sign-On (SSO) button near the bottom. If Zoom asks for a domain enter csun\, and you will be guided to CSUN’s SSO page. \n**If you require an ASL interpreter\, please contact your department. \n***For Zoom captions – please pre-enable automated captions/transcript on the Zoom website (not the app) before the meeting begins as it cannot be turned on while the meeting is running. If you have any questions\, contact ftc@csun.edu
URL:https://news.csun.edu/event/talk-to-your-students-about-ai/
LOCATION:Online via Zoom; Connection details provided upon registration
CATEGORIES:Artificial Intelligence (AI),Information Technology,Workshops
ATTACH;FMTTYPE=image/png:https://news.csun.edu/wp-content/uploads/2026/01/Talking-with-Students-About-AI-900x600px-e1736812943763.png
END:VEVENT
BEGIN:VEVENT
DTSTART;TZID=America/Los_Angeles:20260203T150000
DTEND;TZID=America/Los_Angeles:20260203T160000
DTSTAMP:20260420T012207
CREATED:20251216T162152Z
LAST-MODIFIED:20251216T162152Z
UID:10009431-1770130800-1770134400@news.csun.edu
SUMMARY:Launching Your Career Series: How to Find an On-Campus Job
DESCRIPTION:Join us for this workshop that focuses on navigating the process of finding a job on campus.This workshop will cover where to find on-campus job opportunities and how to create a strong application. Representatives from the Federal Work-Study (FWS) program will also be present to explain how the program works and address your questions. \nRegister Today!
URL:https://news.csun.edu/event/launching-your-career-series-how-to-find-an-on-campus-job-2/
LOCATION:Career Center
CATEGORIES:Career Center,Career Development
ATTACH;FMTTYPE=image/png:https://news.csun.edu/wp-content/uploads/2025/07/Launching_Your_Career_Event.png
ORGANIZER;CN="Career Center":MAILTO:career.center@csun.edu
END:VEVENT
BEGIN:VEVENT
DTSTART;TZID=America/Los_Angeles:20260203T153000
DTEND;TZID=America/Los_Angeles:20260203T163000
DTSTAMP:20260420T012207
CREATED:20260102T171938Z
LAST-MODIFIED:20260102T171938Z
UID:10009532-1770132600-1770136200@news.csun.edu
SUMMARY:Study Abroad & Exchange Information Session
DESCRIPTION:The International and Exchange Student Center offers regular information sessions during the year to encourage students to learn more about the study abroad and exchange opportunities available at CSUN. Requests for accommodation services (e.g.\, sign language interpreters or transcribers) must be made at least five (5) business days in advance. Please contact the Study Abroad Advisors no less than five (5) business days prior to your desired session to request that accommodation services be provided. \n  \nhttps://www.csun.edu/international/study-abroad/information-sessions
URL:https://news.csun.edu/event/study-abroad-exchange-information-session-35/
LOCATION:Zoom
CATEGORIES:IESC,International and Exchange Student Center
ATTACH;FMTTYPE=image/jpeg:https://news.csun.edu/wp-content/uploads/2025/04/Study-Abroad-Exchange-Information-Session-3.jpg
END:VEVENT
END:VCALENDAR