BEGIN:VCALENDAR
VERSION:2.0
PRODID:-//CSUN News &amp; Events - ECPv6.11.2//NONSGML v1.0//EN
CALSCALE:GREGORIAN
METHOD:PUBLISH
X-ORIGINAL-URL:https://news.csun.edu
X-WR-CALDESC:Events for CSUN News &amp; Events
REFRESH-INTERVAL;VALUE=DURATION:PT1H
X-Robots-Tag:noindex
X-PUBLISHED-TTL:PT1H
BEGIN:VTIMEZONE
TZID:America/Los_Angeles
BEGIN:DAYLIGHT
TZOFFSETFROM:-0800
TZOFFSETTO:-0700
TZNAME:PDT
DTSTART:20260308T100000
END:DAYLIGHT
BEGIN:STANDARD
TZOFFSETFROM:-0700
TZOFFSETTO:-0800
TZNAME:PST
DTSTART:20261101T090000
END:STANDARD
END:VTIMEZONE
BEGIN:VEVENT
DTSTART;VALUE=DATE:20260126
DTEND;VALUE=DATE:20260207
DTSTAMP:20260420T111442
CREATED:20260115T222227Z
LAST-MODIFIED:20260127T182049Z
UID:10009750-1769385600-1770422399@news.csun.edu
SUMMARY:25% Off Personal Training Sale
DESCRIPTION:Need help achieving your personal fitness goals at an affordable cost? Get 25% off for personal training for a limited time! With our newly-structured training packages\, there are options for both students and non-students\, no matter your skill level or goals.   \nAfter purchasing your sessions at the SRC front desk\, a trainer will contact you within 5 business days. Get the encouragement and expertise you need to start the year off strong!   \n\n\n\n\nStudent\nNon-Student\n\n\nSessions\nBefore\nAfter\nBefore\nAfter\n\n\n2\n$62.50\n$46.88\n$130\n$97.50\n\n\n2 \n(Build-A-Workout)\n\n\n4\n$117.50\n$88.13\n$224.40\n$168.30\n\n\n8\n$227.50\n$170.63\n$473.20\n$354.90\n\n\n12\n$330\n$247.50\n$686.40\n$514.80\n\n\n\nDo you need interpretation for an event? If so\, please fill out the Interpreting Services Request Form at least seven business days prior to the event. 
URL:https://news.csun.edu/event/25-off-personal-training-sale/
LOCATION:Student Recreation Center\, University Student Union\, 18111 Nordhoff St.\, Northridge\, CA\, 91330-8449\, United States
CATEGORIES:Student Recreation Center,University Student Union
ATTACH;FMTTYPE=image/png:https://news.csun.edu/wp-content/uploads/2026/01/Calendar-SRCPersonalTrainingSale_SP26.png
ORGANIZER;CN="USU Student Recreation Center":MAILTO:src@csun.edu
GEO:34.2397767274;-118.525089862
X-APPLE-STRUCTURED-LOCATION;VALUE=URI;X-ADDRESS=Student Recreation Center University Student Union 18111 Nordhoff St. Northridge CA 91330-8449 United States;X-APPLE-RADIUS=500;X-TITLE=18111 Nordhoff St.:geo:-118.525089862,34.2397767274
END:VEVENT
BEGIN:VEVENT
DTSTART;VALUE=DATE:20260129
DTEND;VALUE=DATE:20260313
DTSTAMP:20260420T111442
CREATED:20260128T004120Z
LAST-MODIFIED:20260128T004402Z
UID:10010321-1769644800-1773359999@news.csun.edu
SUMMARY:A Stitch & Glitch in Time
DESCRIPTION:January 20 – March 12\, 2026\nReception: Thursday\, January 29 from 5:00 – 7:30pm\n \nA Stitch & Glitch in Time brings together thirteen Los Angeles-based artists who use textiles to explore technology\, fashion\, and collective histories. Los Angeles has a long history in textile production\, both for industrial use and artistic expression. The processes and materials utilized by these artists embody this long and complex history – highlighting how textiles can simultaneously be highly personal objects while revealing the larger economic and social circumstances they were created within. \n  \nExhibition Artists: Fafnir Adamites\, Ekta Aggarwal\, Diane Briones Williams\, Lavialle Campbell\, Mimi Haddon\, Lorenzo Hurtado Segovia\, Ahree Lee\, Aubrey Longley-Cook\, Kayla Mattes\, Minga Opazo\, Aneesa Shami Zizzo\, Irene Georgia Tsatsos\, and Jenny Yurshansky. \n  \nThis exhibition was curated by Holly Jerger\, CSUN Art Galleries Director. The exhibition is made possible through the generous support of the Mike Curb College of Arts\, Media\, and Communication and Louise Lewis. Additional support provided by the Instructionally Related Activities Committee and Arts Council for CSUN. \n  \nThis exhibition is part of Handwork 2026\, Craft in America’s nationwide semiquincentennial collaboration showcasing the importance of the handmade and celebrating the diversity of craft that defines America. \n  \nFree Admission
URL:https://news.csun.edu/event/a-stitch-glitch-in-time/
CATEGORIES:Art Galleries,Arts and Culture
END:VEVENT
BEGIN:VEVENT
DTSTART;VALUE=DATE:20260201
DTEND;VALUE=DATE:20260301
DTSTAMP:20260420T111442
CREATED:20260130T235847Z
LAST-MODIFIED:20260203T223148Z
UID:10010351-1769904000-1772323199@news.csun.edu
SUMMARY:Africana Studies Celebrates 100 Years of Black History Month
DESCRIPTION:Honoring Our Roots\, Strengthening Our Path\, and Shaping Our Future. \nThe theme invites the CSUN community to explore and celebrate the vast and dynamic history of the African Diaspora — from the brilliance of ancient kingship to the enduring legacy of Black excellence across centuries. It uncovers generations of resilience\, growth\, and evolution\, reminding us that our story is one of continual progress and transformation. By reflecting on the triumphs and struggles that have shaped our collective journey\, we strengthen our path towards equity\, unity\, and empowerment. Most importantly\, this theme centers the next generation of scholars and change-makers\, whose innovation\, leadership\, and commitment will carry the community into a new era of achievement and possibility. \nSchedule of Events\nMemorial of Dr. Darryle Gatlin\nMonday\, February 9\, 2026\n4:00PM-6:00PM\nLocation: University Student Union | Grand Salon \nBlack Student Athlete Exchange\nMonday\, February 16\, 2026\n6:00PM-7:30PM\nLocation: University Student Union | Grand Salon \nBodies\, Power\, and Protest: Sport as a Site of Black Resistance\nWednesday\, February 18\, 2026\n10:00AM-11:15AM\nLocation: Whitsett Room | Sierra Hall 451 \nAfrican American Cotillions — History\, Culture\, and Tradition\nThursday\, February 19\, 2026\n11:00AM-1:00PM\nLocation: TBA | Please check back \nBlack Poetry Workshop: Annual Celebration of Black Poets and Poetry featuring PoetRoni Girl of LA\nThursday\, February 19\, 2026\n5:00PM-7:00PM\nLocation: TBA | Please check back \nThe Black Trilogy: Shaping the Future Through Sound\nWednesday\, February 25\, 2026\n1:00PM-2:15PM\nLocation: University Student Union | Flintridge Room \nDistinguished Visitor Speaker Program\, 100 Years Black History Month Celebration Lecture with Professor Stephen A. Small\nWednesday\, February 26\, 2026\n11:30AM-12:45AM\nLocation: University Student Union | Grand Salon \nAfrican American Empowerment Summit\nSaturday\, February 28\, 2026\n9:00AM-2:00PM\nLocation: University Student Union | Grand Salon \n\nRequesting Accommodations\nThe CSUN Department of Africana Studies and the College of Social and Behavioral Sciences are committed to making our events accessible to everyone. If you require an accommodation or service to fully participate\, please let us know. Note: If you require an ASL interpreter\, please contact us at least 5 working days prior to the event. To request accommodations\, please contact Dr. Cedric Hackett at cedric.hackett@csun.edu.
URL:https://news.csun.edu/event/africana-studies-celebrates-100-years-of-black-history-month/
CATEGORIES:Alumni,Black History,College of Social and Behavioral Sciences
ATTACH;FMTTYPE=image/png:https://news.csun.edu/wp-content/uploads/2026/01/BHM_2026_Featrue.png
ORGANIZER;CN="Department of Africana Studies":MAILTO:cedric.hackett@csun.edu
END:VEVENT
BEGIN:VEVENT
DTSTART;VALUE=DATE:20260201
DTEND;VALUE=DATE:20260208
DTSTAMP:20260420T111442
CREATED:20250410T161806Z
LAST-MODIFIED:20250417T171545Z
UID:10006198-1769904000-1770508799@news.csun.edu
SUMMARY:Mandatory Virtual Spring Graduate Program Orientation for incoming students.
DESCRIPTION:The Virtual Spanish M.A. Orientation welcomes new students and provides essential information on academic requirements\, course selection and graduation pathways. Topics include degree mapping and requirements\, financial and career opportunities\, scholarships such as the Barbara Ann Ward Scholarship and the scholarship that gives the opportunity to teach a Spanish class for a year (TAship). Students will also learn about mentoring programs\, service-learning opportunities\, and resources to support their academic journey. This session is key to ensuring your successful start to the program. We are looking forward to meeting you! \n*Orientations happen during the first two weeks of the semester. For specific orientation date\, contact Graduate Program Director.
URL:https://news.csun.edu/event/mandatory-virtual-spring-graduate-program-orientation-for-incoming-students/
END:VEVENT
BEGIN:VEVENT
DTSTART;TZID=America/Los_Angeles:20260202T110000
DTEND;TZID=America/Los_Angeles:20260202T120000
DTSTAMP:20260420T111442
CREATED:20251218T215204Z
LAST-MODIFIED:20251218T215204Z
UID:10009467-1770030000-1770033600@news.csun.edu
SUMMARY:Curricular Practical Training (CPT) Webinar
DESCRIPTION:The CPT is an authorization to engage in required paid internship\, cooperative education\, or practicum related to your F-1 student’s field of study. The CPT webinar is designed to give you an overview of the CPT application process and to answer any questions regarding CPT. Approximately: 1 hour via Zoom
URL:https://news.csun.edu/event/curricular-practical-training-cpt-webinar-9/
LOCATION:Zoom
CATEGORIES:IESC,International and Exchange Student Center
ATTACH;FMTTYPE=image/jpeg:https://news.csun.edu/wp-content/uploads/2025/04/QA-Post-Completion-Optional-Practical-Training-POST-OPT-Webinar-5.jpg
END:VEVENT
BEGIN:VEVENT
DTSTART;TZID=America/Los_Angeles:20260202T120000
DTEND;TZID=America/Los_Angeles:20260202T130000
DTSTAMP:20260420T111442
CREATED:20260102T175107Z
LAST-MODIFIED:20260103T003342Z
UID:10009560-1770033600-1770037200@news.csun.edu
SUMMARY:Study Abroad & Exchange Application Drop-In Session
DESCRIPTION:Join the CSUN Study Abroad Team for virtual drop-in application hours to receive individualized support with your study abroad or exchange application. Students may drop in at any time during the session to ask questions and get application tips. No registration is required\, and students do not need to attend the full session. \nGood for students who: \n\nHave already started an application\nHave specific questions about application requirements\nWant feedback or clarification on application components\nNeed help troubleshooting issues within their application
URL:https://news.csun.edu/event/study-abroad-exchange-application-drop-in-session-3/
LOCATION:Zoom
CATEGORIES:IESC,International and Exchange Student Center
END:VEVENT
BEGIN:VEVENT
DTSTART;TZID=America/Los_Angeles:20260202T120000
DTEND;TZID=America/Los_Angeles:20260202T130000
DTSTAMP:20260420T111442
CREATED:20260120T195242Z
LAST-MODIFIED:20260120T195242Z
UID:10010168-1770033600-1770037200@news.csun.edu
SUMMARY:Lunch and Write Series-Spring 2026
DESCRIPTION:Interested in writing accountability this fall? Join the Office of Faculty Programs and Initiatives Mondays this semester from noon to 1 p.m. For questions email Dr. Anne Choi at achoi@csun.edu. \nRegister Here
URL:https://news.csun.edu/event/lunch-and-write-series-spring-2026/2026-02-02/
CATEGORIES:Events,Faculty Development,Faculty Programs and Initiatives
ATTACH;FMTTYPE=image/png:https://news.csun.edu/wp-content/uploads/2025/08/lunch-and-write-series-e1768938192474.png
END:VEVENT
BEGIN:VEVENT
DTSTART;TZID=America/Los_Angeles:20260202T130000
DTEND;TZID=America/Los_Angeles:20260202T140000
DTSTAMP:20260420T111442
CREATED:20260126T203407Z
LAST-MODIFIED:20260126T203407Z
UID:10010275-1770037200-1770040800@news.csun.edu
SUMMARY:Google NotebookLM for Teaching and Learning
DESCRIPTION:Hosted by Dr. Deone Zell\n\nGoogle Notebook LM turns your course readings\, lecture notes\, and research articles into interactive\, AI-powered workspaces. In this workshop\, you’ll see how to generate instant summaries\, outlines\, flashcards\, and even mind maps to support student learning and streamline lecture prep. We’ll also explore advanced features like audio/video overviews and collaborative notebooks\, showing how they can enrich both independent study and faculty research. Faculty will leave with practical strategies for creating dynamic teaching materials and accelerating scholarly workflows.\n \nJoin the event on Zoom\n*If you require an ASL interpreter\, please contact your department. \n**For Zoom captions – please pre-enable automated captions/transcript on the Zoom website (not the app) before the meeting begins as it cannot be turned on while the meeting is running. If you have any questions\, contact ftc@csun.edu
URL:https://news.csun.edu/event/google-notebooklm-for-teaching-and-learning/
LOCATION:Online via Zoom; Connection details provided upon registration
CATEGORIES:Artificial Intelligence (AI),Information Technology,Learning Technologies
ATTACH;FMTTYPE=image/jpeg:https://news.csun.edu/wp-content/uploads/2026/01/notebook-lm-class.jpg
END:VEVENT
BEGIN:VEVENT
DTSTART;TZID=America/Los_Angeles:20260202T133000
DTEND;TZID=America/Los_Angeles:20260202T140000
DTSTAMP:20260420T111442
CREATED:20260203T214015Z
LAST-MODIFIED:20260210T205015Z
UID:10010394-1770039000-1770040800@news.csun.edu
SUMMARY:Facial Flow Ritual: A Lymphatic Brush Experience
DESCRIPTION:Relax\, detox and promote radiant skin with the Oasis Wellness Center! Discover the many benefits lymphatic brushes have on both physical and mental health. Join us for a hands-on experience\, where you’ll learn how to use this essential wellness tool.   \n  \nRegister today on The USU Rec & Wellness Portal or the MINDBODY app and help cultivate a better and brighter you!   \n  \nDo you need interpretation for an event? If so\, please fill out the Interpreting Services Request Form at least seven business days prior to the event. 
URL:https://news.csun.edu/event/facial-flow-ritual-a-lymphatic-brush-experience/2026-02-02/
LOCATION:Vitality Room\, Oasis Wellness Center\, University Student Union\, 18111 Nordhoff St.\, Northridge\, CA\, 91330-8272\, United States
CATEGORIES:Oasis Wellness Center,University Student Union
ATTACH;FMTTYPE=image/png:https://news.csun.edu/wp-content/uploads/2026/02/Calendar_LymphaticBrushClasses_SP26.png
ORGANIZER;CN="USU Oasis Wellness Center":MAILTO:oasis@csun.edu
GEO:34.2395263017;-118.525712744
X-APPLE-STRUCTURED-LOCATION;VALUE=URI;X-ADDRESS=Vitality Room Oasis Wellness Center University Student Union 18111 Nordhoff St. Northridge CA 91330-8272 United States;X-APPLE-RADIUS=500;X-TITLE=18111 Nordhoff St.:geo:-118.525712744,34.2395263017
END:VEVENT
BEGIN:VEVENT
DTSTART;TZID=America/Los_Angeles:20260202T143000
DTEND;TZID=America/Los_Angeles:20260202T153000
DTSTAMP:20260420T111442
CREATED:20260121T182915Z
LAST-MODIFIED:20260121T182915Z
UID:10010208-1770042600-1770046200@news.csun.edu
SUMMARY:AI Basics
DESCRIPTION:Hosted by Dr. Joyce Marie Brusasco   \n\nLearn the basics of what AI is and how it works in everyday tasks. This workshop introduces simple AI concepts\, shows what AI can and cannot do\, and offers easy strategies for using AI safely and responsibly. No prior experience needed—perfect for anyone who wants to understand AI and how it can support teaching and learning.  \nJoin the event on Zoom\nYou will need to be signed into Zoom with your csun.edu or my.csun.edu email address to join. \nIf you are signed into the Zoom app with a different account\, log out of Zoom\, and select the Single Sign-On (SSO) button near the bottom. If Zoom asks for a domain enter csun\, and you will be guided to CSUN’s SSO page.
URL:https://news.csun.edu/event/ai-basics/
LOCATION:Online via Zoom; Connection details provided upon registration
CATEGORIES:Artificial Intelligence (AI),Information Technology
ATTACH;FMTTYPE=image/png:https://news.csun.edu/wp-content/uploads/2025/08/AI-Train-the-Trainer-600x400px.png
END:VEVENT
BEGIN:VEVENT
DTSTART;TZID=America/Los_Angeles:20260202T150000
DTEND;TZID=America/Los_Angeles:20260202T160000
DTSTAMP:20260420T111442
CREATED:20260202T145535Z
LAST-MODIFIED:20260206T215558Z
UID:10010352-1770044400-1770048000@news.csun.edu
SUMMARY:Workshop 1:  Research Pathways for Transfer Students
DESCRIPTION:Join us for a series of workshops on research\, career prep\, and grad school guidance\, designed to help STEM transfer students thrive\, and open to all CSUN students! \nBadge workshops will be offered in-person (Monday’s\, Wednesday’s) and via Zoom (Friday)  in Spring 2026\n\n\nMonday’s: 3-4PM –  Bookstein Hall (BB) #1240\nWednesday’s: 12-1PM – Bookstein Hall (BB) #1238\n\n\nMon\, Feb 2\, 3–4 PM \nThu\, Feb 5\, 4–5 PM [Zoom] \nWed\, Feb 11\, 12–1 PM [In-person] \nIf you choose the virtual option\, you will be provided with instructions on how to access the Zoom workshop after you have RSVP-ed for a workshop. \nRSVP: https://tinyurl.com/n8rbr23z
URL:https://news.csun.edu/event/workshop-1-research-pathways-for-transfer-students/2026-02-02/
LOCATION:Bookstein Hall (BB) #1240\, 18111 Nordhoff St\, Northridge\, 91330\, United States
CATEGORIES:HERE Center
ATTACH;FMTTYPE=image/png:https://news.csun.edu/wp-content/uploads/2026/02/Spring-2026-Badge-Project-Workshop-Flyer-scaled.png
END:VEVENT
END:VCALENDAR