BEGIN:VCALENDAR
VERSION:2.0
PRODID:-//CSUN News &amp; Events - ECPv6.11.2//NONSGML v1.0//EN
CALSCALE:GREGORIAN
METHOD:PUBLISH
X-ORIGINAL-URL:https://news.csun.edu
X-WR-CALDESC:Events for CSUN News &amp; Events
REFRESH-INTERVAL;VALUE=DURATION:PT1H
X-Robots-Tag:noindex
X-PUBLISHED-TTL:PT1H
BEGIN:VTIMEZONE
TZID:America/Los_Angeles
BEGIN:DAYLIGHT
TZOFFSETFROM:-0800
TZOFFSETTO:-0700
TZNAME:PDT
DTSTART:20260308T100000
END:DAYLIGHT
BEGIN:STANDARD
TZOFFSETFROM:-0700
TZOFFSETTO:-0800
TZNAME:PST
DTSTART:20261101T090000
END:STANDARD
END:VTIMEZONE
BEGIN:VEVENT
DTSTART;TZID=America/Los_Angeles:20260125T000100
DTEND;TZID=America/Los_Angeles:20260125T235900
DTSTAMP:20260420T145805
CREATED:20250909T214047Z
LAST-MODIFIED:20250909T214611Z
UID:10008376-1769299260-1769385540@news.csun.edu
SUMMARY:Last Day to Wait-List\, Spring 2026
DESCRIPTION:The last day to wait list for closed classes in the spring 2026 semester is Sunday\, Jan. 25\, 2026. You can wait-list up until 11:59 p.m. using the online\, self-service registration system. \n\nLearn more with the how-to guide Wait-List for Closed Classes.\n\nWait listing for closed classes ends when the first week of classes ends\, usually on a Sunday or Monday holiday if any. \nStarting tomorrow\, Jan. 26\, 2026\, permission numbers are required to add ALL classes. \n\nLearn more at Registration FAQ: Permission Numbers.
URL:https://news.csun.edu/event/last-day-to-wait-list-spring-2026/
CATEGORIES:Spring Term,Student Academic Calendar
ATTACH;FMTTYPE=image/png:https://news.csun.edu/wp-content/uploads/2024/08/sac-icon-spring.png
END:VEVENT
END:VCALENDAR