BEGIN:VCALENDAR
VERSION:2.0
PRODID:-//CSUN News &amp; Events - ECPv6.11.2//NONSGML v1.0//EN
CALSCALE:GREGORIAN
METHOD:PUBLISH
X-ORIGINAL-URL:https://news.csun.edu
X-WR-CALDESC:Events for CSUN News &amp; Events
REFRESH-INTERVAL;VALUE=DURATION:PT1H
X-Robots-Tag:noindex
X-PUBLISHED-TTL:PT1H
BEGIN:VTIMEZONE
TZID:America/Los_Angeles
BEGIN:DAYLIGHT
TZOFFSETFROM:-0800
TZOFFSETTO:-0700
TZNAME:PDT
DTSTART:20240310T100000
END:DAYLIGHT
BEGIN:STANDARD
TZOFFSETFROM:-0700
TZOFFSETTO:-0800
TZNAME:PST
DTSTART:20241103T090000
END:STANDARD
BEGIN:DAYLIGHT
TZOFFSETFROM:-0800
TZOFFSETTO:-0700
TZNAME:PDT
DTSTART:20250309T100000
END:DAYLIGHT
BEGIN:STANDARD
TZOFFSETFROM:-0700
TZOFFSETTO:-0800
TZNAME:PST
DTSTART:20251102T090000
END:STANDARD
END:VTIMEZONE
BEGIN:VEVENT
DTSTART;TZID=America/Los_Angeles:20241111T080000
DTEND;TZID=America/Los_Angeles:20251031T170000
DTSTAMP:20260422T195834
CREATED:20241107T232801Z
LAST-MODIFIED:20241107T232834Z
UID:10004614-1731312000-1761930000@news.csun.edu
SUMMARY:Annual Survey of Graduating Seniors
DESCRIPTION:The Annual Survey of Graduating Seniors gathers information on students’ immediate plans for paid employment and continuing education after graduation. Individuals graduating in the upcoming Fall\, Spring\, and Summer terms are encouraged share information about their upcoming plans.
URL:https://news.csun.edu/event/annual-survey-of-graduating-seniors/
CATEGORIES:CSUN Survey Calendar
END:VEVENT
BEGIN:VEVENT
DTSTART;TZID=America/Los_Angeles:20250331T080000
DTEND;TZID=America/Los_Angeles:20250530T170000
DTSTAMP:20260422T195834
CREATED:20250421T205347Z
LAST-MODIFIED:20250421T205347Z
UID:10006301-1743408000-1748624400@news.csun.edu
SUMMARY:First Destination Survey
DESCRIPTION:
URL:https://news.csun.edu/event/first-destination-survey/
CATEGORIES:CSUN Survey Calendar
END:VEVENT
BEGIN:VEVENT
DTSTART;VALUE=DATE:20250401
DTEND;VALUE=DATE:20250501
DTSTAMP:20260422T195834
CREATED:20250402T205059Z
LAST-MODIFIED:20250416T230118Z
UID:10006176-1743465600-1746057599@news.csun.edu
SUMMARY:What Were you Wearing? Exhibit
DESCRIPTION:What were you wearing? aims to highlight the experiences of sexual assault/violence survivors through display. \nJoin us in honoring their stories and raising awareness about sexual assault. \nwrrc@csun.edu for questions.
URL:https://news.csun.edu/event/what-are-you-wearing-exhibit/
LOCATION:CSUN USU – Northridge Center\, 9346 E University Dr\,\, Northridge\, CA\, 91325\, United States
CATEGORIES:Student Life
ATTACH;FMTTYPE=image/png:https://news.csun.edu/wp-content/uploads/2025/04/What-Were-You-Wearing-Exhibit-Flyer-1.png
END:VEVENT
BEGIN:VEVENT
DTSTART;VALUE=DATE:20250401
DTEND;VALUE=DATE:20250423
DTSTAMP:20260422T195834
CREATED:20250218T203123Z
LAST-MODIFIED:20250218T203436Z
UID:10005360-1743465600-1745366399@news.csun.edu
SUMMARY:CSUN 2025 Annual Juried Student Art Exhibition
DESCRIPTION:
URL:https://news.csun.edu/event/csun-2025-annual-juried-student-art-exhibition/
LOCATION:Art Galleries\, 18111 Nordhoff St\, Northridge\, CA\, 91330\, United States
CATEGORIES:Art Galleries,Arts and Culture
ORGANIZER;CN="CSUN Art Galleries":MAILTO:artgalleriesinfo@csun.edu
GEO:34.2433662542;-118.529093363
X-APPLE-STRUCTURED-LOCATION;VALUE=URI;X-ADDRESS=Art Galleries 18111 Nordhoff St Northridge CA 91330 United States;X-APPLE-RADIUS=500;X-TITLE=18111 Nordhoff St:geo:-118.529093363,34.2433662542
END:VEVENT
BEGIN:VEVENT
DTSTART;TZID=America/Los_Angeles:20250401T080000
DTEND;TZID=America/Los_Angeles:20250422T160000
DTSTAMP:20260422T195834
CREATED:20250417T011509Z
LAST-MODIFIED:20250417T011509Z
UID:10006288-1743494400-1745337600@news.csun.edu
SUMMARY:CSUN 2025 Annual Juried Student Art Exhibition
DESCRIPTION:Reception: April 5\, from 12:00-3:00pm\n  \nThe Annual Juried Student Art Exhibition\, juried by Meghan Gordon of OCHI Gallery\, features a selection of work by students studying at California State University\, Northridge. \n  \nExhibition artists: Graciela Arancibia\, Alexis Redman\, Madison Mae\, Mia Tan\, Daniella Nouri\, Corissa Leeds\, Rees Cawley\, Olivia Krey\, Catleya Sherbow\, Lilliana Rice\, Lucy Kindseth\, Cruz Revilla\, Kristen Wallace-LaGue\, Nina Maar\, Serenity Lam\, Janisse Garcia\, Kat Tagorda\, Sabrina Davalos\, David Mesquita\, Maryam Rohani Vakili\, Rachelle Salazar\, mich Hatfield\, Joley Smith\, Iijah Jeruh Gaskins-Gelle\, Alondra Hernandez\, Jessica Till\, Estefania Farias\, Ang Valdez\, Leon Cho\, Bec Kane\, Chris Bolsmann\, Olivia Croslin\, Jose Galvan Martinez\, Ariana Jordan\, Allegra Franco\, Kelsey Bernet\, Rae Alsop\, Shawn Dettenmaier\, Anna Minasyan\, Ruben Montañez\, Melissa Termini\, Veronica Gutierrez\, Amanuel Getachew\, Jess Rock\, Harmony Azul Vasquez\, Andy Ortega\, Clover Kustak\, Josh Jimenez\, A. Albo\, Jose Castanon\, Michael Costa\, Jazmin Sedano\, Gabriela Herrera\, Anisa Talukder\, Steven Frias\, Quincy Unseth\, Megan George. \n  \nThe exhibition is funded in part by the Mike Curb College of Arts\, Media\, and Communication; the College of Humanities; Diversity & Equity Innovation Grant Program; Instructionally Related Activities Committee; and Arts Council for CSUN. \n 
URL:https://news.csun.edu/event/csun-2025-annual-juried-student-art-exhibition-2/
ORGANIZER;CN="CSUN Art Galleries":MAILTO:artgalleriesinfo@csun.edu
END:VEVENT
BEGIN:VEVENT
DTSTART;TZID=America/Los_Angeles:20250409T080000
DTEND;TZID=America/Los_Angeles:20250430T170000
DTSTAMP:20260422T195834
CREATED:20250421T204950Z
LAST-MODIFIED:20250421T204950Z
UID:10006297-1744185600-1746032400@news.csun.edu
SUMMARY:AI Student Survey
DESCRIPTION:
URL:https://news.csun.edu/event/ai-student-survey/
CATEGORIES:CSUN Survey Calendar
END:VEVENT
BEGIN:VEVENT
DTSTART;TZID=America/Los_Angeles:20250409T080000
DTEND;TZID=America/Los_Angeles:20250430T170000
DTSTAMP:20260422T195834
CREATED:20250421T205037Z
LAST-MODIFIED:20250421T205037Z
UID:10006298-1744185600-1746032400@news.csun.edu
SUMMARY:IT Student Survey
DESCRIPTION:
URL:https://news.csun.edu/event/it-student-survey/
CATEGORIES:CSUN Survey Calendar
END:VEVENT
BEGIN:VEVENT
DTSTART;TZID=America/Los_Angeles:20250410T100000
DTEND;TZID=America/Los_Angeles:20250410T111500
DTSTAMP:20260422T195834
CREATED:20241125T214658Z
LAST-MODIFIED:20241125T214658Z
UID:10004680-1744279200-1744283700@news.csun.edu
SUMMARY:Social Media Accessibility
DESCRIPTION:Description: Social media has revolutionized the way we communicate over the past decade and has established a dominant presence online. As technology continues to advance social media becomes a more crucial communication tool for our everyday activities. People can connect with their family members on Facebook or reach out to hiring recruiters on LinkedIn. \nRecommended Attendees: Staff\, Faculty\, Executives\, Financial Personnel\, Marketing Specialist\, Business Analyst\, Admin Support\, Graphic Designers\, and Instructional Support. \nLearning Objectives: The more people use social media to connect\, the bigger of importance accessibility in social media becomes. \nLocation: Zoom session. UDC will send Zoom link information one week and one day before the training begins. \nNote: The accessibility training is for CSUN faculty\, staff\, student employees\, and alumni. \nRegister for Social Media Accessibility
URL:https://news.csun.edu/event/social-media-accessibility-3/
CATEGORIES:Accessibility & Universal Design,Human Resources,Information Technology,Workshops
ATTACH;FMTTYPE=image/png:https://news.csun.edu/wp-content/uploads/2024/05/udc_social_media_training.png
ORGANIZER;CN="Universal Design Center":MAILTO:udc@csun.edu
END:VEVENT
BEGIN:VEVENT
DTSTART;TZID=America/Los_Angeles:20250410T110000
DTEND;TZID=America/Los_Angeles:20250410T124500
DTSTAMP:20260422T195834
CREATED:20250313T214032Z
LAST-MODIFIED:20250408T155603Z
UID:10005583-1744282800-1744289100@news.csun.edu
SUMMARY:In Iraq and in the World Today\, to Defend Gender is to Refuse Violence\, a talk with Dr. Zahra Ali from Rutgers University.
DESCRIPTION:From the US\, Europe\, to the Middle East\, the anti-gender backlash is a global phenomenon. Dr. Zahra Ali centers Iraq and Iraqi feminists’ struggles to make sense of some of the main challenges of our times. She explores the ways in which feminist struggles in Iraq can inspire the global fight for justice and equality\, and expand our political and theoretical imagination. \nZoom Access: Meeting ID 835 5387 6725\, Password 830308.
URL:https://news.csun.edu/event/in-iraq-and-in-the-world-today-to-defend-gender-is-to-refuse-violence-a-talk-with-dr-zahra-ali-from-rutgers-university/
LOCATION:Zoom
ATTACH;FMTTYPE=image/jpeg:https://news.csun.edu/wp-content/uploads/2025/03/Ali.jpg
END:VEVENT
BEGIN:VEVENT
DTSTART;TZID=America/Los_Angeles:20250410T110000
DTEND;TZID=America/Los_Angeles:20250410T140000
DTSTAMP:20260422T195834
CREATED:20250305T160218Z
LAST-MODIFIED:20250305T173247Z
UID:10005531-1744282800-1744293600@news.csun.edu
SUMMARY:Corporate Connect: The City of Simi Valley
DESCRIPTION:**This event is open to current students and recent graduates from the following degree programs: Master of Public Administration\, Urban Planning\, Criminal Justice\, Accounting/Finance\, Engineering\, and Chemistry/Biology. \nRegister to participate in our Corporate Connect at The City of Simi Valley  and get the chance to connect with CSUN Alumni working there\, gain industry insights and build your Matador network. You will also get the opportunity to hear about job opportunities and meet their talent recruitment team. To learn more about their job openings visit Careers | City of Simi Valley\, CA. \nDate: Thursday\, April 10 \nTime: 11:00 a.m. – 2:00 p.m. \nLocation: \nCity of Simi Valley\n2929 Tapo Canyon Road\nSimi Valley California \nCost: Free \nTransportation: We are providing transportation for all student participants. \nIf you are an alum and would like transportation\, please email Cristina Bernstein. \nImportant: Space is limited\, and seats are on a first come\, first served basis. Register ASAP! \n*You will receive an email from Alumni Relations detailing next steps after you register. \nThe CSUN Alumni Association’s Corporate Connect Program is a unique event serving as a catalyst for students and graduates to explore new and different places to work. This program opens a range of possibilities for working closely with potential employers\, considering different industries\, hearing alumni career stories and observing real-world corporate developments. \nDuring a corporate visit\, a small group of up to 20 participants will spend a day at a Fortune 500 company. The visit will include a site tour (or walk-through)\, an overview of the organization/industry\, an alumni career story and a sponsored Q&A lunch. \nWe encourage those who require visual\, auditory or mobility assistance to attend. Please contact alumnievents@csun.edu with any requests by April 1. Please include “Corporate Connect: Simi Valley” in the subject line. \nREGISTER FOR THIS EVENT\n 
URL:https://news.csun.edu/event/cityofsimivalley/
LOCATION:The City of Simi Valley\, 2929 Tapo Canyon Road\, Simi Valley\, CA\, United States
CATEGORIES:Alumni,Alumni Career & Professional,Career Center
ATTACH;FMTTYPE=image/png:https://news.csun.edu/wp-content/uploads/2024/09/Corporate-Connect-Email-Banner.png
END:VEVENT
BEGIN:VEVENT
DTSTART;TZID=America/Los_Angeles:20250410T110000
DTEND;TZID=America/Los_Angeles:20250410T150000
DTSTAMP:20260422T195834
CREATED:20250401T212433Z
LAST-MODIFIED:20250401T221147Z
UID:10005588-1744282800-1744297200@news.csun.edu
SUMMARY:Snaps and Caps
DESCRIPTION:Decorate your cap and get your picture snapped at Snaps and Caps! In collaboration with the Pride Center\, the DREAM Center is providing crafting materials to customize your cap for graduation throughout the event\, and on Thursday\, April 10\, you can take a photo in your cap between 11 a.m. and noon. Don’t miss out on this opportunity to commemorate your achievement!  \nRSVP for this event \nDo you need interpretation for this event? If so\, please fill out the Interpreting Services Request Form seven days prior to the event. 
URL:https://news.csun.edu/event/snaps-and-caps-3/
LOCATION:Pride Center\, University Student Union\, 18111 Nordhoff St.\, Northridge\, CA\, 91330-8272\, United States
CATEGORIES:DREAM Center,Pride Center,University Student Union,Veterans Resource Center
ATTACH;FMTTYPE=image/png:https://news.csun.edu/wp-content/uploads/2025/04/Calendar-1.png
ORGANIZER;CN="USU DREAM Center":MAILTO:dreamcenter@csun.edu
GEO:34.2400672654;-118.526959911
X-APPLE-STRUCTURED-LOCATION;VALUE=URI;X-ADDRESS=Pride Center University Student Union 18111 Nordhoff St. Northridge CA 91330-8272 United States;X-APPLE-RADIUS=500;X-TITLE=18111 Nordhoff St.:geo:-118.526959911,34.2400672654
END:VEVENT
BEGIN:VEVENT
DTSTART;TZID=America/Los_Angeles:20250410T120000
DTEND;TZID=America/Los_Angeles:20250410T130000
DTSTAMP:20260422T195834
CREATED:20241119T192022Z
LAST-MODIFIED:20241218T204154Z
UID:10004776-1744286400-1744290000@news.csun.edu
SUMMARY:Fundamentos del IEP:  Preparando y Empoderando a los Padres para el IEP de sus Hijos
DESCRIPTION:Preparando y Empoderando a los Padres para el IEP de sus Hijos\nEsta entrenamiento mensual ayudará a aprender información básica acerca del IEP\, al igual que estrategias más avanzadas sobre los pasos que puede tomar cuando está en desacuerdo con su IEP.  ¡Los padres participantes recibirán una copia digital GRATUITA para ayudarle a crear su portofolio del IEP en casa! \nPara obtener más información\, comuníquese con Fatima maria.castaneda@csun.edu \nPara registrarse por favor visita: https://csun.zoom.us/meeting/register/tZwsdOCuqz8sHtTfsDenf8cGJi_qCSIx4Nqw
URL:https://news.csun.edu/event/fundamentos-del-iep-preparando-y-empoderando-a-los-padres-para-el-iep-de-sus-hijos-3/2025-04-10/
LOCATION:Zoom
CATEGORIES:Family Focus Center-Workshops and Trainings,Family Focus Resource Center
ATTACH;FMTTYPE=image/png:https://news.csun.edu/wp-content/uploads/2024/11/Fundamentos-del-IEP-1000x533-1.png
END:VEVENT
BEGIN:VEVENT
DTSTART;TZID=America/Los_Angeles:20250410T120000
DTEND;TZID=America/Los_Angeles:20250410T133000
DTSTAMP:20260422T195834
CREATED:20250114T210212Z
LAST-MODIFIED:20260319T171359Z
UID:10005044-1744286400-1744291800@news.csun.edu
SUMMARY:Art Jam
DESCRIPTION:Mark Thursdays on your calendar because Art Jam is back! Experience a semester of cultural appreciation with unique live performances by local artists\, delicious food and relaxing activities. Be crafty with fun art DIYs that let your inner artist loose and get a chance to win prizes through giveaways. Take time for yourself and get creative with friends while celebrating cultural diversity!  \nDo you require interpreting services? Please submit an Interpreting Services Request Form at least seven business days prior to the event. 
URL:https://news.csun.edu/event/art-jam-3/2025-04-10/
LOCATION:Plaza del Sol\, University Student Union\, 18111 Nordhoff St.\, Northridge\, CA\, 91330-8272\, United States
CATEGORIES:University Student Union
ATTACH;FMTTYPE=image/png:https://news.csun.edu/wp-content/uploads/2025/01/Calendar-SP25-Art-Jam.png
ORGANIZER;CN="University Student Union":MAILTO:usuevents@csun.edu
GEO:34.2399035651;-118.526777824
X-APPLE-STRUCTURED-LOCATION;VALUE=URI;X-ADDRESS=Plaza del Sol University Student Union 18111 Nordhoff St. Northridge CA 91330-8272 United States;X-APPLE-RADIUS=500;X-TITLE=18111 Nordhoff St.:geo:-118.526777824,34.2399035651
END:VEVENT
BEGIN:VEVENT
DTSTART;TZID=America/Los_Angeles:20250410T120000
DTEND;TZID=America/Los_Angeles:20250410T133000
DTSTAMP:20260422T195834
CREATED:20250403T184146Z
LAST-MODIFIED:20250403T184146Z
UID:10006180-1744286400-1744291800@news.csun.edu
SUMMARY:Social Media for Faculty
DESCRIPTION:Social Media for Faculty
URL:https://news.csun.edu/event/social-media-for-faculty/
LOCATION:Zoom
CATEGORIES:Faculty Programs and Initiatives
END:VEVENT
BEGIN:VEVENT
DTSTART;TZID=America/Los_Angeles:20250410T130000
DTEND;TZID=America/Los_Angeles:20250410T143000
DTSTAMP:20260422T195834
CREATED:20250226T233229Z
LAST-MODIFIED:20250304T201431Z
UID:10005509-1744290000-1744295400@news.csun.edu
SUMMARY:UndocuAlly Training Tier Two
DESCRIPTION:Become a better ally to our undocumented and mixed-status community at Undocu-Ally Training. All faculty and staff are welcome to join this informational session on methods to best support undocumented Matadors and the DREAM Center’s resources. Don’t miss out on this valuable opportunity!  \nDo you need interpretation for this event? If so\, please fill out the Interpreting Services Request Form seven days prior to the event. 
URL:https://news.csun.edu/event/undocually-training-tier-two/
LOCATION:Flintridge Room\, East Conference Center\, University Student Union\, 18111 Nordhoff St.\, Northridge\, CA\, 91330-8272\, United States
CATEGORIES:DREAM Center,University Student Union
ATTACH;FMTTYPE=image/png:https://news.csun.edu/wp-content/uploads/2025/02/Cal-DC_UndocuAlly-041025.png
ORGANIZER;CN="USU DREAM Center":MAILTO:dreamcenter@csun.edu
GEO:34.2398884365;-118.525449213
X-APPLE-STRUCTURED-LOCATION;VALUE=URI;X-ADDRESS=Flintridge Room East Conference Center University Student Union 18111 Nordhoff St. Northridge CA 91330-8272 United States;X-APPLE-RADIUS=500;X-TITLE=18111 Nordhoff St.:geo:-118.525449213,34.2398884365
END:VEVENT
BEGIN:VEVENT
DTSTART;TZID=America/Los_Angeles:20250410T140000
DTEND;TZID=America/Los_Angeles:20250410T150000
DTSTAMP:20260422T195834
CREATED:20250113T181241Z
LAST-MODIFIED:20250327T180742Z
UID:10004995-1744293600-1744297200@news.csun.edu
SUMMARY:On-Campus Student Employment Week: FHTC Student Employee Alumni Panel
DESCRIPTION:As the third session of National Student Employment Week\, we partnered with From Here to Career to open up their Alumni Meet Up Series to all student employees on campus. \nAlumni Meet Ups serves as an opportunity for CSUN student employees to learn from alumni about how they have leveraged the skills they learned in their student jobs to their professional work post-graduation. \n  \nWe will be having four CSUN alumni speakers join us: \n\n(1) Kadi Aguilar\, MSW\, ACSW is a Clinical Social Worker who serves as a Mental Health Therapist for the Joe Torre Safe at Home Foundation.\n(2) Jorge Reyes Salinas serves as the Communications Director at Equality California.\n(3) TBD.\n(4) TBD.\n\nRegister Today! \n  \n\n\n\nTo request an accommodation please contact odette.fullum@csun.edu. Requests must be submitted 5 business days before the event.
URL:https://news.csun.edu/event/on-campus-student-employment-week-fhtc-student-employee-alumni-panel/
LOCATION:Zoom
CATEGORIES:Career Center,Career Development
ATTACH;FMTTYPE=image/png:https://news.csun.edu/wp-content/uploads/2024/12/Student_Emploment_Events.png
ORGANIZER;CN="Career Center":MAILTO:career.center@csun.edu
END:VEVENT
BEGIN:VEVENT
DTSTART;TZID=America/Los_Angeles:20250410T160000
DTEND;TZID=America/Los_Angeles:20250410T180000
DTSTAMP:20260422T195834
CREATED:20250124T180555Z
LAST-MODIFIED:20250203T180008Z
UID:10005169-1744300800-1744308000@news.csun.edu
SUMMARY:LGBTQIA2S+ Coffee Nights
DESCRIPTION:Join us for vibrant and inclusive evenings at the Pride Center’s community building events.   \nThe events are designed to empower and foster meaningful interactions between students\, faculty and staff. Celebrate intersectionality\, engage in discussions and strengthen bonds within our community.   \nEnjoy free coffee and tea at Coffee Nights\, open to LGBTQIA2S+ and ally communities.  \nNo RSVP needed\, just drop by the Pride Center and enjoy!  \nDo you need interpretation for this event? If so\, please fill out the Interpreting Services Request Form at least seven business days prior to the event. 
URL:https://news.csun.edu/event/lgbtqia2s-coffee-nights-2/2025-04-10/
LOCATION:Pride Center\, University Student Union\, 18111 Nordhoff St.\, Northridge\, CA\, 91330-8272\, United States
CATEGORIES:Pride Center,University Student Union
ATTACH;FMTTYPE=image/png:https://news.csun.edu/wp-content/uploads/2025/01/705320474-pc_recurringevents_calendar-lgbtq-cn_sp25.png
ORGANIZER;CN="USU Pride Center":MAILTO:pride@csun.edu
GEO:34.2400672654;-118.526959911
X-APPLE-STRUCTURED-LOCATION;VALUE=URI;X-ADDRESS=Pride Center University Student Union 18111 Nordhoff St. Northridge CA 91330-8272 United States;X-APPLE-RADIUS=500;X-TITLE=18111 Nordhoff St.:geo:-118.526959911,34.2400672654
END:VEVENT
BEGIN:VEVENT
DTSTART;TZID=America/Los_Angeles:20250410T170000
DTEND;TZID=America/Los_Angeles:20250410T210000
DTSTAMP:20260422T195834
CREATED:20250122T022111Z
LAST-MODIFIED:20250122T022111Z
UID:10005142-1744304400-1744318800@news.csun.edu
SUMMARY:Rocket League Tournament
DESCRIPTION:Calling all Rocket League enthusiasts to a live showdown! The USU Games Room is recruiting you and other competitive players to show off your skills. \n\n\nDo you need interpretation for this event? If so\, please fill out the Interpreting Services Request Form at least seven business days prior to the event. 
URL:https://news.csun.edu/event/rocket-league-tournament/
LOCATION:Games Room\, University Student Union\, 18111 Nordhoff St.\, Northridge\, CA\, 91330-8272\, United States
CATEGORIES:Student Recreation Center,University Student Union
ATTACH;FMTTYPE=image/png:https://news.csun.edu/wp-content/uploads/2024/09/657189043-gr_rocketleague_100424.png
ORGANIZER;CN="USU Student Recreation Center":MAILTO:src@csun.edu
GEO:34.2398927513;-118.525370529
X-APPLE-STRUCTURED-LOCATION;VALUE=URI;X-ADDRESS=Games Room University Student Union 18111 Nordhoff St. Northridge CA 91330-8272 United States;X-APPLE-RADIUS=500;X-TITLE=18111 Nordhoff St.:geo:-118.525370529,34.2398927513
END:VEVENT
BEGIN:VEVENT
DTSTART;TZID=America/Los_Angeles:20250410T180000
DTEND;TZID=America/Los_Angeles:20250410T190000
DTSTAMP:20260422T195834
CREATED:20250107T000719Z
LAST-MODIFIED:20250107T000719Z
UID:10004859-1744308000-1744311600@news.csun.edu
SUMMARY:P2E General Information Session
DESCRIPTION:Join us for an engaging Zoom Information Session to learn about Pathways to Excellence\, a free summer program designed to help incoming students transition to college with confidence. This session will provide all the details you need to know about this incredible opportunity\, including program benefits\, how it prepares students for academic and personal success\, and how to enroll. Families are welcome\, and we’ll answer all your questions! \nJoin the session on Zoom
URL:https://news.csun.edu/event/p2e-info-sessions/2025-04-10/
CATEGORIES:Pathways To Excellence
ATTACH;FMTTYPE=image/jpeg:https://news.csun.edu/wp-content/uploads/2024/03/p2e-banner2-1128px-by-356px-01.jpg
ORGANIZER;CN="Pathways to Excellence":MAILTO:p2e@csun.edu
LOCATION:https://news.csun.edu/event/p2e-info-sessions/2025-04-10/
END:VEVENT
END:VCALENDAR